Workbook
Name OLE_LINK1: filtry!$E$243

Sheet went-klim-wl
K1: Załącznik nr 2 do SWZ
D3: ……………………………………………….
D4: oznaczenie Wykonawcy
B5: FORMULARZ CENOWY
B7: Lp. | C7: znak | D7: Typ centrali | E7: Ilość | F7: Wydajność | G7: Producent | H7: Obiekt | I7: Lokalizacja | J7: Ilośc serwisów w roku | K7: Cena netto jednego serwisu jednego urządzenia | L7: Cena netto serwisu urządzeń uwzględniająć ilośc urządzeń i ilość serwisów w roku ( 4*9*10)
F8: m3/h
F9: kW
B11: 1 | C11: 2 | D11: 3 | E11: 4 | F11: 5 | G11: 6 | H11: 7 | I11: 8 | J11: 9 | K11: 10 | L11: 11
B13: 1 | C13: C | D13: Centrala wentylacyjna | E13: 1 | F13: 2655 | G13: Swegon | H13: Collegium Maius ul. Fredry 10 | I13: Poddasze | J13: 4 | L13: =K13*J13*E13 -> 0
B14: =B13+1 -> 2 | C14: C | D14: Centrala wentylacyjna | E14: 1 | F14: 2355 | G14: Swegon | H14: Collegium Maius ul. Fredry 10 | I14: Poddasze | J14: 4 | L14: =K14*J14*E14 -> 0
B15: =B14+1 -> 3 | C15: C | D15: Centrala wentylacyjna | E15: 1 | F15: 1715 | G15: Swegon | H15: Collegium Maius ul. Fredry 10 | I15: Poddasze | J15: 4 | L15: =K15*J15*E15 -> 0
B16: =B15+1 -> 4 | C16: C | D16: Centrala wentylacyjna | E16: 1 | F16: 6000 | G16: Rosenberg | H16: Collegium Maius ul. Fredry 10 | I16: Audytorium im. Śniadeckich | J16: 4 | L16: =K16*J16*E16 -> 0
B17: =B16+1 -> 5 | C17: C | D17: Centrala wentylacyjna | E17: 1 | F17: 8580 | G17: Rosenberg | H17: Collegium Maius ul. Fredry 10 | I17: Biblioteka | J17: 4 | L17: =K17*J17*E17 -> 0
B18: =B17+1 -> 6 | C18: C | D18: Centrala wentylacyjna | E18: 1 | F18: 3600 | G18: Rosenberg | H18: Collegium Maius ul. Fredry 10 | I18: Biblioteka | J18: 4 | L18: =K18*J18*E18 -> 0
B19: =B18+1 -> 7 | C19: C | D19: Centrala wentylacyjna | E19: 1 | F19: 1800 | G19: Rosenberg | H19: Collegium Maius ul. Fredry 10 | I19: Biblioteka | J19: 4 | L19: =K19*J19*E19 -> 0
B20: =B19+1 -> 8 | C20: C | D20: Centrala wentylacyjna | E20: 1 | F20: 900 | G20: Rosenberg | H20: Collegium Maius ul. Fredry 10 | I20: Biblioteka | J20: 4 | L20: =K20*J20*E20 -> 0
B21: =B20+1 -> 9 | C21: C | D21: Centrala wentylacyjna | E21: 1 | F21: 900 | G21: Rosenberg | H21: Collegium Maius ul. Fredry 10 | I21: Biblioteka | J21: 4 | L21: =K21*J21*E21 -> 0
B22: =B21+1 -> 10 | C22: C | D22: Centrala wentylacyjna (nagrzewnica) | E22: 1 | F22: 6000 | G22: Swegon | H22: Collegium Maius ul. Fredry 10 | I22: Piwnica nr. 013 | J22: 4 | L22: =K22*J22*E22 -> 0
B23: =B22+1 -> 11 | C23: WL | D23: Agregat chłodniczy | E23: 1 | F23: 5000 | G23: Climaveneta | H23: Collegium Maius ul. Fredry 10 | I23: nr. 401 | J23: 2 | L23: =K23*J23*E23 -> 0
B24: =B23+1 -> 12 | C24: K | D24: Klimatyzator | E24: 1 | F24: 13600-17100 | G24: Fujitsu | H24: Collegium Maius ul. Fredry 10 | I24: Biblioteka nr. 074 Serwer | J24: 4 | L24: =K24*J24*E24 -> 0
B25: =B24+1 -> 13 | C25: K | D25: Klimatyzator | E25: 1 | F25: 4,15MPa | G25: Mitsubishi | H25: Collegium Maius ul. Fredry 10 | I25: nr. 419 | J25: 2 | L25: =K25*J25*E25 -> 0
B26: =B25+1 -> 14 | C26: K | D26: Klimatyzator | E26: 1 | F26: 4,3MPa | G26: MDV | H26: Collegium Maius ul. Fredry 10 | I26: nr. 422 | J26: 2 | L26: =K26*J26*E26 -> 0
B27: =B26+1 -> 15 | C27: K | D27: Klimatyzator | E27: 1 | F27: 4,3MPa | G27: MDV | H27: Collegium Maius ul. Fredry 10 | I27: nr. 423 | J27: 2 | L27: =K27*J27*E27 -> 0
B28: =B27+1 -> 16 | C28: K | D28: Klimatyzator | E28: 1 | G28: Fujitsu | H28: Collegium Maius ul. Fredry 10 | I28: Biblioteka nr.108 | J28: 2 | L28: =K28*J28*E28 -> 0
B29: =B28+1 -> 17 | C29: K | D29: Klimatyzator | E29: 1 | G29: Toshiba | H29: Collegium Maius ul. Fredry 10 | I29: nr. 012 Serwer | J29: 4 | L29: =K29*J29*E29 -> 0
B30: =B29+1 -> 18 | C30: K | D30: Kurtyna cieplna | E30: 1 | F30: 2500 | G30: Frico | H30: Collegium Maius ul. Fredry 10 | I30: Wejście Główne Fredry | J30: 2 | L30: =K30*J30*E30 -> 0
B31: =B30+1 -> 19 | C31: C | D31: Centrala wentylacyjna | E31: 1 | G31: Rosenberg | H31: Collegium Maius ul. Fredry 10 | I31: 011 | J31: 4 | L31: =K31*J31*E31 -> 0
B32: =B31+1 -> 20 | C32: K | D32: Jednostka zewnętrzna | E32: 4 | G32: AUX | H32: Collegium Martineum ul. Święty Marcin 78 | J32: 2 | L32: =K32*J32*E32 -> 0
B33: =B32+1 -> 21 | C33: K | D33: Jednostka wewnętrzna pom. 236, 237, 303, serwerownia (parter) | E33: 4 | G33: AUX | H33: Collegium Martineum ul. Święty Marcin 78 | I33: 236,237,303, serwerownia | J33: 4 | L33: =K33*J33*E33 -> 0
B34: =B33+1 -> 22 | C34: K | D34: Jednostka zewnętrzna S18EQNSK | E34: 1 | G34: LG | H34: Collegium Martineum ul. Święty Marcin 78 | J34: 2 | L34: =K34*J34*E34 -> 0
B35: =B34+1 -> 23 | C35: K | D35: Jednostka wewnętrzna S18EQUL2 | E35: 1 | G35: LG | H35: Collegium Martineum ul. Święty Marcin 78 | I35: kwestura (III piętro) | J35: 2 | L35: =K35*J35*E35 -> 0
B36: =B35+1 -> 24 | C36: K | D36: Jednostka zewnętrzna | E36: 1 | G36: LG | H36: Collegium Iuridicum ul. Święty Marcin 90 | J36: 2 | L36: =K36*J36*E36 -> 0
B37: =B36+1 -> 25 | C37: K | D37: Jednostka wewnętrzna S18AW (ASNW1865DH2), | E37: 1 | G37: LG | H37: Collegium Iuridicum ul. Święty Marcin 90 | I37: serwerownia | J37: 4 | L37: =K37*J37*E37 -> 0
B38: =B37+1 -> 26 | C38: K | D38: Klimatyzator typu SPLIT | E38: 2 | F38: 7,92 kW | G38: ELEKTRA | H38: Collegium Iuridicum ul. Św. Marcin 90 | J38: 2 | L38: =K38*J38*E38 -> 0
B39: =B38+1 -> 27 | C39: C | D39: Aparat grzewczo-wentylacyjny z odzyskiem ciepła typ VVX-330 | E39: 1 | F39: 3300 | G39: PM-LUFT LEWACO | H39: Collegium Iuridicum ul. Św. Marcin 90 | I39: Zakład Kryminalistyki Wydział Prawa | J39: 4 | L39: =K39*J39*E39 -> 0
B40: =B39+1 -> 28 | C40: K | D40: Klimatyzator LS-T 246 ABL | E40: 1 | F40: 7,0kW | G40: LG | H40: Collegium Iuridicum ul. Św. Marcin 90 | I40: Zakład Kryminalistyki Wydział Prawa | J40: 2 | L40: =K40*J40*E40 -> 0
B41: =B40+1 -> 29 | C41: K | D41: Klimatyzator LS-T 186 ABL | E41: 1 | F41: 5,3kW | G41: LG | H41: Collegium Iuridicum ul. Św. Marcin 90 | I41: Zakład Kryminalistyki Wydział Prawa | J41: 2 | L41: =K41*J41*E41 -> 0
B42: =B41+1 -> 30 | C42: C | D42: Centrala wentylacyjna BC 020 | E42: 1 | F42: 19.000 | G42: PM-LUFT | H42: Collegium Minus ul. Henryka Wieniawskiego 1 | I42: Coll. Minus Aula | J42: 4 | L42: =K42*J42*E42 -> 0
B43: =B42+1 -> 31 | C43: WL | D43: Agregat chłodniczy BCLC SWE 2.702 | E43: 1 | F43: 364,0 kW | G43: MULTICLIMA | H43: Collegium Minus ul. Henryka Wieniawskiego 1 | I43: Coll. Minus Aula | J43: 2 | L43: =K43*J43*E43 -> 0
B44: =B43+1 -> 32 | C44: K | D44: Skraplacz GVD 080D/2x7-S(D) | E44: 1 | F44: 477,8 kW | G44: GUNTNER | H44: Collegium Minus ul. Henryka Wieniawskiego 1 | I44: Coll. Minus Aula | J44: 2 | L44: =K44*J44*E44 -> 0
...

Sheet filtry
C5: Lp. | D5: BUDYNEK | E5: CENTRALA | F5: TYP | H5: ROZMIAR mm | I5: ILOŚĆ szt.
C7: 1 | D7: WCZT budynek A | E7: A/N1masz.1 | F7: F5 | H7: 287X592X600 | I7: 1
F8: F5 | H8: 592X592X600 | I8: 1
E9: A/W1masz.1 | F9: G4 | H9: 287X592X360 | I9: 1
F10: G4 | H10: 592X592X360 | I10: 1
E11: A/N2masz.1 | F11: F5 | H11: 592X592X600 | I11: 2
F12: F5 | H12: 592X287X600 | I12: 2
E13: A/W2masz.1 | F13: G4 | H13: 592X592X360 | I13: 2
F14: G4 | H14: 592X287X360 | I14: 2
E15: A/Wo2masz.1 | F15: G4 | H15: 592X592X360 | I15: 1
E16: A/N3masz.4 | F16: F5 | H16: 592X592X600 | I16: 4
F17: F5 | H17: 287X592X600 | I17: 2
E18: A/W3masz.4 | F18: G4 | H18: 592X592X360 | I18: 4
F19: G4 | H19: 287X592X360 | I19: 2
E20: A/Wo3masz.4 | F20: G4 | H20: 592X592X360 | I20: 1
E21: A/N4masz.3 | F21: F5 | H21: 592X592X360 | I21: 4
F22: F5 | H22: 287X592X360 | I22: 2
F23: F7 | H23: 592X592X600 | I23: 4
F24: F7 | H24: 287X592X600 | I24: 2
E25: A/W4masz.3 | F25: G4 | H25: 592X592X360 | I25: 4
F26: G4 | H26: 287X592X360 | I26: 2
E27: A/Wo4masz.3 | F27: G4 | H27: 592X592X360 | I27: 1
E28: A/N5 | F28: F5 | H28: 592X592X360 | I28: 1
E29: A/N6masz.2 | F29: F5 | H29: 592X592X360 | I29: 4
F30: F9 | H30: 592X592X600 | I30: 4
E31: A/W6masz.2 | F31: G4 | H31: 592X592X360 | I31: 4
E32: A/N7masz.2 | F32: F5 | H32: 592X592X360 | I32: 1
F33: F9 | H33: 592X592X600 | I33: 1
E34: A/W7masz.2 | F34: G4 | H34: 592X592X360 | I34: 1
E35: A/N8 antresola | F35: F5 | H35: 592X592X360 | I35: 4
F36: F5 | H36: 287X592X360 | I36: 2
F37: F9 | H37: 592X592X600 | I37: 4
F38: F9 | H38: 287X592X600 | I38: 2
E39: A/W8 antresola | F39: H13 | H39: 592X592X292 | I39: 4
E40: A/N9 antresola | F40: F5 | H40: 592X592X360 | I40: 1
F41: F5 | H41: 592X287X360 | I41: 2
F42: F5 | H42: 287X287X360 | I42: 1
F43: F9 | H43: 592X592X600 | I43: 1
F44: F9 | H44: 592X287X600 | I44: 2
F45: F9 | H45: 287X287X600 | I45: 1
...

Sheet zestawy chydroforowe
B6: l.p. | C6: Typ zestawu | D6: Ilość | E6: Producent | F6: Lokalizacja | G6: zastosowanie | H6: Ilośc serwisów w roku | I6: Cena netto jednego serwisu jednego urządzenia | J6: Vat (%) | K6: Cena netto serwisu urządzeń uwzględniająć ilośc urządzeń i ilość serwisów w roku (8*9*10)
B7: 1 | C7: 2 | D7: 3 | E7: 5 | F7: 6 | G7: 7 | H7: 8 | I7: 9 | J7: 10 | K7: 11
B8: 1 | C8: 3 MOT MG 80B2 19FT 100-D1 | D8: 1 | E8: Grundfos | F8: Wydział Chemii ul. Uniwersytetu Poznańskiego 8 | G8: instalacja pożarowa | H8: 2
B9: 2 | C9: CRE 10-03 G-A-A HQQE | D9: 1 | E9: Grundfos | F9: Wydział Chemii ul. Uniwersytetu Poznańskiego 8 | G9: sieć | H9: 2
B10: 3 | C10: zestaw 5 pomp Wilo GMBH 44263 | D10: 1 | E10: Wilo | F10: Dom Akademicki ul. Nieszawska 3 | G10: sieć | H10: 2
B11: 4 | C11: MPC 50/60 HZ, 3 pompy CRE | D11: 1 | E11: Grundfos | F11: Dom sudencki Hanka Al. Niepodległości 24 | G11: sieć | H11: 2
B12: 5 | C12: zestaw popmpwy Hydro | D12: 1 | E12: Hydro | F12: Collegium Minus ul. Wieniawskiego 1 | G12: instalacja pożarowa | H12: 2
B13: 6 | C13: Zh-CR/M 3.8.50/2,2KW | D13: 1 | E13: Instalcompact | F13: Dom Studenta Jowita ul. Zwierzyniecka 7 | G13: sieć | H13: 2
B14: 7 | C14: Zestaw hydroforowy COR 3MVIE 803-26/VRP | D14: 1 | E14: Wilo | F14: Wydział prawa i Administracji al.. Niepodległosci 53 | G14: sieć | H14: 2
B15: 8 | C15: CU 352 | D15: 1 | E15: Grundfos | F15: Collegium Historicum ul. Uniwersytetu Poznańskiego 7 | G15: sieć | H15: 2
B16: 9 | C16: Zestaw hydroforowy 2065/ZH/2003 pompy ICV10-50 | D16: 1 | E16: Instalcompact | F16: Dom Studenta Zbyszko ul. Piątkowska 80 | G16: sieć | H16: 2

Sheet Arkusz1
G8: Lp | H8: ='zestawy chydroforowe'!C6 -> Typ zestawu | I8: ='zestawy chydroforowe'!D6 -> Ilość | J8: ='zestawy chydroforowe'!E6 -> Producent | K8: ='zestawy chydroforowe'!F6 -> Lokalizacja
G9: ='zestawy chydroforowe'!B8 -> 1 | H9: ='zestawy chydroforowe'!C8 -> 3 MOT MG 80B2 19FT 100-D1 | I9: ='zestawy chydroforowe'!D8 -> 1 | J9: ='zestawy chydroforowe'!E8 -> Grundfos | K9: ='zestawy chydroforowe'!F8 -> Wydział Chemii ul. Uniwersytetu Poznańskiego 8
G10: ='zestawy chydroforowe'!B9 -> 2 | H10: ='zestawy chydroforowe'!C9 -> CRE 10-03 G-A-A HQQE | I10: ='zestawy chydroforowe'!D9 -> 1 | J10: ='zestawy chydroforowe'!E9 -> Grundfos | K10: ='zestawy chydroforowe'!F9 -> Wydział Chemii ul. Uniwersytetu Poznańskiego 8
G11: ='zestawy chydroforowe'!B10 -> 3 | H11: ='zestawy chydroforowe'!C10 -> zestaw 5 pomp Wilo GMBH 44263 | I11: ='zestawy chydroforowe'!D10 -> 1 | J11: ='zestawy chydroforowe'!E10 -> Wilo | K11: ='zestawy chydroforowe'!F10 -> Dom Akademicki ul. Nieszawska 3
G12: ='zestawy chydroforowe'!B12 -> 5 | H12: ='zestawy chydroforowe'!C12 -> zestaw popmpwy Hydro | I12: ='zestawy chydroforowe'!D12 -> 1 | J12: ='zestawy chydroforowe'!E12 -> Hydro | K12: ='zestawy chydroforowe'!F12 -> Collegium Minus ul. Wieniawskiego 1
G13: ='zestawy chydroforowe'!B13 -> 6 | H13: ='zestawy chydroforowe'!C13 -> Zh-CR/M 3.8.50/2,2KW | I13: ='zestawy chydroforowe'!D13 -> 1 | J13: ='zestawy chydroforowe'!E13 -> Instalcompact | K13: ='zestawy chydroforowe'!F13 -> Dom Studenta Jowita ul. Zwierzyniecka 7
G14: ='zestawy chydroforowe'!B14 -> 7 | H14: ='zestawy chydroforowe'!C14 -> Zestaw hydroforowy COR 3MVIE 803-26/VRP | I14: ='zestawy chydroforowe'!D14 -> 1 | J14: ='zestawy chydroforowe'!E14 -> Wilo | K14: ='zestawy chydroforowe'!F14 -> Wydział prawa i Administracji al.. Niepodległosci 53
G15: ='zestawy chydroforowe'!B15 -> 8 | H15: ='zestawy chydroforowe'!C15 -> CU 352 | I15: ='zestawy chydroforowe'!D15 -> 1 | J15: ='zestawy chydroforowe'!E15 -> Grundfos | K15: ='zestawy chydroforowe'!F15 -> Collegium Historicum ul. Uniwersytetu Poznańskiego 7
G16: ='zestawy chydroforowe'!B16 -> 9 | H16: ='zestawy chydroforowe'!C16 -> Zestaw hydroforowy 2065/ZH/2003 pompy ICV10-50 | I16: ='zestawy chydroforowe'!D16 -> 1 | J16: ='zestawy chydroforowe'!E16 -> Instalcompact | K16: ='zestawy chydroforowe'!F16 -> Dom Studenta Zbyszko ul. Piątkowska 80

Sheet stacje uzdatniania wody
C5: l.p. | D5: Typ zestawu | E5: Ilość | F5: Wydajność m3/h | G5: Producent | H5: Lokalizacja | I5: zastosowanie | J5: Ilośc serwisów w roku | K5: Cena netto jednego serwisu jednego urządzenia | L5: Vat | M5: Cena netto serwisu urządzeń uwzględniająć ilośc urządzeń i ilość serwisów w roku (8*9*10)
