Workbook
Name OLE_LINK1: filtry!$E$243

Sheet went-klim-wl
K1: Załącznik nr 2 do SWZ
D3: ……………………………………………….
D4: oznaczenie Wykonawcy
B5: FORMULARZ CENOWY
B7: Lp. | C7: znak | D7: Typ centrali | E7: Ilość | F7: Wydajność | G7: Producent | H7: Obiekt | I7: Lokalizacja | J7: Ilośc serwisów w roku | K7: Cena netto jednego serwisu jednego urządzenia | L7: Cena netto serwisu urządzeń uwzględniająć ilośc urządzeń i ilość serwisów w roku ( 4*9*10)
F8: m3/h
F9: kW
B11: 1 | C11: 2 | D11: 3 | E11: 4 | F11: 5 | G11: 6 | H11: 7 | I11: 8 | J11: 9 | K11: 10 | L11: 11
B13: 1 | C13: C | D13: Centrala wentylacyjna | E13: 1 | F13: 2655 | G13: Swegon | H13: Collegium Maius ul. Fredry 10 | I13: Poddasze | J13: 4 | L13: =K13*J13*E13 -> 0
B14: =B13+1 -> 2 | C14: C | D14: Centrala wentylacyjna | E14: 1 | F14: 2355 | G14: Swegon | H14: Collegium Maius ul. Fredry 10 | I14: Poddasze | J14: 4 | L14: =K14*J14*E14 -> 0
B15: =B14+1 -> 3 | C15: C | D15: Centrala wentylacyjna | E15: 1 | F15: 1715 | G15: Swegon | H15: Collegium Maius ul. Fredry 10 | I15: Poddasze | J15: 4 | L15: =K15*J15*E15 -> 0
B16: =B15+1 -> 4 | C16: C | D16: Centrala wentylacyjna | E16: 1 | F16: 6000 | G16: Rosenberg | H16: Collegium Maius ul. Fredry 10 | I16: Audytorium im. Śniadeckich | J16: 4 | L16: =K16*J16*E16 -> 0
B17: =B16+1 -> 5 | C17: C | D17: Centrala wentylacyjna | E17: 1 | F17: 8580 | G17: Rosenberg | H17: Collegium Maius ul. Fredry 10 | I17: Biblioteka | J17: 4 | L17: =K17*J17*E17 -> 0
B18: =B17+1 -> 6 | C18: C | D18: Centrala wentylacyjna | E18: 1 | F18: 3600 | G18: Rosenberg | H18: Collegium Maius ul. Fredry 10 | I18: Biblioteka | J18: 4 | L18: =K18*J18*E18 -> 0
B19: =B18+1 -> 7 | C19: C | D19: Centrala wentylacyjna | E19: 1 | F19: 1800 | G19: Rosenberg | H19: Collegium Maius ul. Fredry 10 | I19: Biblioteka | J19: 4 | L19: =K19*J19*E19 -> 0
B20: =B19+1 -> 8 | C20: C | D20: Centrala wentylacyjna | E20: 1 | F20: 900 | G20: Rosenberg | H20: Collegium Maius ul. Fredry 10 | I20: Biblioteka | J20: 4 | L20: =K20*J20*E20 -> 0
B21: =B20+1 -> 9 | C21: C | D21: Centrala wentylacyjna | E21: 1 | F21: 900 | G21: Rosenberg | H21: Collegium Maius ul. Fredry 10 | I21: Biblioteka | J21: 4 | L21: =K21*J21*E21 -> 0
B22: =B21+1 -> 10 | C22: C | D22: Centrala wentylacyjna (nagrzewnica) | E22: 1 | F22: 6000 | G22: Swegon | H22: Collegium Maius ul. Fredry 10 | I22: Piwnica nr. 013 | J22: 4 | L22: =K22*J22*E22 -> 0
B23: =B22+1 -> 11 | C23: WL | D23: Agregat chłodniczy | E23: 1 | F23: 5000 | G23: Climaveneta | H23: Collegium Maius ul. Fredry 10 | I23: nr. 401 | J23: 2 | L23: =K23*J23*E23 -> 0
B24: =B23+1 -> 12 | C24: K | D24: Klimatyzator | E24: 1 | F24: 13600-17100 | G24: Fujitsu | H24: Collegium Maius ul. Fredry 10 | I24: Biblioteka nr. 074 Serwer | J24: 4 | L24: =K24*J24*E24 -> 0
B25: =B24+1 -> 13 | C25: K | D25: Klimatyzator | E25: 1 | F25: 4,15MPa | G25: Mitsubishi | H25: Collegium Maius ul. Fredry 10 | I25: nr. 419 | J25: 2 | L25: =K25*J25*E25 -> 0
B26: =B25+1 -> 14 | C26: K | D26: Klimatyzator | E26: 1 | F26: 4,3MPa | G26: MDV | H26: Collegium Maius ul. Fredry 10 | I26: nr. 422 | J26: 2 | L26: =K26*J26*E26 -> 0
B27: =B26+1 -> 15 | C27: K | D27: Klimatyzator | E27: 1 | F27: 4,3MPa | G27: MDV | H27: Collegium Maius ul. Fredry 10 | I27: nr. 423 | J27: 2 | L27: =K27*J27*E27 -> 0
B28: =B27+1 -> 16 | C28: K | D28: Klimatyzator | E28: 1 | G28: Fujitsu | H28: Collegium Maius ul. Fredry 10 | I28: Biblioteka nr.108 | J28: 2 | L28: =K28*J28*E28 -> 0
B29: =B28+1 -> 17 | C29: K | D29: Klimatyzator | E29: 1 | G29: Toshiba | H29: Collegium Maius ul. Fredry 10 | I29: nr. 012 Serwer | J29: 4 | L29: =K29*J29*E29 -> 0
B30: =B29+1 -> 18 | C30: K | D30: Kurtyna cieplna | E30: 1 | F30: 2500 | G30: Frico | H30: Collegium Maius ul. Fredry 10 | I30: Wejście Główne Fredry | J30: 2 | L30: =K30*J30*E30 -> 0
B31: =B30+1 -> 19 | C31: C | D31: Centrala wentylacyjna | E31: 1 | G31: Rosenberg | H31: Collegium Maius ul. Fredry 10 | I31: 011 | J31: 4 | L31: =K31*J31*E31 -> 0
B32: =B31+1 -> 20 | C32: K | D32: Jednostka zewnętrzna | E32: 4 | G32: AUX | H32: Collegium Martineum ul. Święty Marcin 78 | J32: 2 | L32: =K32*J32*E32 -> 0
B33: =B32+1 -> 21 | C33: K | D33: Jednostka wewnętrzna pom. 236, 237, 303, serwerownia (parter) | E33: 4 | G33: AUX | H33: Collegium Martineum ul. Święty Marcin 78 | I33: 236,237,303, serwerownia | J33: 4 | L33: =K33*J33*E33 -> 0
B34: =B33+1 -> 22 | C34: K | D34: Jednostka zewnętrzna S18EQNSK | E34: 1 | G34: LG | H34: Collegium Martineum ul. Święty Marcin 78 | J34: 2 | L34: =K34*J34*E34 -> 0
B35: =B34+1 -> 23 | C35: K | D35: Jednostka wewnętrzna S18EQUL2 | E35: 1 | G35: LG | H35: Collegium Martineum ul. Święty Marcin 78 | I35: kwestura (III piętro) | J35: 2 | L35: =K35*J35*E35 -> 0
B36: =B35+1 -> 24 | C36: K | D36: Jednostka zewnętrzna | E36: 1 | G36: LG | H36: Collegium Iuridicum ul. Święty Marcin 90 | J36: 2 | L36: =K36*J36*E36 -> 0
B37: =B36+1 -> 25 | C37: K | D37: Jednostka wewnętrzna S18AW (ASNW1865DH2), | E37: 1 | G37: LG | H37: Collegium Iuridicum ul. Święty Marcin 90 | I37: serwerownia | J37: 4 | L37: =K37*J37*E37 -> 0
B38: =B37+1 -> 26 | C38: K | D38: Klimatyzator typu SPLIT | E38: 2 | F38: 7,92 kW | G38: ELEKTRA | H38: Collegium Iuridicum ul. Św. Marcin 90 | J38: 2 | L38: =K38*J38*E38 -> 0
B39: =B38+1 -> 27 | C39: C | D39: Aparat grzewczo-wentylacyjny z odzyskiem ciepła typ VVX-330 | E39: 1 | F39: 3300 | G39: PM-LUFT LEWACO | H39: Collegium Iuridicum ul. Św. Marcin 90 | I39: Zakład Kryminalistyki Wydział Prawa | J39: 4 | L39: =K39*J39*E39 -> 0
B40: =B39+1 -> 28 | C40: K | D40: Klimatyzator LS-T 246 ABL | E40: 1 | F40: 7,0kW | G40: LG | H40: Collegium Iuridicum ul. Św. Marcin 90 | I40: Zakład Kryminalistyki Wydział Prawa | J40: 2 | L40: =K40*J40*E40 -> 0
B41: =B40+1 -> 29 | C41: K | D41: Klimatyzator LS-T 186 ABL | E41: 1 | F41: 5,3kW | G41: LG | H41: Collegium Iuridicum ul. Św. Marcin 90 | I41: Zakład Kryminalistyki Wydział Prawa | J41: 2 | L41: =K41*J41*E41 -> 0
B42: =B41+1 -> 30 | C42: C | D42: Centrala wentylacyjna BC 020 | E42: 1 | F42: 19.000 | G42: PM-LUFT | H42: Collegium Minus ul. Henryka Wieniawskiego 1 | I42: Coll. Minus Aula | J42: 4 | L42: =K42*J42*E42 -> 0
B43: =B42+1 -> 31 | C43: WL | D43: Agregat chłodniczy BCLC SWE 2.702 | E43: 1 | F43: 364,0 kW | G43: MULTICLIMA | H43: Collegium Minus ul. Henryka Wieniawskiego 1 | I43: Coll. Minus Aula | J43: 2 | L43: =K43*J43*E43 -> 0
B44: =B43+1 -> 32 | C44: K | D44: Skraplacz GVD 080D/2x7-S(D) | E44: 1 | F44: 477,8 kW | G44: GUNTNER | H44: Collegium Minus ul. Henryka Wieniawskiego 1 | I44: Coll. Minus Aula | J44: 2 | L44: =K44*J44*E44 -> 0
B45: =B44+1 -> 33 | C45: K | D45: Klimatyzator AS H 24AIM PT | E45: 1 | F45: 6,0kW | G45: SINCIAIR | H45: Collegium Minus ul. Henryka Wieniawskiego 1 | I45: Sterownia przyziemie pom. 70 | J45: 4 | L45: =K45*J45*E45 -> 0
B46: =B45+1 -> 34 | C46: C | D46: Centrala wentylacyjna | E46: 1 | F46: 20000/18000 | G46: Swegon | H46: Collegium Minus ul. Henryka Wieniawskiego 1 | I46: Coll. Minus Aula | J46: 4 | L46: =K46*J46*E46 -> 0
B47: =B46+1 -> 35 | C47: C | D47: Centrala wentylacyjna | E47: 1 | F47: 20000/18000 | G47: Swegon | H47: Collegium Minus ul. Henryka Wieniawskiego 1 | I47: Coll. Minus Aula | J47: 4 | L47: =K47*J47*E47 -> 0
B48: =B47+1 -> 36 | C48: C | D48: Centrala wentylacyjna | E48: 1 | F48: 11000/10000 | G48: Swegon | H48: Collegium Minus ul. Henryka Wieniawskiego 1 | I48: Coll. Minus Aula | J48: 4 | L48: =K48*J48*E48 -> 0
B49: =B48+1 -> 37 | C49: C | D49: Nawilżacz parowy | E49: 1 | F49: 50 kg/h | G49: Swegon | H49: Collegium Minus ul. Henryka Wieniawskiego 1 | I49: Coll. Minus Aula | J49: 2 | L49: =K49*J49*E49 -> 0
B50: =B49+1 -> 38 | C50: C | D50: Centrala wentylacyjna 08 SD08 Gold | E50: 1 | F50: 15000 | G50: Swegon | H50: Collegium Minus ul. Henryka Wieniawskiego 1 | I50: Coll.Minus Sala XVII | J50: 4 | L50: =K50*J50*E50 -> 0
B51: =B50+1 -> 39 | C51: C | D51: Centrala wentylacyjna 12 LX12D Gold | E51: 1 | G51: Swegon | H51: Collegium Minus ul. Henryka Wieniawskiego 1 | I51: 1 piętro prorektorzy | J51: 4 | L51: =K51*J51*E51 -> 0
B52: =B51+1 -> 40 | C52: C | D52: Centrala wentylacyjna | E52: 1 | G52: Swegon | H52: Collegium Minus ul. Henryka Wieniawskiego 1 | J52: 4 | L52: =K52*J52*E52 -> 0
B53: =B52+1 -> 41 | C53: C | D53: Centrala wentylacyjna CV-A2-L | E53: 1 | F53: 4.000 | G53: VTS Clima | H53: Collegium Minus ul. Henryka Wieniawskiego 1 | J53: 4 | L53: =K53*J53*E53 -> 0
B54: =B53+1 -> 42 | C54: WL | D54: Agregat freonowy LE1.01 | E54: 1 | G54: AIR Blue Alfa | H54: Collegium Minus ul. Henryka Wieniawskiego 1 | J54: 2 | L54: =K54*J54*E54 -> 0
B55: =B54+1 -> 43 | C55: K | D55: Klimakonwektot 2 - rurowy | E55: 9 | G55: Denco Happel | H55: Collegium Minus ul. Henryka Wieniawskiego 1 | I55: II piętro | J55: 2 | L55: =K55*J55*E55 -> 0
B56: =B55+1 -> 44 | C56: K | D56: Klimakonwektot 2 - rurowy | E56: 14 | G56: Denco Happel | H56: Collegium Minus ul. Henryka Wieniawskiego 1 | I56: III piętro | J56: 2 | L56: =K56*J56*E56 -> 0
B57: =B56+1 -> 45 | C57: C | D57: Centrala wentylacyjna CPV-1L20/4//PEO-F7/HW2/CEO.1/V | E57: 1 | G57: VTS | H57: Willa Wieniawskiego ul. Henryka Wieniawskiego 3 | J57: 4 | L57: =K57*J57*E57 -> 0
B58: =B57+1 -> 46 | C58: K | D58: Klimatyzator TOSHIBA N25043 | E58: 1 | F58: 3,5kW | G58: TOSHIBA | H58: Collegium Novum Al.. Niepodległości 4 | I58: p. 104B | J58: 2 | L58: =K58*J58*E58 -> 0
B59: =B58+1 -> 47 | C59: WL | D59: Agregat wody lodowej | E59: 1 | F59: 163,4kW | G59: CIAT | H59: Collegium Novum Al.. Niepodległości 4 | I59: Dach biblioteka | J59: 2 | L59: =K59*J59*E59 -> 0
B60: =B59+1 -> 48 | C60: C | D60: Centrala wentylacyjna nawiewno-wywiewna | E60: 1 | F60: 14560/13000 | G60: ROSENBERG | H60: Collegium Novum Al.. Niepodległości 4 | I60: Piwnica biblioteka | J60: 4 | L60: =K60*J60*E60 -> 0
B61: =B60+1 -> 49 | C61: C | D61: Centrala nawiewna | E61: 1 | F61: 4500 | G61: ROSENBERG | H61: Collegium Novum Al.. Niepodległości 4 | I61: Piwnica biblioteka | J61: 4 | L61: =K61*J61*E61 -> 0
B62: =B61+1 -> 50 | C62: C | D62: Centrala wywiewna | E62: 1 | F62: 4000 | G62: ROSENBERG | H62: Collegium Novum Al.. Niepodległości 4 | I62: Piwnica biblioteka | J62: 4 | L62: =K62*J62*E62 -> 0
B63: =B62+1 -> 51 | C63: K | D63: klimakonwektor | E63: 4 | F63: 3,18kW | G63: CIAT HFPR MODEL SFGB COD 120-40-5V/5 | H63: Collegium Novum Al.. Niepodległości 4 | I63: Parter biblioteka | J63: 2 | L63: =K63*J63*E63 -> 0
B64: =B63+1 -> 52 | C64: K | D64: klimakonwektor | E64: 7 | F64: 2,95kW | G64: CIAT CLA | H64: Collegium Novum Al.. Niepodległości 4 | I64: Parter biblioteka | J64: 2 | L64: =K64*J64*E64 -> 0
B65: =B64+1 -> 53 | C65: K | D65: klimakonwektor | E65: 10 | F65: 3,18kW | G65: CIAT HFPR | H65: Collegium Novum Al.. Niepodległości 4 | I65: I piętro biblioteka | J65: 2 | L65: =K65*J65*E65 -> 0
B66: =B65+1 -> 54 | C66: K | D66: klimakonwektor | E66: 2 | F66: 2,95kW | G66: CIAT CLA | H66: Collegium Novum Al.. Niepodległości 4 | I66: I piętro biblioteka | J66: 2 | L66: =K66*J66*E66 -> 0
B67: =B66+1 -> 55 | C67: K | D67: klimakonwektor | E67: 10 | F67: 3,18kW | G67: CIAT HFPR | H67: Collegium Novum Al.. Niepodległości 4 | I67: II piętro biblioteka | J67: 2 | L67: =K67*J67*E67 -> 0
B68: =B67+1 -> 56 | C68: K | D68: klimakonwektor | E68: 2 | F68: 2,95kW | G68: CIAT CLA | H68: Collegium Novum Al.. Niepodległości 4 | I68: II piętro biblioteka | J68: 2 | L68: =K68*J68*E68 -> 0
B69: =B68+1 -> 57 | C69: K | D69: Klimatyzator | E69: 2 | F69: 3,6kW | G69: LG SET COOL TOSHIBA Inverter | H69: Collegium Novum Al.. Niepodległości 4 | I69: Piwnica Serwerownia biblioteka | J69: 4 | L69: =K69*J69*E69 -> 0
B70: =B69+1 -> 58 | C70: K | D70: Klimatyzator | E70: 2 | F70: 3,6kW | G70: LG ART. COOL | H70: Collegium Novum Al.. Niepodległości 4 | I70: sala 601A | J70: 2 | L70: =K70*J70*E70 -> 0
B71: =B70+1 -> 59 | C71: K | D71: Klimatyzator | E71: 2 | F71: 3,6kW | G71: Fuji Electric | H71: Collegium Novum Al.. Niepodległości 4 | I71: sala 604A | J71: 2 | L71: =K71*J71*E71 -> 0
B72: =B71+1 -> 60 | C72: K | D72: Klimatyzator | E72: 2 | F72: 3,6kW | G72: BOSCH Climate 5000 | H72: Collegium Novum Al.. Niepodległości 4 | I72: sala 605A | J72: 2 | L72: =K72*J72*E72 -> 0
B73: =B72+1 -> 61 | C73: K | D73: Klimatyzator | E73: 1 | F73: 3,6kW | G73: GREE | H73: Collegium Novum Al.. Niepodległości 4 | I73: sekretariat IFG 403 | J73: 2 | L73: =K73*J73*E73 -> 0
B74: =B73+1 -> 62 | C74: K | D74: Klimatyzator | E74: 3 | F74: 2,3kW | G74: SAMSUNG | H74: Collegium Novum Al.. Niepodległości 4 | I74: BOW WNOS pok 316A | J74: 2 | L74: =K74*J74*E74 -> 0
... B76: =B75+1 -> 64 | C76: K | D76: Klimatyzator | E76: 1 | F76: 3,2kW | G76: Cooper & Hunter CH-S12FTXE-NG | H76: Collegium Novum Al.. Niepodległości 4 | I76: sala 403 A | J76: 2 | L76: =K76*J76*E76 -> 0
B77: =B76+1 -> 65 | C77: K | D77: Jednostka zewnętrzna | E77: 1 | G77: Samsung AJ068TXJ 3kg | H77: Collegium Novum Al.. Niepodległości 4 | I77: dach A | J77: 2 | L77: =K77*J77*E77 -> 0
B78: =B77+1 -> 66 | C78: K | D78: Jednostka zewnętrzna | E78: 1 | G78: LG C12AHU | H78: Collegium Novum Al.. Niepodległości 4 | I78: dach A | J78: 2 | L78: =K78*J78*E78 -> 0
B79: =B78+1 -> 67 | C79: K | D79: Jednostka zewnętrzna | E79: 1 | G79: Fuji Electric | H79: Collegium Novum Al.. Niepodległości 4 | I79: dach A | J79: 2 | L79: =K79*J79*E79 -> 0
B80: =B79+1 -> 68 | C80: K | D80: Jednostka zewnętrzna | E80: 1 | G80: Bosch | H80: Collegium Novum Al.. Niepodległości 4 | I80: dach A | J80: 2 | L80: =K80*J80*E80 -> 0
B81: =B80+1 -> 69 | C81: K | D81: Jednostka zewnętrzna | E81: 1 | G81: Cooper & Hunter CHML - U24RK3 | H81: Collegium Novum Al.. Niepodległości 4 | I81: dach A | J81: 2 | L81: =K81*J81*E81 -> 0
B82: =B81+1 -> 70 | C82: K | D82: Jednostka zewnętrzna | E82: 1 | G82: Toshiba Inverte RAV - SM 803At-E | H82: Collegium Novum Al.. Niepodległości 4 | I82: dach B | J82: 2 | L82: =K82*J82*E82 -> 0
B83: =B82+1 -> 71 | C83: K | D83: Jednostka zewnętrzna | E83: 1 | G83: Gree Inverter | H83: Collegium Novum Al.. Niepodległości 4 | I83: dach B | J83: 2 | L83: =K83*J83*E83 -> 0
B84: =B83+1 -> 72 | C84: K | D84: Klimatyzator GREE Multi Split Typ KF18x4GW/NA12 ( 4 wew + 1 zew ) | E84: 5 | F84: 4x1,8 kW, 450 m3/h | G84: GREE | H84: Biblioteka Uniwersytecka ul. Ratajczaka 38/40 | I84: Pracownia komputerowa | J84: 2 | L84: =K84*J84*E84 -> 0
B85: =B84+1 -> 73 | C85: K | D85: Klimatyzator GREE Multi Typ KFR 32x2GW/N4 12 (2 wew. + 1 zew. ) | E85: 3 | F85: 4,2kW, 500 m3/h | G85: GREE | H85: Biblioteka Uniwersytecka ul. Ratajczaka 38/40 | I85: Sala wykładowa nr 82 | J85: 2 | L85: =K85*J85*E85 -> 0
B86: =B85+1 -> 74 | C86: K | D86: Klimatyzator ASF-24A | E86: 1 | F86: 3300 W | G86: Sinclair | H86: Biblioteka Uniwersytecka ul. Ratajczaka 38/40 | I86: Sala wykładowa nr 62 | J86: 2 | L86: =K86*J86*E86 -> 0
B87: =B86+1 -> 75 | C87: K | D87: Klimatyzator przenosny | E87: 1 | G87: Zibro | H87: Biblioteka Uniwersytecka ul. Ratajczaka 38/40 | J87: 2 | L87: =K87*J87*E87 -> 0
B88: =B87+1 -> 76 | C88: K | D88: Klimatyzator przenosny | E88: 1 | G88: Sinclair | H88: Biblioteka Uniwersytecka ul. Ratajczaka 38/40 | J88: 2 | L88: =K88*J88*E88 -> 0
B89: =B88+1 -> 77 | C89: K | D89: Klimatyzator typuUU24W (1 wew + 1 zew ) | E89: 2 | F89: 7,8 kW | G89: LG | H89: Biblioteka Uniwersytecka ul. Ratajczaka 38/40 | I89: Serwerownnia | J89: 4 | L89: =K89*J89*E89 -> 0
B90: =B89+1 -> 78 | C90: K | D90: Klimatyzator typu GWH12KF-K3DNA5G/I ( 1 wew + 1 zew ) | E90: 2 | F90: 680m3/h | G90: GREE | H90: Biblioteka Uniwersytecka ul. Ratajczaka 38/40 | I90: Serwerownnia | J90: 4 | L90: =K90*J90*E90 -> 0
B91: =B90+1 -> 79 | C91: K | D91: Klimatyzaror typu ASF-24AIA (1 wew + 1 zew ) | E91: 2 | F91: 125W, 1200 m3/h | G91: Sinclair | H91: Biblioteka Uniwersytecka ul. Ratajczaka 38/40 | I91: Czytelnia zbiorów specjalnych | J91: 2 | L91: =K91*J91*E91 -> 0
B92: =B91+1 -> 80 | C92: K | D92: Klimatyzator Sinclair ASC xxBI | E92: 2 | F92: 13,4 kW | G92: Sinclair | H92: Biblioteka Uniwersytecka ul. Ratajczaka 38/40 | I92: Magazyn zbiorów specjalnych | J92: 2 | L92: =K92*J92*E92 -> 0
B93: =B92+1 -> 81 | C93: K | D93: Klimatyzator Sinclair ASC xxBI | E93: 2 | F93: 13,4 kW | G93: Sinclair | H93: Biblioteka Uniwersytecka ul. Ratajczaka 38/40 | I93: Magazyn zbiorów specjalnych | J93: 2 | L93: =K93*J93*E93 -> 0
B94: =B93+1 -> 82 | C94: C | D94: Centrala wentylacyjna wywiewna typ CV-P 1-P/WS-256A/7-7 | E94: 1 | F94: 2 000 m3/h | G94: VTS | H94: Biblioteka Uniwersytecka ul. Ratajczaka 38/40 | I94: Pracownia restauracji książek | J94: 4 | L94: =K94*J94*E94 -> 0
B95: =B94+1 -> 83 | C95: C | D95: Centrala wentylacyjna nawiewna OTA 200/3000 | E95: 1 | F95: 3 000 W | G95: SALDA | H95: Biblioteka Uniwersytecka ul. Ratajczaka 38/40 | I95: Pracownia digitalizacji | J95: 4 | L95: =K95*J95*E95 -> 0
B96: =B95+1 -> 84 | C96: C | D96: Centrala wentylacyjna FK-50LO | E96: 1 | G96: Termowent | H96: Biblioteka Uniwersytecka ul. Ratajczaka 38/40 | I96: Magazyn książek -1 | J96: 4 | L96: =K96*J96*E96 -> 0
B97: =B96+1 -> 85 | C97: C | D97: Centrala wentylacyjna KVKF 250M | E97: 1 | G97: Systemair | H97: Biblioteka Uniwersytecka ul. Ratajczaka 38/40 | I97: Sala wykładowa 82 | J97: 4 | L97: =K97*J97*E97 -> 0
B98: =B97+1 -> 86 | C98: C | D98: Centrala wentylacyjna K-31-PO, K31-LO | E98: 2 | G98: Termowent | H98: Biblioteka Uniwersytecka ul. Ratajczaka 38/40 | I98: Magazyn książek pod wypożyczalnią | J98: 4 | L98: =K98*J98*E98 -> 0
B99: =B98+1 -> 87 | C99: C | D99: Centrala wentylacyjna nawiewna | E99: 1 | F99: 2500 | G99: OSSMET | H99: Biblioteka Uniwersytecka ul. Ratajczaka 38/40 | I99: Wypożyczalnia - stara kotłownia | J99: 4 | L99: =K99*J99*E99 -> 0
B100: =B99+1 -> 88 | C100: K | D100: Jednostka zewnętrzna ASGE-48BI-3 14kW | E100: 1 | G100: Sinclair | H100: Biblioteka Uniwersytecka ul. Ratajczaka 38/40 | J100: 2 | L100: =K100*J100*E100 -> 0
B101: =B100+1 -> 89 | C101: K | D101: Jednostka wewnętrzna ASD-48BI | E101: 1 | G101: Sinclair | H101: Biblioteka Uniwersytecka ul. Ratajczaka 38/40 | J101: 2 | L101: =K101*J101*E101 -> 0
B102: =B101+1 -> 90 | C102: K | D102: Klimatyzator ścienny | E102: 1 | F102: 5,0kW | G102: AIRWELL | H102: Wydział Studiów Edukacyjnych ul. Międzychodzka 5 | I102: Serwerownia | J102: 4 | L102: =K102*J102*E102 -> 0
B103: =B102+1 -> 91 | C103: K | D103: Klimatyzator | E103: 1 | F103: Chłodz: | G103: AIRWELL | H103: Wydział Studiów Edukacyjnych ul. Międzychodzka 5 | I103: I PIETRO POK 105 | J103: 2 | L103: =K103*J103*E103 -> 0
B104: =B103+1 -> 92 | C104: C | D104: Centrala nawiewna | E104: 1 | F104: 5,0 kW | G104: SALDA VEKA | H104: Wydział Studiów Edukacyjnych ul. Międzychodzka 5 | I104: SERWEROWNIA | J104: 4 | L104: =K104*J104*E104 -> 0
B105: =B104+1 -> 93 | C105: K | D105: Klimatyzator | E105: 1 | F105: 3,2 kW | G105: SINCLAIR | H105: Wydział Studiów Edukacyjnych ul. Międzychodzka 5 | I105: PORTIERNIA | J105: 2 | L105: =K105*J105*E105 -> 0
...

Sheet filtry
C5: Lp. | D5: BUDYNEK | E5: CENTRALA | F5: TYP | H5: ROZMIAR mm | I5: ILOŚĆ szt.
C7: 1 | D7: WCZT budynek A | E7: A/N1masz.1 | F7: F5 | H7: 287X592X600 | I7: 1
F8: F5 | H8: 592X592X600 | I8: 1
E9: A/W1masz.1 | F9: G4 | H9: 287X592X360 | I9: 1
F10: G4 | H10: 592X592X360 | I10: 1
E11: A/N2masz.1 | F11: F5 | H11: 592X592X600 | I11: 2
F12: F5 | H12: 592X287X600 | I12: 2
E13: A/W2masz.1 | F13: G4 | H13: 592X592X360 | I13: 2
F14: G4 | H14: 592X287X360 | I14: 2
E15: A/Wo2masz.1 | F15: G4 | H15: 592X592X360 | I15: 1
E16: A/N3masz.4 | F16: F5 | H16: 592X592X600 | I16: 4
F17: F5 | H17: 287X592X600 | I17: 2
E18: A/W3masz.4 | F18: G4 | H18: 592X592X360 | I18: 4
F19: G4 | H19: 287X592X360 | I19: 2
E20: A/Wo3masz.4 | F20: G4 | H20: 592X592X360 | I20: 1
E21: A/N4masz.3 | F21: F5 | H21: 592X592X360 | I21: 4
F22: F5 | H22: 287X592X360 | I22: 2
F23: F7 | H23: 592X592X600 | I23: 4
F24: F7 | H24: 287X592X600 | I24: 2
E25: A/W4masz.3 | F25: G4 | H25: 592X592X360 | I25: 4
F26: G4 | H26: 287X592X360 | I26: 2
E27: A/Wo4masz.3 | F27: G4 | H27: 592X592X360 | I27: 1
E28: A/N5 | F28: F5 | H28: 592X592X360 | I28: 1
E29: A/N6masz.2 | F29: F5 | H29: 592X592X360 | I29: 4
F30: F9 | H30: 592X592X600 | I30: 4
E31: A/W6masz.2 | F31: G4 | H31: 592X592X360 | I31: 4
E32: A/N7masz.2 | F32: F5 | H32: 592X592X360 | I32: 1
F33: F9 | H33: 592X592X600 | I33: 1
E34: A/W7masz.2 | F34: G4 | H34: 592X592X360 | I34: 1
E35: A/N8 antresola | F35: F5 | H35: 592X592X360 | I35: 4
F36: F5 | H36: 287X592X360 | I36: 2
F37: F9 | H37: 592X592X600 | I37: 4
F38: F9 | H38: 287X592X600 | I38: 2
E39: A/W8 antresola | F39: H13 | H39: 592X592X292 | I39: 4
E40: A/N9 antresola | F40: F5 | H40: 592X592X360 | I40: 1
F41: F5 | H41: 592X287X360 | I41: 2
F42: F5 | H42: 287X287X360 | I42: 1
F43: F9 | H43: 592X592X600 | I43: 1
F44: F9 | H44: 592X287X600 | I44: 2
F45: F9 | H45: 287X287X600 | I45: 1
E46: A/W9 antresola | F46: H13 | H46: 593X593X292 | I46: 2
F47: H13 | H47: 288X593X292 | I47: 2
E48: A/N10 antresola | F48: F5 | H48: 592X592X360 | I48: 2
F49: F5 | H49: 592X287X360 | I49: 2
F50: F9 | H50: 592X592X600 | I50: 2
F51: F9 | H51: 592X287X600 | I51: 2
E52: A/W10 antresola | F52: G4 | H52: 592X592X360 | I52: 2
F53: G4 | H53: 592X287X360 | I53: 2
D54: WCZT budynek B | E54: B/N1masz.1 | F54: F5 | H54: 592x592x600 | I54: 4
F55: F5 | H55: 592X287X600 | I55: 4
F56: F5 | H56: 287X287X600 | I56: 1
E57: B/Wb1masz.1 | F57: G4 | H57: 592X592X360 | I57: 1
E58: B/Wo1masz.1 | F58: G4 | H58: 592X592X360 | I58: 4
E59: B/N2masz.3 | F59: F5 | H59: 592X592X600 | I59: 4
F60: F5 | H60: 287X592X600 | I60: 2
E61: B/Wb2masz.3 | F61: G4 | H61: 592X592X360 | I61: 1
E62: B/Wo2masz.3 | F62: G4 | H62: 592X592X360 | I62: 4
E63: B/N3masz.4 | F63: F5 | H63: 592X592X600 | I63: 4
F64: F5 | H64: 287X592X600 | I64: 2
E65: B/Wb3masz.4 | F65: G4 | H65: 592X592X360 | I65: 1
E66: B/Wo3masz.4 | F66: G4 | H66: 592X592X360 | I66: 4
E67: B/N4masz.4 | F67: F5 | H67: 592X592X360 | I67: 4
F68: F5 | H68: 592X287X360 | I68: 4
F69: F5 | H69: 287X287X360 | I69: 1
F70: F9 | H70: 592X592X600 | I70: 4
F71: F9 | H71: 592X287X600 | I71: 4
F72: F9 | H72: 287X287X600 | I72: 1
E73: B/Wb4masz.4 | F73: G4 | H73: 592X592X360 | I73: 1
E74: B/Wo4masz.4 | F74: G4 | H74: 592X592X360 | I74: 4
F75: G4 | H75: 287X592X360 | I75: 2
E76: B/N5.1pom.120A | F76: F5 | H76: 592X592X600 | I76: 1
F77: F5 | H77: 592X287X600 | I77: 1
E78: B/N5.2pom.120A | F78: F5 | H78: 592X592X600 | I78: 1
F79: F5 | H79: 592X287X600 | I79: 1
E80: B/N6.1pom.122A | F80: F5 | H80: 592X592X600 | I80: 1
E81: B/N6.2pom.122A | F81: F5 | H81: 592X592X600 | I81: 1
E82: B/N6.3pom.122A | F82: F5 | H82: 592X592X600 | I82: 1
F83: F5 | H83: 592X287X600 | I83: 1
E84: B/N7pom.123A | F84: F5 | H84: 592X592X360 | I84: 1
F85: F5 | H85: 592X287X360 | I85: 2
F86: F5 | H86: 287X287X360 | I86: 1
F87: F9 | H87: 592X592X600 | I87: 1
F88: F9 | H88: 592X287X600 | I88: 2
F89: F9 | H89: 287X287X600 | I89: 1
E90: B/W7pom.123A | F90: G4 | H90: 592X592X360 | I90: 1
F91: G4 | H91: 592X287X360 | I91: 2
F92: G4 | H92: 287X287X360 | I92: 1
E93: B/N8.1pom.129A | F93: F5 | H93: 592X592X600 | I93: 1
F94: F5 | H94: 592X287X600 | I94: 2
F95: F5 | H95: 287X287X600 | I95: 1
E96: B/N8.2pom.129A | F96: F5 | H96: 592X592X600 | I96: 1
F97: F5 | H97: 592X287X600 | I97: 1
E98: B/N9 masz.5 | F98: F5 | H98: 592X592X600 | I98: 6
F99: F5 | H99: 592X287X600 | I99: 3
E100: B/Wb9 masz.5 | F100: G4 | H100: 592X592X360 | I100: 1
E101: B/Wo9 masz.5 | F101: G4 | H101: 592X592X360 | I101: 4
F102: G4 | H102: 287X592X360 | I102: 2
E103: B/N10 masz.3 | F103: F5 | H103: 592X592X600 | I103: 1
F104: F5 | H104: 592X287X600 | I104: 2
F105: F5 | H105: 287X287X600 | I105: 1
...

Sheet zestawy chydroforowe
B6: l.p. | C6: Typ zestawu | D6: Ilość | E6: Producent | F6: Lokalizacja | G6: zastosowanie | H6: Ilośc serwisów w roku | I6: Cena netto jednego serwisu jednego urządzenia | J6: Vat (%) | K6: Cena netto serwisu urządzeń uwzględniająć ilośc urządzeń i ilość serwisów w roku (8*9*10)
B7: 1 | C7: 2 | D7: 3 | E7: 5 | F7: 6 | G7: 7 | H7: 8 | I7: 9 | J7: 10 | K7: 11
B8: 1 | C8: 3 MOT MG 80B2 19FT 100-D1 | D8: 1 | E8: Grundfos | F8: Wydział Chemii ul. Uniwersytetu Poznańskiego 8 | G8: instalacja pożarowa | H8: 2
B9: 2 | C9: CRE 10-03 G-A-A HQQE | D9: 1 | E9: Grundfos | F9: Wydział Chemii ul. Uniwersytetu Poznańskiego 8 | G9: sieć | H9: 2
B10: 3 | C10: zestaw 5 pomp Wilo GMBH 44263 | D10: 1 | E10: Wilo | F10: Dom Akademicki ul. Nieszawska 3 | G10: sieć | H10: 2
B11: 4 | C11: MPC 50/60 HZ, 3 pompy CRE | D11: 1 | E11: Grundfos | F11: Dom sudencki Hanka Al. Niepodległości 24 | G11: sieć | H11: 2
B12: 5 | C12: zestaw popmpwy Hydro | D12: 1 | E12: Hydro | F12: Collegium Minus ul. Wieniawskiego 1 | G12: instalacja pożarowa | H12: 2
B13: 6 | C13: Zh-CR/M 3.8.50/2,2KW | D13: 1 | E13: Instalcompact | F13: Dom Studenta Jowita ul. Zwierzyniecka 7 | G13: sieć | H13: 2
B14: 7 | C14: Zestaw hydroforowy COR 3MVIE 803-26/VRP | D14: 1 | E14: Wilo | F14: Wydział prawa i Administracji al.. Niepodległosci 53 | G14: sieć | H14: 2
B15: 8 | C15: CU 352 | D15: 1 | E15: Grundfos | F15: Collegium Historicum ul. Uniwersytetu Poznańskiego 7 | G15: sieć | H15: 2
B16: 9 | C16: Zestaw hydroforowy 2065/ZH/2003 pompy ICV10-50 | D16: 1 | E16: Instalcompact | F16: Dom Studenta Zbyszko ul. Piątkowska 80 | G16: sieć | H16: 2

Sheet Arkusz1
G8: Lp | H8: ='zestawy chydroforowe'!C6 -> Typ zestawu | I8: ='zestawy chydroforowe'!D6 -> Ilość | J8: ='zestawy chydroforowe'!E6 -> Producent | K8: ='zestawy chydroforowe'!F6 -> Lokalizacja
G9: ='zestawy chydroforowe'!B8 -> 1 | H9: ='zestawy chydroforowe'!C8 -> 3 MOT MG 80B2 19FT 100-D1 | I9: ='zestawy chydroforowe'!D8 -> 1 | J9: ='zestawy chydroforowe'!E8 -> Grundfos | K9: ='zestawy chydroforowe'!F8 -> Wydział Chemii ul. Uniwersytetu Poznańskiego 8
G10: ='zestawy chydroforowe'!B9 -> 2 | H10: ='zestawy chydroforowe'!C9 -> CRE 10-03 G-A-A HQQE | I10: ='zestawy chydroforowe'!D9 -> 1 | J10: ='zestawy chydroforowe'!E9 -> Grundfos | K10: ='zestawy chydroforowe'!F9 -> Wydział Chemii ul. Uniwersytetu Poznańskiego 8
G11: ='zestawy chydroforowe'!B10 -> 3 | H11: ='zestawy chydroforowe'!C10 -> zestaw 5 pomp Wilo GMBH 44263 | I11: ='zestawy chydroforowe'!D10 -> 1 | J11: ='zestawy chydroforowe'!E10 -> Wilo | K11: ='zestawy chydroforowe'!F10 -> Dom Akademicki ul. Nieszawska 3
G12: ='zestawy chydroforowe'!B12 -> 5 | H12: ='zestawy chydroforowe'!C12 -> zestaw popmpwy Hydro | I12: ='zestawy chydroforowe'!D12 -> 1 | J12: ='zestawy chydroforowe'!E12 -> Hydro | K12: ='zestawy chydroforowe'!F12 -> Collegium Minus ul. Wieniawskiego 1
G13: ='zestawy chydroforowe'!B13 -> 6 | H13: ='zestawy chydroforowe'!C13 -> Zh-CR/M 3.8.50/2,2KW | I13: ='zestawy chydroforowe'!D13 -> 1 | J13: ='zestawy chydroforowe'!E13 -> Instalcompact | K13: ='zestawy chydroforowe'!F13 -> Dom Studenta Jowita ul. Zwierzyniecka 7
G14: ='zestawy chydroforowe'!B14 -> 7 | H14: ='zestawy chydroforowe'!C14 -> Zestaw hydroforowy COR 3MVIE 803-26/VRP | I14: ='zestawy chydroforowe'!D14 -> 1 | J14: ='zestawy chydroforowe'!E14 -> Wilo | K14: ='zestawy chydroforowe'!F14 -> Wydział prawa i Administracji al.. Niepodległosci 53
G15: ='zestawy chydroforowe'!B15 -> 8 | H15: ='zestawy chydroforowe'!C15 -> CU 352 | I15: ='zestawy chydroforowe'!D15 -> 1 | J15: ='zestawy chydroforowe'!E15 -> Grundfos | K15: ='zestawy chydroforowe'!F15 -> Collegium Historicum ul. Uniwersytetu Poznańskiego 7
G16: ='zestawy chydroforowe'!B16 -> 9 | H16: ='zestawy chydroforowe'!C16 -> Zestaw hydroforowy 2065/ZH/2003 pompy ICV10-50 | I16: ='zestawy chydroforowe'!D16 -> 1 | J16: ='zestawy chydroforowe'!E16 -> Instalcompact | K16: ='zestawy chydroforowe'!F16 -> Dom Studenta Zbyszko ul. Piątkowska 80

Sheet stacje uzdatniania wody
C5: l.p. | D5: Typ zestawu | E5: Ilość | F5: Wydajność m3/h | G5: Producent | H5: Lokalizacja | I5: zastosowanie | J5: Ilośc serwisów w roku | K5: Cena netto jednego serwisu jednego urządzenia | L5: Vat | M5: Cena netto serwisu urządzeń uwzględniająć ilośc urządzeń i ilość serwisów w roku (8*9*10)
