Workbook

Sheet Informacje ogólne
B1: Sygnatura przetargu: | C1: 9/2024
B3: Przedmiot: | C3: Dostawy sukcesywne materiałów opatrunkowych na okres 24 miesięcy
B5: Nazwa Oferenta:
B7: ulica: | D7: nr domu: | F7: nr lokalu:
B8: kod: | D8: miejscowość:
B9: Powiat: | D9: Województwo:
B11: NIP: | D11: REGON:
B12: Dla Wykonawców wnoszących wadium w pieniądzu :
B13: Bank: | D13: nr konta:
B16: Jestem/-śmy przedsiębiorstwem | D16: małym * | E16: średnim* | F16: dużym*
D17: * niewłaściwe skreślić
B19: Kontakt w sprawie oferty / dokumentów na wezwanie: | D19: …………………………………………………..…………………………………
D20: imię, nazwisko, e-mail , tel.
B22: Nadzór nad realizacją umowy ze strony Wykonawcy: | D22: …………………………………………………..……………………………………
D23: imię, nazwisko, e-mail, tel.
B25: Zamówienia/ Reklamacje składać do : | D25: ……………………..…………………………………………………………….
D26: imię, nazwisko, e-mail, tel./fax
B28: Składamy ofertę na następujące zadania:
B30: Numer zadania: | C30: Temat: | D30: Wartość brutto: | E30: Kwota VAT: | F30: Termin dostawy [w dniach roboczych] | G30: Termin płatności | H30: Masa jednego kompresu | I30: Czas tonięcia
B31: ='Zadanie 1'!$C$2 -> 1 | C31: Opatrunki gazowe z chlorheksydyną | H31: n/d | I31: n/d
B32: ='Zadanie 2'!$C$2 -> 2 | C32: Opatrunki hydrokoloidowe | H32: n/d | I32: n/d
B33: ='Zadanie 3'!$C$2 -> 3 | C33: Opatrunki hydrożelowe, opatrunki z miodem Manuka | H33: n/d | I33: n/d
B34: ='Zadanie 4'!$C$2 -> 4 | C34: Opatrunki piankowe i gazowe | H34: n/d | I34: n/d
B35: ='Zadanie 5'!$C$2 -> 5 | C35: Opatrunki hydrowłókniste | H35: n/d | I35: n/d
B36: ='Zadanie 6'!$C$2 -> 6 | C36: Opatrunki hydrowłókniste z jonami srebra | H36: n/d | I36: n/d
B37: ='Zadanie 7'!$C$2 -> 7 | C37: Opatrunki hydroaktywne | H37: n/d | I37: n/d
B38: ='Zadanie 8'!$C$2 -> 8 | C38: Opatrunki lipidokoloidowe | H38: n/d | I38: n/d
B39: ='Zadanie 9'!$C$2 -> 9 | C39: Opatrunki z węglem aktywowanym | H39: n/d | I39: n/d
B40: ='Zadanie 10'!$C$2 -> 10 | C40: Opatrunki samoprzylepne pooperacyjne | H40: n/d | I40: n/d
B41: ='Zadanie 11'!$C$2 -> 11 | C41: Opatrunek do mocowania kaniul | H41: n/d | I41: n/d
B42: ='Zadanie 12'!$C$2 -> 12 | C42: Opatrunki poliuretanowe | H42: n/d | I42: n/d
B43: ='Zadanie 13'!$C$2 -> 13 | C43: Opatrunek dla Stacji Dializ | H43: n/d | I43: n/d
B44: ='Zadanie 14'!$C$2 -> 14 | C44: Gąbki hemostatyczne | H44: n/d | I44: n/d
B45: ='Zadanie 15'!$C$2 -> 15 | C45: Tampony donosowe | H45: n/d | I45: n/d
B46: ='Zadanie 16'!$C$2 -> 16 | C46: Tampony gazowe donosowe | H46: n/d | I46: n/d
B47: ='Zadanie 17'!$C$2 -> 17 | C47: Przylepce | H47: n/d | I47: n/d
B48: ='Zadanie 18'!$C$2 -> 18 | C48: Gaza bawełniana | H48: n/d | I48: n/d
B49: ='Zadanie 19'!$C$2 -> 19 | C49: Lignina, wata opatrunkowa | H49: n/d | I49: n/d
B50: ='Zadanie 20'!$C$2 -> 20 | C50: Kompresy | F50: n/d | G50: n/d
B51: ='Zadanie 21'!$C$2 -> 21 | C51: Kompresy gazowe niejałowe | H51: n/d | I51: n/d
B52: ='Zadanie 22'!$C$2 -> 22 | C52: Serwety | H52: n/d | I52: n/d
B53: ='Zadanie 23'!$C$2 -> 23 | C53: Neurokompresy | H53: n/d | I53: n/d
B54: ='Zadanie 24'!$C$2 -> 24 | C54: Opaski | H54: n/d | I54: n/d
B55: ='Zadanie 25'!$C$2 -> 25 | C55: Opaski gipsowe | H55: n/d | I55: n/d
B56: ='Zadanie 26'!$C$2 -> 26 | C56: Pianka | H56: n/d | I56: n/d
B58: Termin dostawy min 2 dni robocze, maksymalnie 4 dni roboczych, zaoferowanie krótszego lub dłuższego terminu dostawy skutkować będzie odrzuceniem oferty jako niezgodnej z SWZ. Brak terminu w tabeli będzie skutkowało odrzuceniem oferty jako niezgodnej z SWZ.
B59: UWAGA: przekroczenie terminu dostawy podczas realizacji umowy, spowoduje nałożenie na Wykonawcę wysokiej kary umownej. Wysoka kara jest restrykcyjna gdyż termin dostawy jest jednym z kryteriów oceny ofert. Zamawiający zwraca uwagę Wykonawcy, aby pochopnie nie skracał terminu dostawy, wyłącznie celem uzyskania większej liczby punktów w kryteriu "termin dostawy".
B60: Minimalny termin płatności 30 dni maksymalny 60 dni. Brak podania terminu płatności skutkować będzie naliczeniem punktów za 30-dniowy termin płatności i w razie wyboru takiej oferty jako najkorzystniejszą taki termin płatności zostanie wpisany do umowy.
B62: Przystępując do postępowania o udzielenie zamówienia publicznego o przedmiocie określonym powyżej oferuję realizację zamówienia zgodnie z zasadami określonymi w Specyfikacji Warunków Zamówienia.
B69: Oświadczamy, że zapoznaliśmy się ze specyfikacją warunków zamówienia i uznajemy się za związanych określonymi w niej zasadami postępowania.
B70: Oświadczamy, że uważamy się za związanych niniejszą ofertą na czas wskazany w specyfikacji warunków zamówienia.
B71: Oświadczamy, że zapoznaliśmy się z istotnymi postanowieniami umowy, które zostały zawarte w Specyfikacji Warunków Zamówienia i zobowiązujemy się w przypadku wyboru naszej oferty do zawarcia umowy na zawartych tam warunkach w miejscu i terminie wyznaczonym przez Zamawiającego.
B72: Oświadczenie wymagane od Wykonawcy w zakresie wypełnienia obowiązków informacyjnych przewidzianych w art. 13 lub art. 14 RODO
B73: Wypełniliśmy obowiązki informacyjne przewidziane w art. 13 lub art. 14 RODO wobec osób fizycznych, od których dane osobowe bezpośrednio lub pośrednio pozyskaliśmy w celu ubiegania się o udzielenie zamówienia publicznego w niniejszym postępowaniu.
B74: * W przypadku gdy wykonawca nie przekazuje danych osobowych innych niż bezpośrednio jego dotyczących lub zachodzi wyłączenie stosowania obowiązku informacyjnego, stosownie do art. 13 ust. 4 lub art. 14 ust. 5 RODO treści oświadczenia wykonawca nie składa (usunięcie treści oświadczenia np. przez jego wykreślenie).
B75: Prosimy o zwrot pieniędzy wniesionych tytułem wadium na wskazany wyżej numer konta.
B76: Załącznikami do niniejszej oferty są:
... B80: 4.

Sheet Zadanie 1
B2: Zadanie nr: | C2: 1
A4: Temat: | C4: Krem na skórę
B6: Szczegółowy podział zadania:
A8: Pozycje
A10: Nr | B10: Nazwa | C10: Opis | D10: Jednostka | E10: Ilość | F10: Cena netto | G10: Wartość netto | H10: VAT (%) | I10: Wartość brutto
A13: Cena brutto: | F13: Kwota VAT:
A14: cena brutto słownie:
A16: Termin wykonania:
A18: Okres gwarancji:
A20: Warunki płatności:
I26: podpis

Sheet Zadanie 2
B2: Zadanie nr: | C2: 2
A4: Temat: | C4: Opatrunek gazowy siatkowy nasączony neutralną maścią
B6: Szczegółowy podział zadania:
A8: Pozycje
A10: Nr | B10: Nazwa | C10: Opis | D10: Jednostka | E10: Ilość | F10: Cena netto | G10: Wartość netto | H10: VAT (%) | I10: Wartość brutto
A13: Cena brutto: | F13: Kwota VAT:
A14: cena brutto słownie:
A16: Termin wykonania:
A18: Okres gwarancji:
A20: Warunki płatności:
I26: podpis

Sheet Zadanie 3
B2: Zadanie nr: | C2: 3
A4: Temat: | C4: Opatrunek gazowy siatkowy nasączony parafiną z dodatkiem 0,5% chlorcheksydyny
B6: Szczegółowy podział zadania:
A8: Pozycje
A10: Nr | B10: Nazwa | C10: Opis | D10: Jednostka | E10: Ilość | F10: Cena netto | G10: Wartość netto | H10: VAT (%) | I10: Wartość brutto
A13: Cena brutto: | F13: Kwota VAT:
A14: cena brutto słownie:
A16: Termin wykonania:
A18: Okres gwarancji:
A20: Warunki płatności:
I26: podpis

Sheet Zadanie 4
B2: Zadanie nr: | C2: 4
A4: Temat: | C4: Opatrunek hydrowłóknisty nawilżający
B6: Szczegółowy podział zadania:
A8: Pozycje
A10: Nr | B10: Nazwa | C10: Opis | D10: Jednostka | E10: Ilość | F10: Cena netto | G10: Wartość netto | H10: VAT (%) | I10: Wartość brutto
A13: Cena brutto: | F13: Kwota VAT:
A14: cena brutto słownie:
A16: Termin wykonania:
A18: Okres gwarancji:
A20: Warunki płatności:
I26: podpis

Sheet Zadanie 5
B2: Zadanie nr: | C2: 5
A4: Temat: | C4: Opatrunek hydrowłoknisty przeciwbakteryjny, nawilżający z jonami srebra.
B6: Szczegółowy podział zadania:
A8: Pozycje
A10: Nr | B10: Nazwa | C10: Opis | D10: Jednostka | E10: Ilość | F10: Cena netto | G10: Wartość netto | H10: VAT (%) | I10: Wartość brutto
A13: Cena brutto: | F13: Kwota VAT:
A14: cena brutto słownie:
A16: Termin wykonania:
A18: Okres gwarancji:
A20: Warunki płatności:
I26: podpis

Sheet Zadanie 6
B2: Zadanie nr: | C2: 6
A4: Temat: | C4: Kompresy niejałowe chłonne, nieprzywierające do rany
B6: Szczegółowy podział zadania:
A8: Pozycje
A10: Nr | B10: Nazwa | C10: Opis | D10: Jednostka | E10: Ilość | F10: Cena netto | G10: Wartość netto | H10: VAT (%) | I10: Wartość brutto
A13: Cena brutto: | F13: Kwota VAT:
A14: cena brutto słownie:
A16: Termin wykonania:
A18: Okres gwarancji:
A20: Warunki płatności:
I26: podpis

Sheet Zadanie 7
B2: Zadanie nr: | C2: 7
A4: Temat: | C4: Opatrunek samoprzylepny pooperacyjny włókninowy hypoalergiczny jałowy z warstwą chłonną
B6: Szczegółowy podział zadania:
A8: Pozycje
A10: Nr | B10: Nazwa | C10: Opis | D10: Jednostka | E10: Ilość | F10: Cena netto | G10: Wartość netto | H10: VAT (%) | I10: Wartość brutto
A13: Cena brutto: | F13: Kwota VAT:
A14: cena brutto słownie:
A16: Termin wykonania:
A18: Okres gwarancji:
A20: Warunki płatności:
I26: podpis

Sheet Zadanie 8
B2: Zadanie nr: | C2: 8
A4: Temat: | C4: Kompresy gazowe jałowe, gaza
B6: Szczegółowy podział zadania:
A8: Pozycje
A10: Nr | B10: Nazwa | C10: Opis | D10: Jednostka | E10: Ilość | F10: Cena netto | G10: Wartość netto | H10: VAT (%) | I10: Wartość brutto
A13: Cena brutto: | F13: Kwota VAT:
A14: cena brutto słownie:
A16: Termin wykonania:
A18: Okres gwarancji:
A20: Warunki płatności:
I26: podpis

Sheet Zadanie 9
B2: Zadanie nr: | C2: 9
A4: Temat: | C4: Lignina miękka, niepyląca, chłonna
B6: Szczegółowy podział zadania:
A8: Pozycje
A10: Nr | B10: Nazwa | C10: Opis | D10: Jednostka | E10: Ilość | F10: Cena netto | G10: Wartość netto | H10: VAT (%) | I10: Wartość brutto
A13: Cena brutto: | F13: Kwota VAT:
A14: cena brutto słownie:
A16: Termin wykonania:
A18: Okres gwarancji:
A20: Warunki płatności:
I26: podpis

Sheet Zadanie 10
B2: Zadanie nr: | C2: 10
A4: Temat: | C4: Opaska elastyczna; opaska opatrunkowa dziana
B6: Szczegółowy podział zadania:
A8: Pozycje
A10: Nr | B10: Nazwa | C10: Opis | D10: Jednostka | E10: Ilość | F10: Cena netto | G10: Wartość netto | H10: VAT (%) | I10: Wartość brutto
A13: Cena brutto: | F13: Kwota VAT:
A14: cena brutto słownie:
A16: Termin wykonania:
A18: Okres gwarancji:
A20: Warunki płatności:
I26: podpis

Sheet Zadanie 11
B2: Zadanie nr: | C2: 11
A4: Temat: | C4: Przezroczysty, półprzepuszczalny, hypoalergiczny opatrunek poliuretanowy z ramką na klej
B6: Szczegółowy podział zadania:
A8: Pozycje
A10: Nr | B10: Nazwa | C10: Opis | D10: Jednostka | E10: Ilość | F10: Cena netto | G10: Wartość netto | H10: VAT (%) | I10: Wartość brutto
A13: Cena brutto: | F13: Kwota VAT:
A14: cena brutto słownie:
A16: Termin wykonania:
A18: Okres gwarancji:
A20: Warunki płatności:
I26: podpis

Sheet Zadanie 12
B2: Zadanie nr: | C2: 12
A4: Temat: | C4: Opatrunki, kompresy, tupfery, setony
B6: Szczegółowy podział zadania:
A8: Pozycje
A10: Nr | B10: Nazwa | C10: Opis | D10: Jednostka | E10: Ilość | F10: Cena netto | G10: Wartość netto | H10: VAT (%) | I10: Wartość brutto
A13: Cena brutto: | F13: Kwota VAT:
A14: cena brutto słownie:
A16: Termin wykonania:
A18: Okres gwarancji:
A20: Warunki płatności:
I26: podpis

Sheet Zadanie 13
B2: Zadanie nr: | C2: 13
A4: Temat: | C4: Waciki neurochirurgiczne
B6: Szczegółowy podział zadania:
A8: Pozycje
A10: Nr | B10: Nazwa | C10: Opis | D10: Jednostka | E10: Ilość | F10: Cena netto | G10: Wartość netto | H10: VAT (%) | I10: Wartość brutto
A13: Cena brutto: | F13: Kwota VAT:
A14: cena brutto słownie:
A16: Termin wykonania:
A18: Okres gwarancji:
A20: Warunki płatności:
I26: podpis

Sheet Zadanie 14
B2: Zadanie nr: | C2: 14
A4: Temat: | C4: Opaska gipsowa szybkowiążąca, opaska wyścielająca podgipsowa
B6: Szczegółowy podział zadania:
A8: Pozycje
A10: Nr | B10: Nazwa | C10: Opis | D10: Jednostka | E10: Ilość | F10: Cena netto | G10: Wartość netto | H10: VAT (%) | I10: Wartość brutto
A13: Cena brutto: | F13: Kwota VAT:
A14: cena brutto słownie:
A16: Termin wykonania:
A18: Okres gwarancji:
A20: Warunki płatności:
I26: podpis

Sheet Zadanie 15
B2: Zadanie nr: | C2: 15
A4: Temat: | C4: Przylepce, plastry
B6: Szczegółowy podział zadania:
A8: Pozycje
A10: Nr | B10: Nazwa | C10: Opis | D10: Jednostka | E10: Ilość | F10: Cena netto | G10: Wartość netto | H10: VAT (%) | I10: Wartość brutto
A13: Cena brutto: | F13: Kwota VAT:
A14: cena brutto słownie:
A16: Termin wykonania:
A18: Okres gwarancji:
A20: Warunki płatności:
I26: podpis

Sheet Zadanie 16
B2: Zadanie nr: | C2: 16
A4: Temat: | C4: Opatrunek tamujący krwawienie, do zębodołu
B6: Szczegółowy podział zadania:
A8: Pozycje
A10: Nr | B10: Nazwa | C10: Opis | D10: Jednostka | E10: Ilość | F10: Cena netto | G10: Wartość netto | H10: VAT (%) | I10: Wartość brutto
A13: Cena brutto: | F13: Kwota VAT:
A14: cena brutto słownie:
A16: Termin wykonania:
A18: Okres gwarancji:
A20: Warunki płatności:
I26: podpis

Sheet Zadanie 17
B2: Zadanie nr: | C2: 17
A4: Temat: | C4: Opatrunek tamujący krwawienie typu Spongostan Special
B6: Szczegółowy podział zadania:
A8: Pozycje
A10: Nr | B10: Nazwa | C10: Opis | D10: Jednostka | E10: Ilość | F10: Cena netto | G10: Wartość netto | H10: VAT (%) | I10: Wartość brutto
A13: Cena brutto: | F13: Kwota VAT:
A14: cena brutto słownie:
A16: Termin wykonania:
A18: Okres gwarancji:
A20: Warunki płatności:
I26: podpis

Sheet Zadanie 18
B2: Zadanie nr: | C2: 18
A4: Temat: | C4: Chusta trójkątna bawełniana
B6: Szczegółowy podział zadania:
A8: Pozycje
A10: Nr | B10: Nazwa | C10: Opis | D10: Jednostka | E10: Ilość | F10: Cena netto | G10: Wartość netto | H10: VAT (%) | I10: Wartość brutto
A13: Cena brutto: | F13: Kwota VAT:
A14: cena brutto słownie:
A16: Termin wykonania:
A18: Okres gwarancji:
A20: Warunki płatności:
I26: podpis

Sheet Zadanie 19
B2: Zadanie nr: | C2: 19
A4: Temat: | C4: Wata opatrunkowa bawiełniana wiskozowa biała
B6: Szczegółowy podział zadania:
A8: Pozycje
A10: Nr | B10: Nazwa | C10: Opis | D10: Jednostka | E10: Ilość | F10: Cena netto | G10: Wartość netto | H10: VAT (%) | I10: Wartość brutto
A13: Cena brutto: | F13: Kwota VAT:
A14: cena brutto słownie:
A16: Termin wykonania:
A18: Okres gwarancji:
A20: Warunki płatności:
I26: podpis

Sheet Zadanie 20
B2: Zadanie nr: | C2: 20
A4: Temat: | C4: Serweta operacyjna z nitką lub znacznikiem radiacyjnym i tasiemką
B6: Szczegółowy podział zadania:
A8: Pozycje
A10: Nr | B10: Nazwa | C10: Opis | D10: Jednostka | E10: Ilość | F10: Cena netto | G10: Wartość netto | H10: VAT (%) | I10: Wartość brutto
A13: Cena brutto: | F13: Kwota VAT:
A14: cena brutto słownie:
A16: Termin wykonania:
A18: Okres gwarancji:
A20: Warunki płatności:
I26: podpis

Sheet Zadanie 21
B2: Zadanie nr: | C2: 21
A4: Temat: | C4: opatrunki hydrokloidowe
B6: Szczegółowy podział zadania:
A8: Pozycje
A10: Nr | B10: Nazwa | C10: Opis | D10: Jednostka | E10: Ilość | F10: Cena netto | G10: Wartość netto | H10: VAT (%) | I10: Wartość brutto
A13: Cena brutto: | F13: Kwota VAT:
A14: cena brutto słownie:
A16: Termin wykonania:
A18: Okres gwarancji:
A20: Warunki płatności:
I26: podpis

Sheet Zadanie 22
B2: Zadanie nr: | C2: 22
A4: Temat: | C4: Opatrunki piankowe wysokochłonne
B6: Szczegółowy podział zadania:
A8: Pozycje
A10: Nr | B10: Nazwa | C10: Opis | D10: Jednostka | E10: Ilość | F10: Cena netto | G10: Wartość netto | H10: VAT (%) | I10: Wartość brutto
A13: Cena brutto: | F13: Kwota VAT:
A14: cena brutto słownie:
A16: Termin wykonania:
A18: Okres gwarancji:
A20: Warunki płatności:
I26: podpis

Sheet Zadanie 23
B2: Zadanie nr: | C2: 23
A4: Temat: | C4: Opatrunek piankowy, wysokochłonny, samoprzylepny, profilowany na łokieć/ piętę
B6: Szczegółowy podział zadania:
A8: Pozycje
A10: Nr | B10: Nazwa | C10: Opis | D10: Jednostka | E10: Ilość | F10: Cena netto | G10: Wartość netto | H10: VAT (%) | I10: Wartość brutto
A13: Cena brutto: | F13: Kwota VAT:
A14: cena brutto słownie:
A16: Termin wykonania:
A18: Okres gwarancji:
A20: Warunki płatności:
I26: podpis

Sheet Zadanie 24
B2: Zadanie nr: | C2: 24
A4: Temat: | C4: Opatrunki do wypełniania rany, opatrunki chłonne, opatrunki hydroaktywne
B6: Szczegółowy podział zadania:
A8: Pozycje
A10: Nr | B10: Nazwa | C10: Opis | D10: Jednostka | E10: Ilość | F10: Cena netto | G10: Wartość netto | H10: VAT (%) | I10: Wartość brutto
A13: Cena brutto: | F13: Kwota VAT:
A14: cena brutto słownie:
A16: Termin wykonania:
A18: Okres gwarancji:
A20: Warunki płatności:
I26: podpis

Sheet Zadanie 25
B2: Zadanie nr: | C2: 25
A4: Temat: | C4: Opatrunek z włókien monofilamentowych, do opracowywania ran powierzchniowych Jałowy opatrunek w postaci kompresu
B6: Szczegółowy podział zadania:
A8: Pozycje
A10: Nr | B10: Nazwa | C10: Opis | D10: Jednostka | E10: Ilość | F10: Cena netto | G10: Wartość netto | H10: VAT (%) | I10: Wartość brutto
A13: Cena brutto: | F13: Kwota VAT:
A14: cena brutto słownie:
A16: Termin wykonania:
A18: Okres gwarancji:
A20: Warunki płatności:
I26: podpis

Sheet Zadanie 26
B2: Zadanie nr: | C2: 26
A4: Temat: | C4: Opatrunek piankowy wysokochłonny pod rurkę tracheostomijną
B6: Szczegółowy podział zadania:
A8: Pozycje
A10: Nr | B10: Nazwa | C10: Opis | D10: Jednostka | E10: Ilość | F10: Cena netto | G10: Wartość netto | H10: VAT (%) | I10: Wartość brutto
A13: Cena brutto: | F13: Kwota VAT:
A14: cena brutto słownie:
A16: Termin wykonania:
A18: Okres gwarancji:
A20: Warunki płatności:
I26: podpis

Sheet Zadanie 27
B2: Zadanie nr: | C2: 27
A4: Temat: | C4: Opatrunek włókninowy wysokochłonny z warstwą aluminiową pod rurkę tracheostomijną
B6: Szczegółowy podział zadania:
A8: Pozycje
A10: Nr | B10: Nazwa | C10: Opis | D10: Jednostka | E10: Ilość | F10: Cena netto | G10: Wartość netto | H10: VAT (%) | I10: Wartość brutto
A13: Cena brutto: | F13: Kwota VAT:
A14: cena brutto słownie:
A16: Termin wykonania:
A18: Okres gwarancji:
A20: Warunki płatności:
I26: podpis

Sheet Zadanie 28
B2: Zadanie nr: | C2: 28
A4: Temat: | C4: Gaza bawełniana
B6: Szczegółowy podział zadania:
A8: Pozycje
A10: Nr | B10: Nazwa | C10: Opis | D10: Jednostka | E10: Ilość | F10: Cena netto | G10: Wartość netto | H10: VAT (%) | I10: Wartość brutto
A13: Cena brutto: | F13: Kwota VAT:
A14: cena brutto słownie:
A16: Termin wykonania:
A18: Okres gwarancji:
A20: Warunki płatności:
I26: podpis

Sheet Zadanie 29
B2: Zadanie nr: | C2: 29
A4: Temat: | C4: Siatkowy rękaw opatrunkowy z domieszką bawełny, tupfery z gazy
B6: Szczegółowy podział zadania:
A8: Pozycje
A10: Nr | B10: Nazwa | C10: Opis | D10: Jednostka | E10: Ilość | F10: Cena netto | G10: Wartość netto | H10: VAT (%) | I10: Wartość brutto
A13: Cena brutto: | F13: Kwota VAT:
A14: cena brutto słownie:
A16: Termin wykonania:
A18: Okres gwarancji:
A20: Warunki płatności:
I26: podpis

Sheet Zadanie 30
B2: Zadanie nr: | C2: 30
A4: Temat: | C4: Opatrunek ze spongostanem na miejsce po usunięciu igły/cewnika
B6: Szczegółowy podział zadania:
A8: Pozycje
A10: Nr | B10: Nazwa | C10: Opis | D10: Jednostka | E10: Ilość | F10: Cena netto | G10: Wartość netto | H10: VAT (%) | I10: Wartość brutto
A13: Cena brutto: | F13: Kwota VAT:
A14: cena brutto słownie:
A16: Termin wykonania:
A18: Okres gwarancji:
A20: Warunki płatności:
I26: podpis

Sheet Zadanie 31
B2: Zadanie nr: | C2: 31
A4: Temat: | C4: Tampony gazowe, szpiczaste Stabilizator zewnętrzny, nosowy
B6: Szczegółowy podział zadania:
A8: Pozycje
A10: Nr | B10: Nazwa | C10: Opis | D10: Jednostka | E10: Ilość | F10: Cena netto | G10: Wartość netto | H10: VAT (%) | I10: Wartość brutto
A13: Cena brutto: | F13: Kwota VAT:
A14: cena brutto słownie:
A16: Termin wykonania:
A18: Okres gwarancji:
A20: Warunki płatności:
I26: podpis

Sheet Zadanie 32
B2: Zadanie nr: | C2: 32
A4: Temat: | C4: Opatrunki włókninowe Opatrunki foliowe wzmocnione włókniną
B6: Szczegółowy podział zadania:
A8: Pozycje
A10: Nr | B10: Nazwa | C10: Opis | D10: Jednostka | E10: Ilość | F10: Cena netto | G10: Wartość netto | H10: VAT (%) | I10: Wartość brutto
A13: Cena brutto: | F13: Kwota VAT:
A14: cena brutto słownie:
A16: Termin wykonania:
A18: Okres gwarancji:
A20: Warunki płatności:
I26: podpis

Sheet Zadanie 33
B2: Zadanie nr: | C2: 33
A4: Temat: | C4: Roztwory, żele do oczyszczania ran
B6: Szczegółowy podział zadania:
A8: Pozycje
A10: Nr | B10: Nazwa | C10: Opis | D10: Jednostka | E10: Ilość | F10: Cena netto | G10: Wartość netto | H10: VAT (%) | I10: Wartość brutto
A13: Cena brutto: | F13: Kwota VAT:
A14: cena brutto słownie:
A16: Termin wykonania:
A18: Okres gwarancji:
A20: Warunki płatności:
I26: podpis

Sheet Zadanie 34
B2: Zadanie nr: | C2: 34
A4: Temat: | C4: Przezroczyste opatrunki hydrożelowe, opatkunki
B6: Szczegółowy podział zadania:
A8: Pozycje
A10: Nr | B10: Nazwa | C10: Opis | D10: Jednostka | E10: Ilość | F10: Cena netto | G10: Wartość netto | H10: VAT (%) | I10: Wartość brutto
A13: Cena brutto: | F13: Kwota VAT:
A14: cena brutto słownie:
A16: Termin wykonania:
A18: Okres gwarancji:
A20: Warunki płatności:
I26: podpis

Sheet Zadanie 35
B2: Zadanie nr: | C2: 35
A4: Temat: | C4: Zestaw do ucisku tętnicy promieniowej Wymienne, jednorazowe kompresy uciskowe
B6: Szczegółowy podział zadania:
A8: Pozycje
A10: Nr | B10: Nazwa | C10: Opis | D10: Jednostka | E10: Ilość | F10: Cena netto | G10: Wartość netto | H10: VAT (%) | I10: Wartość brutto
A13: Cena brutto: | F13: Kwota VAT:
A14: cena brutto słownie:
A16: Termin wykonania:
A18: Okres gwarancji:
A20: Warunki płatności:
I26: podpis

Sheet Zadanie 36
B2: Zadanie nr: | C2: 36
A4: Temat: | C4: Kompresy celulozowe
B6: Szczegółowy podział zadania:
A8: Pozycje
A10: Nr | B10: Nazwa | C10: Opis | D10: Jednostka | E10: Ilość | F10: Cena netto | G10: Wartość netto | H10: VAT (%) | I10: Wartość brutto
A13: Cena brutto: | F13: Kwota VAT:
A14: cena brutto słownie:
A16: Termin wykonania:
A18: Okres gwarancji:
A20: Warunki płatności:
I26: podpis

Sheet Zadanie 37
B2: Zadanie nr: | C2: 37
A4: Temat: | C4: Opatrunek hydrożelowy z naturalnych i syntetycznych polimerów:
B6: Szczegółowy podział zadania:
A8: Pozycje
A10: Nr | B10: Nazwa | C10: Opis | D10: Jednostka | E10: Ilość | F10: Cena netto | G10: Wartość netto | H10: VAT (%) | I10: Wartość brutto
A13: Cena brutto: | F13: Kwota VAT:
A14: cena brutto słownie:
A16: Termin wykonania:
A18: Okres gwarancji:
A20: Warunki płatności:
I26: podpis

Sheet Zadanie 38
B2: Zadanie nr: | C2: 38
A4: Temat: | C4: Płyny, żele, opatrunki
B6: Szczegółowy podział zadania:
A8: Pozycje
A10: Nr | B10: Nazwa | C10: Opis | D10: Jednostka | E10: Ilość | F10: Cena netto | G10: Wartość netto | H10: VAT (%) | I10: Wartość brutto
A13: Cena brutto: | F13: Kwota VAT:
A14: cena brutto słownie:
A16: Termin wykonania:
A18: Okres gwarancji:
A20: Warunki płatności:
I26: podpis

Sheet Zadanie 39
B2: Zadanie nr: | C2: 39
A4: Temat: | C4: Profesionalna pianka do oczyszczania skóry
B6: Szczegółowy podział zadania:
A8: Pozycje
A10: Nr | B10: Nazwa | C10: Opis | D10: Jednostka | E10: Ilość | F10: Cena netto | G10: Wartość netto | H10: VAT (%) | I10: Wartość brutto
A13: Cena brutto: | F13: Kwota VAT:
A14: cena brutto słownie:
A16: Termin wykonania:
A18: Okres gwarancji:
A20: Warunki płatności:
I26: podpis

Sheet Zadanie 40
B2: Zadanie nr: | C2: 40
A4: Temat: | C4: Opatrunki absorpcyjne, piankowe, chirurgiczne
B6: Szczegółowy podział zadania:
A8: Pozycje
A10: Nr | B10: Nazwa | C10: Opis | D10: Jednostka | E10: Ilość | F10: Cena netto | G10: Wartość netto | H10: VAT (%) | I10: Wartość brutto
A13: Cena brutto: | F13: Kwota VAT:
A14: cena brutto słownie:
A16: Termin wykonania:
A18: Okres gwarancji:
A20: Warunki płatności:
I26: podpis

Sheet Zadanie 41
B2: Zadanie nr: | C2: 41
A4: Temat: | C4: Tampony donosowe
B6: Szczegółowy podział zadania:
A8: Pozycje
A10: Nr | B10: Nazwa | C10: Opis | D10: Jednostka | E10: Ilość | F10: Cena netto | G10: Wartość netto | H10: VAT (%) | I10: Wartość brutto
A13: Cena brutto: | F13: Kwota VAT:
A14: cena brutto słownie:
A16: Termin wykonania:
A18: Okres gwarancji:
A20: Warunki płatności:
I26: podpis

Sheet Zadanie 42
B2: Zadanie nr: | C2: 42
A4: Temat: | C4: Opatrunki różne
B6: Szczegółowy podział zadania:
A8: Pozycje
A10: Nr | B10: Nazwa | C10: Opis | D10: Jednostka | E10: Ilość | F10: Cena netto | G10: Wartość netto | H10: VAT (%) | I10: Wartość brutto
A13: Cena brutto: | F13: Kwota VAT:
A14: cena brutto słownie:
A16: Termin wykonania:
A18: Okres gwarancji:
A20: Warunki płatności:
I26: podpis
