Workbook
Name inflacja: #REF!

Sheet Formularz
A1: 136/2025 | I1: FORMULARZ CENOWY | Q1: ZAŁĄCZNIK NR 2 DO SWZ
A3: L.p. | B3: Nazwa substancji czynnej | C3: Postać | D3: Dawka | E3: Zawartość opakowania | F3: Ilość opakowań 24 miesiące | G3: J.m. | H3: Nazwa handlowa wycenionego leku, postać,dawka, ilość w opakowaniu | I3: Kod EAN lub inny kod odpowiadajacy kodowi EAN | J3: Cena jednostkowa netto | K3: % VAT | L3: Cena jednostkowa brutto | M3: Wartość netto | N3: Wartość brutto | O3: Wysokość limitu finansowania | P3: Uwagi | Q3: Ilość w prawie opcji +50% na okres 12 miesięcy | R3: Opcja netto | S3: Opcja brutto
A4: Zadanie 1 | C4: Momelotinibum
A5: 1 | B5: Momelotinibum | C5: tabl. powl. | D5: 100 mg | E5: 30 szt. | F5: 24 | G5: op. | K5: 0.08 | L5: =J5*(1+K5) -> 0 | M5: =F5*J5 -> 0 | N5: =M5*(1+K5) -> 0 | O5: 21541.93 | P5: B.81. | Q5: 12 | R5: =Q5*J5 -> 0 | S5: =R5*(1+K5) -> 0
A6: 2 | B6: Momelotinibum | C6: tabl. powl. | D6: 150 mg | E6: 30 szt. | F6: 24 | G6: op. | K6: 0.08 | L6: =J6*(1+K6) -> 0 | M6: =F6*J6 -> 0 | N6: =M6*(1+K6) -> 0 | O6: 21541.93 | P6: B.81. | Q6: 12 | R6: =Q6*J6 -> 0 | S6: =R6*(1+K6) -> 0
A7: 3 | B7: Momelotinibum | C7: tabl. powl. | D7: 200 mg | E7: 30 szt. | F7: 48 | G7: op. | K7: 0.08 | L7: =J7*(1+K7) -> 0 | M7: =F7*J7 -> 0 | N7: =M7*(1+K7) -> 0 | O7: 21541.93 | P7: B.81. | Q7: 24 | R7: =Q7*J7 -> 0 | S7: =R7*(1+K7) -> 0
B8: Zadanie 1 | C8: Razem | M8: =SUM(M5:M7) -> 0 | N8: =SUM(N5:N7) -> 0 | R8: =SUM(R5:R7) -> 0 | S8: =SUM(S5:S7) -> 0
A12: Zadanie 2 | C12: Infliximabum
A13: 1 | B13: Infliximabum | C13: roztwór do wstrzykiwań we wstrzykiwaczu | D13: 120 mg | E13: 2 wstrzyk. 1 ml | F13: 36 | G13: op. | K13: 0.08 | L13: =J13*(1+K13) -> 0 | M13: =F13*J13 -> 0 | N13: =M13*(1+K13) -> 0 | O13: 1428.72 | P13: <1>B.32.; <2>B.33.; <3>B.35.; <4>B.36.; <5>B.47.; <6>B.55. | Q13: 18 | R13: =Q13*J13 -> 0 | S13: =R13*(1+K13) -> 0
B14: Zadanie 2 | C14: Razem | M14: =SUM(M13) -> 0 | N14: =SUM(N13) -> 0 | R14: =SUM(R13) -> 0 | S14: =SUM(S13) -> 0
A17: Zadanie 3 | C17: Roxadustatum | H17: Umowa nie wcześniej niż 01.02.2026
A18: 1 | B18: Roxadustatum | C18: tabl. powl. | D18: 100 mg | E18: 12 szt. | F18: 100 | G18: op. | K18: 0.08 | L18: =J18*(1+K18) -> 0 | M18: =F18*J18 -> 0 | N18: =M18*(1+K18) -> 0 | O18: 1252.16 | P18: B.37. | Q18: 50 | R18: =Q18*J18 -> 0 | S18: =R18*(1+K18) -> 0
A19: 2 | B19: Roxadustatum | C19: tabl. powl. | D19: 150 mg | E19: 12 szt. | F19: 3 | G19: op. | K19: 0.08 | L19: =J19*(1+K19) -> 0 | M19: =F19*J19 -> 0 | N19: =M19*(1+K19) -> 0 | O19: 1878.25 | P19: B.37. | Q19: 1 | R19: =Q19*J19 -> 0 | S19: =R19*(1+K19) -> 0
A20: 3 | B20: Roxadustatum | C20: tabl. powl. | D20: 20 mg | E20: 12 szt. | F20: 4 | G20: op. | K20: 0.08 | L20: =J20*(1+K20) -> 0 | M20: =F20*J20 -> 0 | N20: =M20*(1+K20) -> 0 | O20: 250.43 | P20: B.37. | Q20: 2 | R20: =Q20*J20 -> 0 | S20: =R20*(1+K20) -> 0
A21: 4 | B21: Roxadustatum | C21: tabl. powl. | D21: 50 mg | E21: 12 szt. | F21: 10 | G21: op. | K21: 0.08 | L21: =J21*(1+K21) -> 0 | M21: =F21*J21 -> 0 | N21: =M21*(1+K21) -> 0 | O21: 626.08 | P21: B.37. | Q21: 5 | R21: =Q21*J21 -> 0 | S21: =R21*(1+K21) -> 0
A22: 5 | B22: Roxadustatum | C22: tabl. powl. | D22: 70 mg | E22: 12 szt. | F22: 100 | G22: op. | K22: 0.08 | L22: =J22*(1+K22) -> 0 | M22: =F22*J22 -> 0 | N22: =M22*(1+K22) -> 0 | O22: 876.5 | P22: B.37. | Q22: 50 | R22: =Q22*J22 -> 0 | S22: =R22*(1+K22) -> 0
B23: Zadanie 3 | C23: Razem | M23: =SUM(M18:M22) -> 0 | N23: =SUM(N18:N22) -> 0 | R23: =SUM(R18:R22) -> 0 | S23: =SUM(S18:S22) -> 0

Sheet B
A1: Obwieszczenie Ministra Zdrowia z dnia 17 czerwca 2025 r. w sprawie wykazu refundowanych leków, środków spożywczych specjalnego przeznaczenia żywieniowego oraz wyrobów medycznych na 1 października 2025 r.
A2: B. Leki i środki spożywcze specjalnego przeznaczenia żywieniowego dostępne w ramach programu lekowego
A3: LP | B3: Substancja czynna | C3: Nazwa postać i dawka leku | D3: Zawartość opakowania | E3: Numer GTIN lub inny kod jednoznacznie identyfikujący produkt | F3: Termin wejścia w życie decyzji | G3: Okres obowiązywania decyzji | H3: Grupa limitowa | I3: Cena zbytu netto | J3: Urzędowa cena zbytu | K3: Cena hurtowa brutto | L3: Wysokość limitu finansowania | M3: Oznaczenie załącznika zawierającego zakres wskazań objętych refundacją wg ICD 10 | N3: Poziom odpłatności | O3: Wysokość dopłaty świadczeniobiorcy
A4: 1 | B4: Abemaciclibum | C4: Verzenios, tabl. powl., 100 mg | D4: 70 szt. | E4: 05014602500986 | F4: 2025-04-01 | G4: 2 lata | H4: 1210.0, Abemacyklib | I4: 9138 | J4: 9869.04 | K4: 10461.18 | L4: 10461.18 | M4: B.9.FM. | N4: bezpłatny | O4: 0
A5: 2 | B5: Abemaciclibum | C5: Verzenios, tabl. powl., 150 mg | D5: 70 szt. | E5: 05014602500993 | F5: 2025-04-01 | G5: 2 lata | H5: 1210.0, Abemacyklib | I5: 9138 | J5: 9869.04 | K5: 10461.18 | L5: 10461.18 | M5: B.9.FM. | N5: bezpłatny | O5: 0
A6: 3 | B6: Abemaciclibum | C6: Verzenios, tabl. powl., 50 mg | D6: 70 szt. | E6: 05014602500979 | F6: 2025-04-01 | G6: 2 lata | H6: 1210.0, Abemacyklib | I6: 9138 | J6: 9869.04 | K6: 10461.18 | L6: 10461.18 | M6: B.9.FM. | N6: bezpłatny | O6: 0
A7: 4 | B7: Abrocitinibum | C7: Cibinqo, tabl. powl., 100 mg | D7: 28 szt. | E7: 05415062384565 | F7: 2025-10-01 | G7: 2 lata | H7: 1289.0, Abrocytynib | I7: 3511.15 | J7: 3792.04 | K7: 4019.57 | L7: 4019.57 | M7: B.124. | N7: bezpłatny | O7: 0
A8: 5 | B8: Abrocitinibum | C8: Cibinqo, tabl. powl., 200 mg | D8: 28 szt. | E8: 05415062384572 | F8: 2025-10-01 | G8: 2 lata | H8: 1289.0, Abrocytynib | I8: 4564.5 | J8: 4929.66 | K8: 5225.44 | L8: 5225.44 | M8: B.124. | N8: bezpłatny | O8: 0
A9: 6 | B9: Abrocitinibum | C9: Cibinqo, tabl. powl., 50 mg | D9: 28 szt. | E9: 05415062384558 | F9: 2025-10-01 | G9: 2 lata | H9: 1289.0, Abrocytynib | I9: 3511.15 | J9: 3792.04 | K9: 4019.57 | L9: 2009.79 | M9: B.124. | N9: bezpłatny | O9: 0
A10: 7 | B10: Acalabrutinibum | C10: Calquence, tabl. powl., 100 mg | D10: 60 szt. | E10: 05000456071116 | F10: 2025-04-01 | G10: 2 lata | H10: 1166.1, Inhibitory kinazy tyrozynowej Brutona - akalabrutynib | I10: 23000 | J10: 24840 | K10: 26330.4 | L10: 26330.4 | M10: B.79. | N10: bezpłatny | O10: 0
A11: 8 | B11: Acidum carglumicum | C11: Carbaglu, tabl. do sporządzania zawiesiny doustnej, 200 mg | D11: 60 szt. | E11: 03663502000373 | F11: 2025-10-01 | G11: 2 lata | H11: 1271.0, Kwas kargluminowy | I11: 11000 | J11: 11880 | K11: 12592.8 | L11: 12592.8 | M11: B.143. | N11: bezpłatny | O11: 0
A12: 9 | B12: Acidum carglumicum | C12: Ucedane, tabletki do sporządzania zawiesiny doustnej, 200 mg | D12: 60 szt. | E12: 08718858150847 | F12: 2023-11-01 | G12: 2 lata | H12: 1271.0, Kwas kargluminowy | I12: 12250 | J12: 13230 | K12: 14023.8 | L12: 14023.8 | M12: B.143. | N12: bezpłatny | O12: 0
A13: 10 | B13: Adalimumabum | C13: Amgevita, roztwór do wstrzykiwań, 20 mg | D13: 1 amp.-strzyk. 0,4 ml | E13: 08715131019761 | F13: 2024-04-01 | G13: 2 lata | H13: 1050.1, blokery TNF - adalimumab | I13: 418.57 | J13: 452.06 | K13: 479.17 | L13: 274.75 | M13: B.33. | N13: bezpłatny | O13: 0
A14: 11 | B14: Adalimumabum | C14: Amgevita, roztwór do wstrzykiwań, 40 mg | D14: 2 amp.-strzyk. 0,8 ml | E14: 08715131019808 | F14: <1><2><3><4>2024-04-01 | G14: <1><2><3><4>2 lata | H14: 1050.1, blokery TNF - adalimumab | I14: 1674.28 | J14: 1808.22 | K14: 1916.72 | L14: 1099.01 | M14: <1>B.32.; <2>B.33.; <3>B.35.; <4>B.36. | N14: bezpłatny | O14: 0
A15: 12 | B15: Adalimumabum | C15: Hyrimoz, roztwór do wstrzykiwań, 20 mg | D15: 2 amp.-strz. 0,2 ml | E15: 07613421130657 | F15: 2025-10-01 | G15: <1>2 lata/<2>3 lata | H15: 1050.1, blokery TNF - adalimumab | I15: 480 | J15: 518.4 | K15: 549.5 | L15: 549.5 | M15: <1>B.32.; B.33.; B.35.; B.36.; B.47.;<2>B.105. | N15: bezpłatny | O15: 0
... A238: 235 | B238: Factor IX coagulationis humanus | C238: Immunine 600 IU, proszek i rozpuszczalnik do sporządzania roztworu do wstrzykiwań, 600 j.m. | D238: 1 zestaw: fiol. proszku + fiol. rozp. + zestaw do przenoszenia lub filtrowania + strzykawka + igła + zestaw do infuzji | E238: 05909990643110 | F238: 2025-07-01 | G238: 3 lata | H238: 1091.2, Factor IX coagulationis humanus | I238: 840 | J238: 907.2 | K238: 961.63 | L238: 961.63 | M238: B.15. | N238: bezpłatny | O238: 0
A239: 236 | B239: Factor IX coagulationis humanus | C239: Octanine F 1000, proszek i rozpuszczalnik do sporządzenia roztworu do wstrzykiwań, 1000 j.m. | D239: 1 fiol. | E239: 05909990799374 | F239: 2025-07-01 | G239: 3 lata | H239: 1091.2, Factor IX coagulationis humanus | I239: 1710 | J239: 1846.8 | K239: 1957.61 | L239: 1602.72 | M239: B.15. | N239: bezpłatny | O239: 0 | P239: =140*120 -> 16800 | Q239: =SZPL[[#This Row],[Wysokość limitu finansowania]]/P239 -> 0.0954
A240: 237 | B240: Factor IX coagulationis humanus | C240: Octanine F 500, proszek i rozpuszczalnik do sporządzenia roztworu do wstrzykiwań, 500 j.m. | D240: 1 fiol. | E240: 05909990799367 | F240: 2025-07-01 | G240: 3 lata | H240: 1091.2, Factor IX coagulationis humanus | I240: 855 | J240: 923.4 | K240: 978.8 | L240: 801.36 | M240: B.15. | N240: bezpłatny | O240: 0 | P240: =140*30 -> 4200 | Q240: =SZPL[[#This Row],[Wysokość limitu finansowania]]/P240 -> 0.1908
A241: 238 | B241: Factor VIII coagulationis humanus | C241: Beriate 1000, proszek i rozpuszczalnik do sporządzania roztworu do wstrzykiwań lub infuzji, 1000 j.m. | D241: 1 fiol.z prosz. + 1 fiol.z rozp.po 10 ml | E241: 05909991213695 | F241: 2022-11-01 | G241: 3 lata | H241: 1090.2, Factor VIII coagulationis humanus | I241: 1710 | J241: 1846.8 | K241: 1957.61 | L241: 1442.44 | M241: B.15. | N241: bezpłatny | O241: 0 | P241: =140*90 -> 12600 | Q241: =SZPL[[#This Row],[Wysokość limitu finansowania]]/P241 -> 0.11447937
A242: 239 | B242: Factor VIII coagulationis humanus | C242: Beriate 500, proszek i rozpuszczalnik do sporządzania roztworu do wstrzykiwań lub infuzji, 500 j.m. | D242: 1 fiol.z prosz. + 1 fiol.z rozp.po 5 ml | E242: 05909991213688 | F242: 2022-11-01 | G242: 3 lata | H242: 1090.2, Factor VIII coagulationis humanus | I242: 855 | J242: 923.4 | K242: 978.8 | L242: 721.22 | M242: B.15. | N242: bezpłatny | O242: 0 | P242: =280*30 -> 8400 | Q242: =SZPL[[#This Row],[Wysokość limitu finansowania]]/P242 -> 0.085859524
A243: 240 | B243: Factor VIII coagulationis humanus | C243: Immunate 1000 IU FVIII/750 IU VWF, proszek i rozpuszczalnik do sporządzania roztworu do wstrzykiwań, 1000 j.m./fiol. | D243: 1 fiol. proszku + 1 fiol. rozp. + zestaw infuzyjny | E243: 05909990573615 | F243: 2025-07-01 | G243: 3 lata | H243: 1090.2, Factor VIII coagulationis humanus | I243: 1260 | J243: 1360.8 | K243: 1442.45 | L243: 1442.44 | M243: B.15. | N243: bezpłatny | O243: 0 | P243: =420*30 -> 12600 | Q243: =SZPL[[#This Row],[Wysokość limitu finansowania]]/P243 -> 0.11447937
A244: 241 | B244: Factor VIII coagulationis humanus | C244: Immunate 250 IU FVIII/190 IU VWF, proszek i rozpuszczalnik do sporządzania roztworu do wstrzykiwań, 250 j.m./fiol. | D244: 1 fiol. proszku + 1 fiol. rozp. + zestaw infuzyjny | E244: 05909990573554 | F244: 2025-07-01 | G244: 3 lata | H244: 1090.2, Factor VIII coagulationis humanus | I244: 315 | J244: 340.2 | K244: 360.61 | L244: 360.61 | M244: B.15. | N244: bezpłatny | O244: 0 | P244: =560*30 -> 16800 | Q244: =SZPL[[#This Row],[Wysokość limitu finansowania]]/P244 -> 0.021464881
A245: 242 | B245: Factor VIII coagulationis humanus | C245: Immunate 500 IU FVIII/375 IU VWF, proszek i rozpuszczalnik do sporządzania roztworu do wstrzykiwań, 500 j.m./fiol. | D245: 1 fiol. proszku + 1 fiol. rozp. + zestaw infuzyjny | E245: 05909990573561 | F245: 2025-07-01 | G245: 3 lata | H245: 1090.2, Factor VIII coagulationis humanus | I245: 630 | J245: 680.4 | K245: 721.22 | L245: 721.22 | M245: B.15. | N245: bezpłatny | O245: 0
A246: 243 | B246: Factor VIII coagulationis humanus | C246: Octanate, proszek i rozpuszczalnik do sporządzenia roztworu do wstrzykiwań, 1000 j.m. | D246: 1 fiol. + zestaw do sporządzania roztworu i podania | E246: 05909990825349 | F246: 2025-07-01 | G246: 3 lata | H246: 1090.2, Factor VIII coagulationis humanus | I246: 1710 | J246: 1846.8 | K246: 1957.61 | L246: 1442.44 | M246: B.15. | N246: bezpłatny | O246: 0
A247: 244 | B247: Factor VIII coagulationis humanus | C247: Octanate, proszek i rozpuszczalnik do sporządzenia roztworu do wstrzykiwań, 250 j.m. | D247: 1 fiol. + zestaw do sporządzania roztworu i podania | E247: 05909990825301 | F247: 2025-07-01 | G247: 3 lata | H247: 1090.2, Factor VIII coagulationis humanus | I247: 427.5 | J247: 461.7 | K247: 489.4 | L247: 360.61 | M247: B.15. | N247: bezpłatny | O247: 0
A248: 245 | B248: Factor VIII coagulationis humanus | C248: Octanate, proszek i rozpuszczalnik do sporządzenia roztworu do wstrzykiwań, 500 j.m. | D248: 1 fiol. + zestaw do sporządzania roztworu i podania | E248: 05909990825332 | F248: 2025-07-01 | G248: 3 lata | H248: 1090.2, Factor VIII coagulationis humanus | I248: 855 | J248: 923.4 | K248: 978.8 | L248: 721.22 | M248: B.15. | N248: bezpłatny | O248: 0
A249: 246 | B249: Farycymab | C249: Vabysmo, roztwór do wstrzykiwań, 120 mg/ml | D249: 1 fiol. 0,24 ml + 1 igła | E249: 07613326050708 | F249: 2024-01-01 | G249: 2 lata | H249: 1293.0, Farycymab | I249: 3098.33 | J249: 3346.2 | K249: 3546.97 | L249: 3546.97 | M249: B.70. | N249: bezpłatny | O249: 0
A250: 247 | B250: Fedratinibum | C250: Inrebic, kaps. twarde, 100 mg | D250: 120 szt. | E250: 07640133688596 | F250: 2024-07-01 | G250: 2 lata | H250: 1247.0, Fedratynib | I250: 18817.2 | J250: 20322.58 | K250: 21541.93 | L250: 21541.93 | M250: B.81. | N250: bezpłatny | O250: 0
A251: 248 | B251: Fenfluraminum | C251: Fintepla, roztwór doustny, 2,2 mg/ml | D251: 120 ml | E251: 05413787222018 | F251: 2025-01-01 | G251: 2 lata | H251: 1313.0, Fenfluramina | I251: 4167.41 | J251: 4500.8 | K251: 4770.85 | L251: 4770.85 | M251: B.154.FM. | N251: bezpłatny | O251: 0
A252: 249 | B252: Filgotinibum | C252: Jyseleca, tabl. powl., 200 mg | D252: 30 szt. | E252: 05430002329178 | F252: 2025-04-01 | G252: 2 lata | H252: 1276.0, Filgotynib | I252: 2700 | J252: 2916 | K252: 3090.96 | L252: 3090.96 | M252: <1>B.33.; <2>B.55. | N252: bezpłatny | O252: 0
A253: 250 | B253: Filgotinibum | C253: Jyseleca, tabl. powl., 200 mg | D253: 30 szt. | E253: 08020030001428 | F253: 2025-04-01 | G253: 2 lata | H253: 1276.0, Filgotynib | I253: 2700 | J253: 2916 | K253: 3090.96 | L253: 3090.96 | M253: <1>B.33.; <2>B.55. | N253: bezpłatny | O253: 0
A254: 251 | B254: Fingolimodum | C254: Chantico, kaps. twarde, 0,5 mg | D254: 28 szt. | E254: 09008732012316 | F254: 2025-07-01 | G254: 2 lata | H254: 1105.0, Fingolimod | I254: 2500 | J254: 2700 | K254: 2862 | L254: 2862 | M254: B.29. | N254: bezpłatny | O254: 0
A255: 252 | B255: Fingolimodum | C255: Efigalo, kaps. twarde, 0,5 mg | D255: 28 szt. | E255: 03838989774172 | F255: 2025-07-01 | G255: 2 lata | H255: 1105.0, Fingolimod | I255: 2000 | J255: 2160 | K255: 2289.6 | L255: 2289.6 | M255: B.29. | N255: bezpłatny | O255: 0
A256: 253 | B256: Fingolimodum | C256: Fingolimod Adamed, kaps. twarde, 0,5 mg | D256: 28 szt. | E256: 05900411007078 | F256: 2025-10-01 | G256: 2 lata | H256: 1105.0, Fingolimod | I256: 2000 | J256: 2160 | K256: 2289.6 | L256: 2289.6 | M256: B.29. | N256: bezpłatny | O256: 0
... A429: 426 | B429: Nusinersenum | C429: Spinraza, roztwór do wstrzykiwań, 12 mg | D429: 1 fiol. 5 ml | E429: 05713219500975 | F429: 2023-01-01 | G429: 3 lata | H429: 1185.0, Nusinersen | I429: 301000 | J429: 325080 | K429: 327240 | L429: 327240 | M429: B.102.FM. | N429: bezpłatny | O429: 0
A430: 427 | B430: Obinutuzumabum | C430: Gazyvaro, koncentrat do sporządzania roztworu do infuzji, 1000 mg | D430: 1 fiol.po 40 ml | E430: 05902768001105 | F430: <1>2024-10-01/<2>2024-07-01 | G430: 2 lata | H430: 1148.0, Obinutuzumab | I430: 9700 | J430: 10476 | K430: 11104.56 | L430: 11104.56 | M430: <1>B.12.FM.; <2>B.79. | N430: bezpłatny | O430: 0 | Q430: =0.23*4+3*0.46 -> 2.3 | R430: =SZPL[[#This Row],[Cena zbytu netto]]/Q430 -> 4217.3913
A431: 428 | B431: Ocrelizumabum | C431: Ocrevus, koncentrat do sporządzania roztworu do infuzji, 30 mg/ml | D431: 1 fiol.po 10 ml | E431: 05902768001174 | F431: 2025-01-01 | G431: 2 lata | H431: 1201.0, Okrelizumab | I431: 20833 | J431: 22499.64 | K431: 23849.62 | L431: 23849.62 | M431: B.29. | N431: bezpłatny | O431: 0 | Q431: =28*0.92 -> 25.76 | R431: =SZPL[[#This Row],[Cena zbytu netto]]/Q431 -> 808.73447
A432: 429 | B432: Ocrelizumabum | C432: Ocrevus, roztwór do wstrzykiwań, 40 mg/ml | D432: 1 fiol. 23 ml | E432: 07613326075824 | F432: 2025-07-01 | G432: 2 lata | H432: 1201.0, Okrelizumab | I432: 41666 | J432: 44999.28 | K432: 47159.28 | L432: 47159.28 | M432: B.29. | N432: bezpłatny | O432: 0
A433: 430 | B433: Octocogum alfa | C433: Advate, proszek i rozpuszczalnik do sporządzania roztworu do wstrzykiwań, 1000 j.m. | D433: 1 fiol.z prosz. + 1 fiol.z rozp.po 5 ml | E433: 05909990224340 | F433: 2024-07-01 | G433: 3 lata | H433: 1090.1, Factor VIII coagulationis humanus recombinate | I433: 2470 | J433: 2667.6 | K433: 2827.66 | L433: 2472.76 | M433: B.15. | N433: bezpłatny | O433: 0
A434: 431 | B434: Octocogum alfa | C434: Advate, proszek i rozpuszczalnik do sporządzania roztworu do wstrzykiwań, 1500 j.m. | D434: 1 fiol. z proszkiem + 1 fiol. z rozpuszczalnikiem po 5 ml | E434: 05909990224357 | F434: 2024-01-01 | G434: 3 lata | H434: 1090.1, Factor VIII coagulationis humanus recombinate | I434: 3705 | J434: 4001.4 | K434: 4241.48 | L434: 3709.14 | M434: B.15. | N434: bezpłatny | O434: 0
A435: 432 | B435: Octocogum alfa | C435: Advate, proszek i rozpuszczalnik do sporządzania roztworu do wstrzykiwań, 2000 j.m. | D435: 1 fiol. z proszkiem + 1 fiol. z rozpuszczalnikiem po 5 ml | E435: 05909990697441 | F435: 2024-01-01 | G435: 3 lata | H435: 1090.1, Factor VIII coagulationis humanus recombinate | I435: 4940 | J435: 5335.2 | K435: 5655.31 | L435: 4945.52 | M435: B.15. | N435: bezpłatny | O435: 0
A436: 433 | B436: Octocogum alfa | C436: Advate, proszek i rozpuszczalnik do sporządzania roztworu do wstrzykiwań, 250 j.m. | D436: 1 fiol. z proszkiem + 1 fiol. z rozpuszczalnikiem po 5 ml | E436: 05909990224302 | F436: 2024-01-01 | G436: 3 lata | H436: 1090.1, Factor VIII coagulationis humanus recombinate | I436: 617.5 | J436: 666.9 | K436: 706.91 | L436: 618.19 | M436: B.15. | N436: bezpłatny | O436: 0
A437: 434 | B437: Octocogum alfa | C437: Advate, proszek i rozpuszczalnik do sporządzania roztworu do wstrzykiwań, 3000 j.m. | D437: 1 fiol. z proszkiem + 1 fiol. z rozpuszczalnikiem po 5 ml | E437: 05909990697458 | F437: 2024-01-01 | G437: 3 lata | H437: 1090.1, Factor VIII coagulationis humanus recombinate | I437: 7410 | J437: 8002.8 | K437: 8482.97 | L437: 7418.28 | M437: B.15. | N437: bezpłatny | O437: 0
A438: 435 | B438: Octocogum alfa | C438: Advate, proszek i rozpuszczalnik do sporządzania roztworu do wstrzykiwań, 500 j.m. | D438: 1 fiol. z proszkiem + 1 fiol. z rozpuszczalnikiem po 5 ml | E438: 05909990224333 | F438: 2024-01-01 | G438: 3 lata | H438: 1090.1, Factor VIII coagulationis humanus recombinate | I438: 1235 | J438: 1333.8 | K438: 1413.83 | L438: 1236.38 | M438: B.15. | N438: bezpłatny | O438: 0
A439: 436 | B439: Odevixibatum | C439: Bylvay, kaps. twarde, 1200 µg | D439: 30 szt. | E439: 09120121720043 | F439: 2024-01-01 | G439: 2 lata | H439: 1292.0, Odewiksybat | I439: 61258.68 | J439: 66159.37 | K439: 68319.37 | L439: 68319.37 | M439: B.152.FM. | N439: bezpłatny | O439: 0
A440: 437 | B440: Odevixibatum | C440: Bylvay, kaps. twarde, 200 µg | D440: 30 szt. | E440: 09120121720012 | F440: 2024-01-01 | G440: 2 lata | H440: 1292.0, Odewiksybat | I440: 10209.78 | J440: 11026.56 | K440: 11688.16 | L440: 11688.16 | M440: B.152.FM. | N440: bezpłatny | O440: 0
A441: 438 | B441: Odevixibatum | C441: Bylvay, kaps. twarde, 400 µg | D441: 30 szt. | E441: 09120121720029 | F441: 2024-01-01 | G441: 2 lata | H441: 1292.0, Odewiksybat | I441: 20419.56 | J441: 22053.12 | K441: 23376.31 | L441: 23376.31 | M441: B.152.FM. | N441: bezpłatny | O441: 0
A442: 439 | B442: Odevixibatum | C442: Bylvay, kaps. twarde, 600 µg | D442: 30 szt. | E442: 09120121720036 | F442: 2024-01-01 | G442: 2 lata | H442: 1292.0, Odewiksybat | I442: 30629.34 | J442: 33079.69 | K442: 35064.47 | L442: 35064.47 | M442: B.152.FM. | N442: bezpłatny | O442: 0
A443: 440 | B443: Ofatumumabum | C443: Kesimpta, roztwór do wstrzykiwań we wstrzykiwaczu, 20 mg | D443: 1 wstrz. | E443: 07613421040123 | F443: 2025-01-01 | G443: 2 lata | H443: 1257.0, Ofatumumab | I443: 5553.35 | J443: 5997.62 | K443: 6357.47 | L443: 6357.47 | M443: B.29. | N443: bezpłatny | O443: 0
... A735: 732 | B735: Zanubrutinibum | C735: Brukinsa, kaps. twarde, 80 mg | D735: 120 szt. | E735: 08720598340112 | F735: <1>2025-01-01/<2>2024-01-01/<3>2025-07-01 | G735: 2 lata | H735: 1166.2, Inhibitory kinazy tyrozynowej Brutona - zanubrutynib | I735: 21455 | J735: 23171.4 | K735: 24561.68 | L735: 24561.68 | M735: <1>B.12.FM.;<2>B.79.; <3>B.146. | N735: bezpłatny | O735: 0

Sheet Szacunek
A1: Nr zadania | B1: Wartość zamówienia podstawowego netto | C1: Wartość zamówienia podstawowego brutto | D1: Opcja netto | E1: Opcja brutto | F1: Euro netto (4,6371 zł) | G1: Wartość na realizację netto | H1: Wartość na realizację brutto
A2: Zadanie 1 | B2: =VLOOKUP(Tabela13[[#This Row],[Nr zadania]],Formularz!$B:$T,12,0) -> 0 | C2: =VLOOKUP(Tabela13[[#This Row],[Nr zadania]],Formularz!$B:$T,13,0) -> 0 | D2: =VLOOKUP(Tabela13[[#This Row],[Nr zadania]],Formularz!$B:$T,17,0) -> 0 | E2: =VLOOKUP(Tabela13[[#This Row],[Nr zadania]],Formularz!$B:$T,18,0) -> 0 | F2: =Tabela13[[#This Row],[Wartość zamówienia podstawowego netto]]/4.6371 -> 0 | G2: =Tabela13[[#This Row],[Wartość na realizację brutto]]/1.08 -> 0 | H2: =VLOOKUP(Tabela13[[#This Row],[Nr zadania]],Formularz!$B:$T,19,0) -> 0
A3: Zadanie 2 | B3: =VLOOKUP(Tabela13[[#This Row],[Nr zadania]],Formularz!$B:$T,12,0) -> 0 | C3: =VLOOKUP(Tabela13[[#This Row],[Nr zadania]],Formularz!$B:$T,13,0) -> 0 | D3: =VLOOKUP(Tabela13[[#This Row],[Nr zadania]],Formularz!$B:$T,17,0) -> 0 | E3: =VLOOKUP(Tabela13[[#This Row],[Nr zadania]],Formularz!$B:$T,18,0) -> 0 | F3: =Tabela13[[#This Row],[Wartość zamówienia podstawowego netto]]/4.6371 -> 0 | G3: =Tabela13[[#This Row],[Wartość na realizację brutto]]/1.08 -> 0 | H3: =VLOOKUP(Tabela13[[#This Row],[Nr zadania]],Formularz!$B:$T,19,0) -> 0
A4: SUMA | B4: =SUBTOTAL(109,[Wartość zamówienia podstawowego netto]) -> 0 | C4: =SUBTOTAL(109,[Wartość zamówienia podstawowego brutto]) -> 0 | D4: =SUBTOTAL(109,[Opcja netto]) -> 0 | E4: =SUBTOTAL(109,[Opcja brutto]) -> 0 | F4: =SUBTOTAL(109,[Euro netto (4,6371 zł)]) -> 0 | G4: =SUM([Wartość na realizację netto]) -> 0 | H4: =SUM([Wartość na realizację brutto]) -> 0
