Workbook
Name Print_Area: 'Część nr 1'!$A$1:$K$14
Name Print_Area: 'Część nr 2'!$A$1:$K$15
Name Print_Area: 'Część nr 3'!$A$1:$K$14
Name Print_Area: 'Załącznik nr 1 do SWZ'!$A$1:$H$49

Sheet Załącznik nr 1 do SWZ
B3: Numer postępowania | C3: ZP-271-56/21
B5: Przedmiot: | C5: Okresowe przeglądy techniczne aparatury i sprzętu medycznego
B7: Nazwa Wykonawcy:
B9: Ulica: | D9: Nr domu: | F9: Nr lokalu
B10: Miejscowość | E10: Kod pocztowy:
B11: Województwo
B12: NIP: | E12: e-mail
B13: REGON: | E13: Telefon
B14: KRS (jeśli dotyczy):
B15: BDO (jeśli dotyczy):
C17: Wykonawca, którego reprezentuję/reprezentujemy* jest :
C18: □ mikroprzedsiębiorstwem
C19: □ małym przedsiębiorstwem
C20: □ średnim przedsiębiorstwem
C21: □ jednoosobową działalnością gospodarczą
C22: □ osobą fizyczną nieprowadzącą działalności gospodarczej
C23: □ innym podmiotem
C24: * niepotrzebne skreślić
B26: Nazwa banku oraz numer rachunku bankowego do realizacji przedmiotu umowy:
B27: Nazwa Banku | D27: Numer rachunku:
B29: Składamy ofertę na następujące części:
B31: Numer części: | C31: Temat: | D31: Cena brutto:
B32: 1 | C32: ='Część nr 1'!$C$4 -> System do radiografii próbek biopsyjnych
B33: 2 | C33: ='Część nr 2'!$C$4 -> Detektory promieniowania gamma
B34: 3 | C34: ='Część nr 3'!$C$4 -> Komory manipulacyjne
B35: 4 | C35: ='Część nr 4'!$C$4 -> Aparat do znieczulania Taema
B36: 5 | C36: ='Część nr 5'!$C$4 -> Zestawy endoskopowe Karl Storz
B37: 6 | C37: ='Część nr 6'!$C$4 -> Myjnia dezynfektor do kaczek i basenów Franke
B38: 7 | C38: ='Część nr 7'!$C$4 -> Morcelator Richard Wolf
B39: 8 | C39: ='Część nr 8'!$C$4 -> Pipety
B40: 9 | C40: Nóż harmoniczny
B41: 10 | C41: Łóżka intensywnej opieki medycznej
B42: 11 | C42: Laser do udrażniania światła oskrzeli
B43: 12 | C43: System transportu pacjenta
B44: 13 | C44: ='Część nr 13'!C4:K4 -> Detektor promieniowania gamma laparoskopowy
B45: 14 | C45: ='Część nr 14'!C4:K4 -> System obrazowania VS3 Iridium
B46: 15 | C46: ='Część nr 15'!C4:K4 -> Robotyczny pozycjoner optyki
B47: 16 | C47: ='Część nr 16'!C4:K4 -> Stół operacyjny Saturn Select
B50: Jeśli wybór oferty będzie prowadzić do powstania u Zamawiającego obowiązku podatkowego zgodnie z przepisami o podatku od towarów i usług Wykonawca winien poinformować o tym Zamawiającego np. poprzez wpisanie w kolumnie "Kwota VAT" wyrażenia "po stronie Zamawiającego" lub inny tekst jednoznacznie wskazujący, że obowiązek podatkowy będzie po stronie Zamawiającego.
B51: Zamierzam powierzyć część zamówienia Podwykonawcy: nazwa lub firma Podwykonawcy, część zamówienia, która zostanie powierzona podwykonawcy* (*niepotrzebne skreślić)…………………………. ……………………………………………………………………………………………………….. / Nie zamierzam powierzyć część zamówienia Podwykonawcy* (*niepotrzebne skreślić).
...

Sheet Część nr 1
B2: Część | C2: 1
A4: Temat: | C4: System do radiografii próbek biopsyjnych
A8: Nr | B8: Nazwa/ Model | C8: Nr seryjny | D8: Rok produkcji | E8: Przegląd do | F8: Cena netto | G8: Stawka podatku VAT | H8: Cena brutto
A9: 1 | B9: Xpert 20 | C9: 1520-075-405 | D9: 2017 | E9: 44533
B10: Przegląd zgodny z wymaganiami producenta obejmujący min. czyszczenie, sprawdzenie bezpieczeństwa mechanicznego i elektrycznego, kontrolę zużycia części i wyposażenia, sprawdzenie poprawności ogólnego funkcjonowania aparatu, kalibrację i testy kontrolne, sprawdzenie zgodności parametrów funkcjonalnych urządzenia z deklarowanymi przez producenta, sprawdzenie poprawności działania zgodnie z normami bezpieczeństwa zalecanymi przez producenta, konserwację zgodnie z zaleceniami producenta, testy bezpieczeństwa elektrycznego. Koszt przeglądu obejmuje koszty dojazdu. | G10: TAK
B11: Przegląd zostanie udokumentowany kartą pracy/raportem serwisowym, oraz wpisem do paszportu technicznego, a wyniki testu bezpieczeństwa elektrycznego na oddzielnym protokole. Aparat zostanie oznakowany nalepką z terminem wykonania kolejnego przeglądu. | G11: TAK
A14: Cena brutto: | F14: Kwota VAT:

Sheet Część nr 2
B2: Część | C2: 2
A4: Temat: | C4: Detektory promieniowania gamma
A8: Nr | B8: Nazwa/ Model | C8: Nr seryjny | D8: Rok produkcji | E8: Przegląd do | F8: Cena netto | G8: Stawka podatku VAT | H8: Cena brutto
A9: 1 | B9: GammaFinder II | C9: 040106 | D9: 2010 | E9: 44574
A10: 2 | B10: GammaFinder II | C10: 020758 | D10: 2008 | E10: 44622
A11: 3 | B11: GammaFinder II | C11: 040413 | D11: 2014 | E11: 44762
B12: Przegląd zgodny z wymaganiami producenta obejmujący min. czyszczenie, kalibrację i testy kontrolne, sprawdzenie zgodności parametrów funkcjonalnych urządzeń z deklarowanymi przez producenta, sprawdzenie poprawności działania zgodnie z normami bezpieczeństwa zalecanymi przez producenta, konserwację zgodnie z zaleceniami producenta, wymianę baterii. | G12: TAK
B13: Poszczególne przeglądy zostaną udokumentowane kartą pracy/raportem serwisowym, oraz wpisem do paszportu technicznego. Aparaty zostaną oznakowane nalepką z terminem wykonania kolejnego przeglądu. Koszt przeglądu obejmuje koszty dojazdu lub wysyłki. W przypadku wysyłki Wykonawca ponosi pełną odpowiedzialność za przewożony sprzęt. | G13: TAK
A15: Cena brutto razem: | F15: Kwota VAT:

Sheet Część nr 3
B2: Część | C2: 3
A4: Temat: | C4: Komory manipulacyjne
A8: Nr | B8: Nazwa/ Model | C8: Nr seryjny | D8: Rok produkcji | E8: Przegląd do | F8: Cena netto | G8: Stawka podatku VAT | H8: Cena brutto
A9: 1 | B9: NMC 50 DSI | C9: 9443 | D9: 2012 | E9: 14 dni od podpisania umowy
A10: 2 | B10: NMC 50 1/30-20VF | C10: 6230 | D10: 2008 | E10: 14 dni od podpisania umowy
B11: Przegląd zgodny z wymaganiami producenta obejmujący min. czyszczenie, sprawdzenie bezpieczeństwa mechanicznego i elektrycznego, sprawdzenie prawidłowego otwierania i zamykania szklanej pokrywy frontowej, prawidłowego ruchu osłony ze szkła ołowiowego, systemu wentylacji i systemu filtrów, systemu oświetlenia i UV, systemu podnośników, kontrolę zużycia części i wyposażenia, sprawdzenie poprawności ogólnego funkcjonowania aparatu, kalibrację i testy kontrolne, sprawdzenie zgodności parametrów funkcjonalnych urządzeń z deklarowanymi przez producenta, sprawdzenie poprawności działania zgodnie z normami bezpieczeństwa zalecanymi przez producenta, konserwację zgodnie z zaleceniami producenta, sprawdzenie bezpieczeństwa elektrycznego w niezbędnym zakresie. Koszt przeglądu obejmuje również sprawdzenie mierników dawki Curiementor obejmujące kontrolę przewodów sygnałowych i przycisków, sprawdzenie zerowania i pomiaru tła, sprawdzenie działania źródłem kontrolnym dostarczonym przez użytkownika. Koszt przeglądu obejmuje koszty dojazdu. | G11: TAK
B12: Poszczególne przeglądy zostaną udokumentowane kartą pracy/raportem serwisowym, oraz wpisem do paszportu technicznego. Aparaty zostaną oznakowane nalepką z terminem wykonania kolejnego przeglądu. | G12: TAK
A14: Cena brutto razem: | F14: Kwota VAT:

Sheet Część nr 4
B2: Część | C2: 4
A4: Temat: | C4: Aparat do znieczulania Taema
A8: Nr | B8: Nazwa/ Model | C8: Nr seryjny | D8: Rok produkcji | E8: Przegląd do | F8: Cena netto | G8: Stawka podatku VAT | H8: Cena brutto
A9: 1 | B9: Clarys 2000 | C9: C1587 | D9: 2007 | E9: 14 dni od podpisania umowy
B10: Przegląd zgodny z wymaganiami producenta obejmujący min. czyszczenie, sprawdzenie bezpieczeństwa mechanicznego i elektrycznego, kontrolę zużycia części i wyposażenia, sprawdzenie poprawności ogólnego funkcjonowania aparatu, kalibrację i testy kontrolne, sprawdzenie zgodności parametrów funkcjonalnych aparatu z deklarowanymi przez producenta, sprawdzenie poprawności działania zgodnie z normami bezpieczeństwa zalecanymi przez producenta, konserwację zgodnie z zaleceniami producenta, testy bezpieczeństwa elektrycznego. Przegląd obejmuje min. wymianę czujnika tlenu. Koszt przeglądu obejmuje koszty dojazdu. | G10: TAK
B11: Przegląd zostanie udokumentowany kartą pracy/raportem serwisowym, oraz wpisem do paszportu technicznego, a wyniki testu bezpieczeństwa elektrycznego na oddzielnym protokole. Aparat zostanie oznakowany nalepką z terminem wykonania kolejnego przeglądu. | G11: TAK
A13: Cena brutto: | F13: Kwota VAT:

Sheet Część nr 5
B2: Część | C2: 5
A4: Temat: | C4: Zestawy endoskopowe Karl Storz
A8: Nr | B8: Nazwa/ Model | C8: Nr seryjny | D8: Rok produkcji | E8: Przegląd do | F8: Cena netto | G8: Stawka podatku VAT | H8: Cena brutto
A9: 1 | B9: Image1 S | C9: XS01524 | D9: 2017 | E9: 14 dni od podpisania umowy
A10: 2 | B10: Telepack X/ Telecam DX II | C10: 20045020/ VV836914-H | D10: 2014 | E10: 14 dni od podpisania umowy
B11: Przegląd zgodny z wymaganiami producenta obejmujący min. czyszczenie, sprawdzenie bezpieczeństwa mechanicznego i elektrycznego, kontrolę zużycia części i wyposażenia, sprawdzenie poprawności ogólnego funkcjonowania aparatu, kalibrację i testy kontrolne, sprawdzenie zgodności parametrów funkcjonalnych urządzeń z deklarowanymi przez producenta, sprawdzenie poprawności działania zgodnie z normami bezpieczeństwa zalecanymi przez producenta, konserwację zgodnie z zaleceniami producenta, testy bezpieczeństwa elektrycznego. Wykonawca w ramach przeglądu zobowiązuje się do przygotowania bieżących zaleceń eksploatacyjnych związanych ze stanem aparatów, instrumentów oraz ich dalszym użytkowaniem. Wykonawca zobowiązuje się do wykonania ekspertyz technicznych związanych z wykrytymi usterkami oraz kosztorysu naprawy. Koszt przeglądu obejmuje koszty dojazdu. | G11: TAK
B12: Poszczególne przeglądy zostaną udokumentowane kartą pracy/raportem serwisowym, oraz wpisem do paszportu technicznego, a wyniki testu bezpieczeństwa elektrycznego na oddzielnym protokole. Aparaty zostaną oznakowane nalepką z terminem wykonania kolejnego przeglądu. | G12: TAK
A14: Cena brutto razem: | F14: Kwota VAT:

Sheet Część nr 6
B2: Część | C2: 6
A4: Temat: | C4: Myjnia dezynfektor do kaczek i basenów Franke
A8: Nr | B8: Nazwa/ Model | C8: Nr seryjny | D8: Rok produkcji | E8: Przegląd do | F8: Cena netto | G8: Stawka podatku VAT | H8: Cena brutto
A9: 1 | B9: DEKO 190 | C9: 0847V180.PL01 | D9: 2008 | E9: 14 dni od podpisania umowy
B10: Przegląd zgodny z wymaganiami producenta obejmujący min. czyszczenie, sprawdzenie bezpieczeństwa mechanicznego i elektrycznego, kontrolę zużycia części i wyposażenia, sprawdzenie poprawności ogólnego funkcjonowania myjni, kalibrację i testy kontrolne, sprawdzenie zgodności parametrów funkcjonalnych urządzeń z deklarowanymi przez producenta, sprawdzenie poprawności działania zgodnie z normami bezpieczeństwa zalecanymi przez producenta, konserwację zgodnie z zaleceniami producenta, sprawdzenie i czyszczenie sitek na elektrozaworach, sprawdzenie i odkamienienie dysz i wytwornicy pary, testy bezpieczeństwa elektrycznego. Koszt przeglądu obejmuje koszty dojazdu. | G10: TAK
B11: Przegląd zostanie udokumentowany kartą pracy/raportem serwisowym, oraz wpisem do paszportu technicznego, a wyniki testu bezpieczeństwa elektrycznego na oddzielnym protokole. Aparat zostanie oznakowany nalepką z terminem wykonania kolejnego przeglądu. | G11: TAK
A13: Cena brutto: | F13: Kwota VAT:

Sheet Część nr 7
B2: Część | C2: 7
A4: Temat: | C4: Morcelator Richard Wolf
A8: Nr | B8: Nazwa/ Model | C8: Nr seryjny | D8: Rok produkcji | E8: Przegląd do | F8: Cena netto | G8: Stawka podatku VAT | H8: Cena brutto
A9: 1 | B9: 2307101 | C9: 149401407R | D9: 2014 | E9: 14 dni od podpisania umowy
B10: Przegląd zgodny z wymaganiami producenta obejmujący min. czyszczenie, sprawdzenie bezpieczeństwa mechanicznego i elektrycznego, kontrolę zużycia części i wyposażenia, sprawdzenie poprawności ogólnego funkcjonowania aparatu wraz z instrumentami, kalibrację i testy kontrolne, sprawdzenie zgodności parametrów funkcjonalnych urządzeń z deklarowanymi przez producenta, sprawdzenie poprawności działania zgodnie z normami bezpieczeństwa zalecanymi przez producenta, konserwację zgodnie z zaleceniami producenta, testy bezpieczeństwa elektrycznego. Wykonawca w ramach przeglądu zobowiązuje się do przygotowania bieżących zaleceń eksploatacyjnych związanych ze stanem aparatu, instrumentów oraz ich dalszym użytkowaniem. Wykonawca zobowiązuje się do wykonania ekspertyz technicznych związanych z wykrytymi usterkami oraz kosztorysu naprawy. Koszt przeglądu obejmuje koszty dojazdu. | G10: TAK
B11: Przegląd zostanie udokumentowany kartą pracy/raportem serwisowym, oraz wpisem do paszportu technicznego, a wyniki testu bezpieczeństwa elektrycznego na oddzielnym protokole. Aparat zostanie oznakowany nalepką z terminem wykonania kolejnego przeglądu. | G11: TAK
A13: Cena brutto: | F13: Kwota VAT:

Sheet Część nr 8
B2: Część | C2: 8
A4: Temat: | C4: Pipety
A8: Nr | B8: Nazwa/ Model | C8: Pojemność | D8: Nr ser. | E8: Przegląd do | F8: Cena netto | G8: Stawka podatku VAT | H8: Cena brutto
A9: 1 | B9: ="Reference" -> Reference | C9: ="50 - 200µl" -> 50 - 200µl | D9: ="3852102" -> 3852102 | E9: ="2021-11-30" -> 2021-11-30
A10: 2 | B10: ="Research" -> Research | C10: ="100 - 1000µl " -> 100 - 1000µl | D10: ="2987875" -> 2987875 | E10: ="2021-11-30" -> 2021-11-30
A11: 3 | B11: ="Research" -> Research | C11: ="10 - 100µl " -> 10 - 100µl | D11: ="2959885" -> 2959885 | E11: ="2021-11-30" -> 2021-11-30
A12: 4 | B12: ="Research" -> Research | C12: ="100 - 1000µl " -> 100 - 1000µl | D12: ="2988485" -> 2988485 | E12: ="2021-11-30" -> 2021-11-30
A13: 5 | B13: ="Research" -> Research | C13: ="10 - 100µl " -> 10 - 100µl | D13: ="2961105" -> 2961105 | E13: ="2021-11-30" -> 2021-11-30
A14: 6 | B14: ="Research" -> Research | C14: ="100 - 1000µl " -> 100 - 1000µl | D14: ="2988175" -> 2988175 | E14: ="2021-11-30" -> 2021-11-30
A15: 7 | B15: ="Research" -> Research | C15: ="2 - 20µl" -> 2 - 20µl | D15: ="254323" -> 254323 | E15: ="2021-11-30" -> 2021-11-30
A16: 8 | B16: ="Research" -> Research | C16: ="10 - 100µl" -> 10 - 100µl | D16: ="4521551" -> 4521551 | E16: ="2021-11-30" -> 2021-11-30
A17: 9 | B17: ="Research" -> Research | C17: ="20 - 200µl" -> 20 - 200µl | D17: ="4557961" -> 4557961 | E17: ="2021-11-30" -> 2021-11-30
A18: 10 | B18: ="Research" -> Research | C18: ="200 - 1000µl" -> 200 - 1000µl | D18: ="295849" -> 295849 | E18: ="2021-11-30" -> 2021-11-30
A19: 11 | B19: ="Research" -> Research | C19: ="2 - 20µl" -> 2 - 20µl | D19: ="3446221" -> 3446221 | E19: ="2021-11-30" -> 2021-11-30
A20: 12 | B20: ="Research" -> Research | C20: ="100 - 1000µl" -> 100 - 1000µl | D20: ="4590481" -> 4590481 | E20: ="2021-11-30" -> 2021-11-30
A21: 13 | B21: ="Research" -> Research | C21: ="20 - 200µl" -> 20 - 200µl | D21: ="2142749" -> 2142749 | E21: ="2021-11-30" -> 2021-11-30
A22: 14 | B22: ="Research plus" -> Research plus | C22: ="100 - 1000µl " -> 100 - 1000µl | D22: ="362308A" -> 362308A | E22: ="2021-11-30" -> 2021-11-30
A23: 15 | B23: ="Research plus" -> Research plus | C23: ="100 - 1000µl " -> 100 - 1000µl | D23: ="362497A" -> 362497A | E23: ="2021-11-30" -> 2021-11-30
A24: 16 | B24: ="Research plus" -> Research plus | C24: ="0,5 - 5µl " -> 0,5 - 5µl | D24: ="I26430F" -> I26430F | E24: ="2021-11-30" -> 2021-11-30
A25: 17 | B25: ="Research plus" -> Research plus | C25: ="10 - 100µl " -> 10 - 100µl | D25: ="214445A" -> 214445A | E25: ="2021-11-30" -> 2021-11-30
A26: 18 | B26: ="Research plus" -> Research plus | C26: ="2 - 20µl" -> 2 - 20µl | D26: ="252001Z" -> 252001Z | E26: ="2021-11-30" -> 2021-11-30
A27: 19 | B27: ="Research plus" -> Research plus | C27: ="0,5 - 10µl" -> 0,5 - 10µl | D27: ="3424851" -> 3424851 | E27: ="2021-11-30" -> 2021-11-30
A28: 20 | B28: ="Research plus" -> Research plus | C28: ="2 - 20µl" -> 2 - 20µl | D28: ="1305429" -> 1305429 | E28: ="2021-11-30" -> 2021-11-30
A29: 21 | B29: ="Research plus" -> Research plus | C29: ="20 - 200µl" -> 20 - 200µl | D29: ="2487319" -> 2487319 | E29: ="2021-11-30" -> 2021-11-30
A30: 22 | B30: ="Research plus" -> Research plus | C30: ="100 - 1000µl" -> 100 - 1000µl | D30: ="2493089" -> 2493089 | E30: ="2021-11-30" -> 2021-11-30
A31: 23 | B31: ="Research plus" -> Research plus | C31: ="2 - 20µl" -> 2 - 20µl | D31: ="336667A" -> 336667A | E31: ="2021-11-30" -> 2021-11-30
A32: 24 | B32: ="Research plus" -> Research plus | C32: ="0,1 - 2,5µl" -> 0,1 - 2,5µl | D32: ="P10388G" -> P10388G | E32: ="2021-11-30" -> 2021-11-30
A33: 25 | B33: ="Research plus" -> Research plus | C33: ="0,1 - 2,5µl" -> 0,1 - 2,5µl | D33: ="P10571G" -> P10571G | E33: ="2021-11-30" -> 2021-11-30
A34: 26 | B34: ="Research plus" -> Research plus | C34: ="0,1 - 2,5µl" -> 0,1 - 2,5µl | D34: ="P10392G" -> P10392G | E34: ="2021-11-30" -> 2021-11-30
A35: 27 | B35: ="Research plus" -> Research plus | C35: ="0,1 - 2,5µl" -> 0,1 - 2,5µl | D35: ="P10382G" -> P10382G | E35: ="2021-11-30" -> 2021-11-30
A36: 28 | B36: ="Research plus" -> Research plus | C36: ="0,1 - 2,5µl" -> 0,1 - 2,5µl | D36: ="P10574G" -> P10574G | E36: ="2021-11-30" -> 2021-11-30
A37: 29 | B37: ="Research plus" -> Research plus | C37: ="0,1 - 2,5µl" -> 0,1 - 2,5µl | D37: ="P10390G" -> P10390G | E37: ="2021-11-30" -> 2021-11-30
A38: 30 | B38: ="Research plus" -> Research plus | C38: ="0,1 - 2,5µl" -> 0,1 - 2,5µl | D38: ="P10386G" -> P10386G | E38: ="2021-11-30" -> 2021-11-30
A39: 31 | B39: ="Research plus" -> Research plus | C39: ="0,5 - 10µl" -> 0,5 - 10µl | D39: ="O13994G" -> O13994G | E39: ="2021-11-30" -> 2021-11-30
A40: 32 | B40: ="Research plus" -> Research plus | C40: ="0,5 - 10µl" -> 0,5 - 10µl | D40: ="O13993G" -> O13993G | E40: ="2021-11-30" -> 2021-11-30
A41: 33 | B41: ="Research plus" -> Research plus | C41: ="0,5 - 10µl" -> 0,5 - 10µl | D41: ="O14001G" -> O14001G | E41: ="2021-11-30" -> 2021-11-30
A42: 34 | B42: ="Research plus" -> Research plus | C42: ="0,5 - 10µl" -> 0,5 - 10µl | D42: ="O13722G" -> O13722G | E42: ="2021-11-30" -> 2021-11-30
A43: 35 | B43: ="Research plus" -> Research plus | C43: ="0,5 - 10µl" -> 0,5 - 10µl | D43: ="O13539G" -> O13539G | E43: ="2021-11-30" -> 2021-11-30
A44: 36 | B44: ="Research plus" -> Research plus | C44: ="0,5 - 10µl" -> 0,5 - 10µl | D44: ="O13937G" -> O13937G | E44: ="2021-11-30" -> 2021-11-30
A45: 37 | B45: ="Research plus" -> Research plus | C45: ="0,5 - 10µl" -> 0,5 - 10µl | D45: ="O13942G" -> O13942G | E45: ="2021-11-30" -> 2021-11-30
...

Sheet Część nr 9
B2: Część | C2: 9
A4: Temat: | C4: Nóż harmoniczny
A8: Nr | B8: Nazwa/ Model | C8: Nr seryjny | D8: Rok produkcji | E8: Przegląd do | F8: Cena netto | G8: Stawka podatku VAT | H8: Cena brutto
A9: 1 | B9: GEN11 | C9: 1111408462 | D9: 2014 | E9: 44607
B10: Przegląd zgodny z wymaganiami producenta obejmujący min. czyszczenie, sprawdzenie bezpieczeństwa mechanicznego i elektrycznego, kontrolę zużycia części i wyposażenia, sprawdzenie poprawności ogólnego funkcjonowania aparatu, kalibrację i testy kontrolne, sprawdzenie zgodności parametrów funkcjonalnych urządzeń z deklarowanymi przez producenta, sprawdzenie poprawności działania zgodnie z normami bezpieczeństwa zalecanymi przez producenta, konserwację zgodnie z zaleceniami producenta, testy bezpieczeństwa elektrycznego. | G10: TAK
B11: Przegląd zostanie udokumentowany kartą pracy/raportem serwisowym, oraz wpisem do paszportu technicznego, a wyniki testu bezpieczeństwa elektrycznego na oddzielnym protokole. Aparat zostanie oznakowany nalepką z terminem wykonania kolejnego przeglądu. Koszt przeglądu obejmuje koszty dojazdu lub wysyłki. W przypadku wysyłki Wykonawca ponosi pełną odpowiedzialność za przewożony sprzęt. | G11: TAK
A13: Cena brutto: | F13: Kwota VAT:
A14: cena brutto słownie:

Sheet Część nr 10
B2: Część | C2: 10
A4: Temat: | C4: Łóżka intensywnej opieki medycznej
A8: Nr | B8: Nazwa/ Model | C8: Nr seryjny | D8: Rok produkcji | E8: Przegląd do | F8: Cena netto | G8: Stawka podatku VAT | H8: Cena brutto
A9: 1 | B9: ="Trend-ICU (PR-902-020)" -> Trend-ICU (PR-902-020) | C9: 133569_1_5/1 | D9: 2014 | E9: 14 dni od podpisania umowy
A10: 2 | B10: ="Trend-ICU (PR-902-020)" -> Trend-ICU (PR-902-020) | C10: 133569_1_5/2 | D10: 2014 | E10: 14 dni od podpisania umowy
A11: 3 | B11: ="Trend-ICU (PR-902-020)" -> Trend-ICU (PR-902-020) | C11: 133569_1_5/3 | D11: 2014 | E11: 14 dni od podpisania umowy
A12: 4 | B12: ="Trend-ICU (PR-902-020)" -> Trend-ICU (PR-902-020) | C12: 133569_1_5/4 | D12: 2014 | E12: 14 dni od podpisania umowy
A13: 5 | B13: ="Trend-ICU (PR-902-020)" -> Trend-ICU (PR-902-020) | C13: 133569_1_5/5 | D13: 2014 | E13: 14 dni od podpisania umowy
B14: Przegląd zgodny z wymaganiami producenta obejmujący min. czyszczenie, sprawdzenie bezpieczeństwa mechanicznego i elektrycznego, kontrolę zużycia części i wyposażenia, sprawdzenie poprawności ogólnego funkcjonowania łóżek, sprawdzenie zgodności parametrów funkcjonalnych łóżek z deklarowanymi przez producenta, sprawdzenie poprawności działania zgodnie z normami bezpieczeństwa zalecanymi przez producenta, konserwację zgodnie z zaleceniami producenta, testy bezpieczeństwa elektrycznego. Przegląd obejmuje wymianę akumulatorów w 5 łóżkach. | G14: TAK
B15: Poszczególne przeglądy zostaną udokumentowane kartą pracy/raportem serwisowym, oraz wpisem do paszportu technicznego, a wyniki testu bezpieczeństwa elektrycznego na oddzielnym protokole. Łóżka zostaną oznakowane nalepką z terminem wykonania kolejnego przeglądu. Koszt przeglądu obejmuje koszty dojazdu. | G15: TAK
A17: Cena brutto razem: | F17: Kwota VAT:

Sheet Część nr 11
B2: Część | C2: 11
A4: Temat: | C4: Laser do udrażniania światła oskrzeli
A8: Nr | B8: Nazwa/ Model | C8: Nr seryjny | D8: Rok produkcji | E8: Przegląd do | F8: Cena netto | G8: Stawka podatku VAT | H8: Cena brutto
A9: 1 | B9: Ceralas D50 | C9: 2416-G | D9: 2007 | E9: 14 dni od podpisania umowy
B10: Przegląd zgodny z wymaganiami producenta obejmujący min. czyszczenie, kontrolę zużycia części i wyposażenia, sprawdzenie poprawności ogólnego funkcjonowania aparatu, kalibrację i testy kontrolne, sprawdzenie zgodności parametrów funkcjonalnych urządzenia z deklarowanymi przez producenta, sprawdzenie poprawności działania zgodnie z normami bezpieczeństwa zalecanymi przez producenta, konserwację zgodnie z zaleceniami producenta, testy bezpieczeństwa elektrycznego. Koszt przeglądu obejmuje koszty dojazdu. | G10: TAK
B11: Przegląd zostanie udokumentowany kartą pracy/raportem serwisowym, oraz wpisem do paszportu technicznego, a wyniki testu bezpieczeństwa elektrycznego na oddzielnym protokole. Aparat zostanie oznakowany nalepką z terminem wykonania kolejnego przeglądu. Koszt przeglądu obejmuje koszty dojazdu lub wysyłki. W przypadku wysyłki Wykonawca ponosi pełną odpowiedzialność za przewożony sprzęt. | G11: TAK
A13: Cena brutto: | F13: Kwota VAT:

Sheet Część nr 12
B2: Część | C2: 12
A4: Temat: | C4: System transportu pacjenta
A8: Nr | B8: Nazwa/ Model | C8: Nr seryjny | D8: Rok produkcji | E8: Przegląd do | F8: Cena netto | G8: Stawka podatku VAT | H8: Cena brutto
A9: 1 | B9: Zephyr ZTG-4 | C9: 6844 | D9: 2015 | E9: 14 dni od podpisania umowy
B10: Przegląd zgodny z wymaganiami producenta obejmujący min. czyszczenie, kontrolę zużycia części i wyposażenia, sprawdzenie poprawności ogólnego funkcjonowania aparatu, kalibrację i testy kontrolne, sprawdzenie zgodności parametrów funkcjonalnych urządzenia z deklarowanymi przez producenta, sprawdzenie poprawności działania zgodnie z normami bezpieczeństwa zalecanymi przez producenta, konserwację zgodnie z zaleceniami producenta, testy bezpieczeństwa elektrycznego. Koszt przeglądu obejmuje koszty dojazdu. | G10: TAK
B11: Przegląd zostanie udokumentowany kartą pracy/raportem serwisowym, oraz wpisem do paszportu technicznego, a wyniki testu bezpieczeństwa elektrycznego na oddzielnym protokole. Aparat zostanie oznakowany nalepką z terminem wykonania kolejnego przeglądu. | G11: TAK
A13: Cena brutto: | F13: Kwota VAT:

Sheet Część nr 13
B2: Część | C2: 13
A4: Temat: | C4: Detektor promieniowania gamma laparoskopowy
A8: Nr | B8: Nazwa/ Model | C8: Nr seryjny | D8: Rok produkcji | E8: Przegląd do | F8: Cena netto | G8: Stawka podatku VAT | H8: Cena brutto
A9: 1 | B9: Wprobe LAP | C9: 2500112 | D9: 2017 | E9: 44546
B10: Przegląd zgodny z wymaganiami producenta obejmujący min. czyszczenie, kalibrację i testy kontrolne, sprawdzenie zgodności parametrów funkcjonalnych urządzeń z deklarowanymi przez producenta, sprawdzenie poprawności działania zgodnie z normami bezpieczeństwa zalecanymi przez producenta, konserwację zgodnie z zaleceniami producenta, wymianę baterii. | G10: TAK
B11: Przegląd zostanie udokumentowany kartą pracy/raportem serwisowym, oraz wpisem do paszportu technicznego. Aparat zostanie oznakowany nalepką z terminem wykonania kolejnego przeglądu. Koszt przeglądu obejmuje koszty dojazdu lub wysyłki. W przypadku wysyłki Wykonawca ponosi pełną odpowiedzialność za przewożony sprzęt. | G11: TAK
A13: Cena brutto: | F13: Kwota VAT:

Sheet Część nr 14
B2: Część | C2: 14
A4: Temat: | C4: System obrazowania VS3 Iridium
A8: Nr | B8: Nazwa/ Model | C8: Nr seryjny | D8: Rok produkcji | E8: Przegląd do | F8: Cena netto | G8: Stawka podatku VAT | H8: Cena brutto
A9: 1 | B9: VS3 Iridium | C9: 353-0426 | D9: 2017 | E9: 44540
B10: Przegląd zgodny z wymaganiami producenta obejmujący min. czyszczenie, sprawdzenie bezpieczeństwa mechanicznego i elektrycznego, kontrolę zużycia części i wyposażenia, sprawdzenie poprawności ogólnego funkcjonowania aparatu, kalibrację i testy kontrolne, sprawdzenie zgodności parametrów funkcjonalnych urządzeń z deklarowanymi przez producenta, sprawdzenie poprawności działania zgodnie z normami bezpieczeństwa zalecanymi przez producenta, konserwację zgodnie z zaleceniami producenta, testy bezpieczeństwa elektrycznego. Koszt przeglądu obejmuje koszty dojazdu. | G10: TAK
B11: Przegląd zostanie udokumentowany kartą pracy/raportem serwisowym, oraz wpisem do paszportu technicznego, a wyniki testu bezpieczeństwa elektrycznego na oddzielnym protokole. Aparat zostanie oznakowany nalepką z terminem wykonania kolejnego przeglądu. | G11: TAK
A13: Cena brutto: | F13: Kwota VAT:

Sheet Część nr 15
B2: Część | C2: 15
A4: Temat: | C4: Robotyczny pozycjoner optyki
A8: Nr | B8: Nazwa/ Model | C8: Nr seryjny | D8: Rok produkcji | E8: Przegląd do | F8: Cena netto | G8: Stawka podatku VAT | H8: Cena brutto
A9: 1 | B9: Endocontrol Viky | C9: CX0807-17080 | D9: 2017 | E9: 44628
B10: Przegląd zgodny z wymaganiami producenta obejmujący min. czyszczenie, sprawdzenie bezpieczeństwa mechanicznego i elektrycznego, kontrolę zużycia części i wyposażenia, sprawdzenie poprawności ogólnego funkcjonowania aparatu, kalibrację i testy kontrolne, sprawdzenie zgodności parametrów funkcjonalnych urządzeń z deklarowanymi przez producenta, sprawdzenie poprawności działania zgodnie z normami bezpieczeństwa zalecanymi przez producenta, konserwację zgodnie z zaleceniami producenta, testy bezpieczeństwa elektrycznego. Koszt przeglądu obejmuje koszty dojazdu. | G10: TAK
B11: Przegląd zostanie udokumentowany kartą pracy/raportem serwisowym, oraz wpisem do paszportu technicznego, a wyniki testu bezpieczeństwa elektrycznego na oddzielnym protokole. Aparat zostanie oznakowany nalepką z terminem wykonania kolejnego przeglądu. | G11: TAK
A13: Cena brutto: | F13: Kwota VAT:

Sheet Część nr 16
B2: Część | C2: 16
A4: Temat: | C4: Stół operacyjny Saturn Select
A8: Nr | B8: Nazwa/ Model | C8: Nr seryjny | D8: Rok produkcji | E8: Przegląd do | F8: Cena netto | G8: Stawka podatku VAT | H8: Cena brutto
A9: 1 | B9: Saturn Select K | C9: 100299892 | D9: 2006 | E9: 44571
B10: Przegląd zgodny z wymaganiami producenta obejmujący min. czyszczenie, sprawdzenie bezpieczeństwa mechanicznego i elektrycznego, smarowanie ruchomych części mechanicznych, kontrolę zużycia części i wyposażenia, sprawdzenie poprawności ogólnego funkcjonowania aparatu, kalibrację i testy kontrolne, sprawdzenie zgodności parametrów funkcjonalnych urządzeń z deklarowanymi przez producenta, sprawdzenie poprawności działania zgodnie z normami bezpieczeństwa zalecanymi przez producenta, konserwację zgodnie z zaleceniami producenta, testy bezpieczeństwa elektrycznego. Koszt przeglądu obejmuje koszty dojazdu. | G10: TAK | I10: Cz
B11: Przegląd zostanie udokumentowany kartą pracy/raportem serwisowym, oraz wpisem do paszportu technicznego, a wyniki testu bezpieczeństwa elektrycznego na oddzielnym protokole. Aparat zostanie oznakowany nalepką z terminem wykonania kolejnego przeglądu. | G11: TAK
A13: Cena brutto: | F13: Kwota VAT:
