Workbook
Name FO: 'Załącznik nr 1 do SWZ'!$A$1:$H$104
Name for: 'Część nr 1'!$A$1:$K$22
Name Print_Area: 'Część nr 1'!$A$1:$L$22
Name Print_Area: 'Część nr 10'!$A$1:$K$13
Name Print_Area: 'Część nr 11'!$A$1:$K$17
Name Print_Area: 'Część nr 12'!$A$1:$K$15
Name Print_Area: 'Część nr 13'!$A$1:$K$25
Name Print_Area: 'Część nr 14'!$A$1:$K$13
Name Print_Area: 'Część nr 15'!$A$1:$K$15
Name Print_Area: 'Część nr 16'!$A$1:$K$30
Name Print_Area: 'Część nr 17'!$A$1:$K$19
Name Print_Area: 'Część nr 18'!$A$1:$K$33
Name Print_Area: 'Część nr 19'!$A$1:$K$31
Name Print_Area: 'Część nr 2'!$A$1:$K$16
Name Print_Area: 'Część nr 20'!$A$1:$K$15
Name Print_Area: 'Część nr 21'!$A$1:$K$37
Name Print_Area: 'Część nr 22'!$A$1:$K$17
Name Print_Area: 'Część nr 23'!$A$1:$K$14
Name Print_Area: 'Część nr 24'!$A$1:$K$17
Name Print_Area: 'Część nr 25'!$A$1:$K$19
Name Print_Area: 'Część nr 26'!$A$1:$K$18
Name Print_Area: 'Część nr 27'!$A$1:$K$15
Name Print_Area: 'Część nr 28'!$A$1:$K$15
Name Print_Area: 'Część nr 29'!$A$1:$K$16
Name Print_Area: 'Część nr 3'!$A$1:$K$17
Name Print_Area: 'Część nr 30'!$A$1:$K$17
Name Print_Area: 'Część nr 31'!$A$1:$K$13
Name Print_Area: 'Część nr 32'!$A$1:$K$13
Name Print_Area: 'Część nr 33'!$A$1:$K$17
Name Print_Area: 'Część nr 34'!$A$1:$K$13
Name Print_Area: 'Część nr 38'!$A$1:$K$14
Name Print_Area: 'Część nr 4'!$A$1:$K$22
Name Print_Area: 'Część nr 5'!$A$1:$K$31
Name Print_Area: 'Część nr 6'!$A$1:$K$13
Name Print_Area: 'Część nr 67'!$A$1:$K$14
Name Print_Area: 'Część nr 7'!$A$1:$K$16
Name Print_Area: 'Część nr 8'!$A$1:$K$15
Name Print_Area: 'Część nr 9'!$A$1:$K$15
Name Print_Area: 'Załącznik nr 1 do SWZ'!$A$1:$I$108

Sheet Załącznik nr 1 do SWZ
B2: Numer postępowania: | C2: ZP-271-7/22
B4: Nazwa postępowania: | C4: Usługa okresowych przeglądów technicznych aparatury, sprzętu medycznego i laboratoryjnego
B6: Nazwa Wykonawcy:
B8: Ulica: | D8: Nr domu:
B9: Miejscowość: | D9: Nr lokalu:
B10: Województwo: | D10: Kod pocztowy:
B11: NIP:
B12: REGON:
B13: KRS (jeśli dotyczy):
B14: BDO (jeśli dotyczy):
B16: Nazwa banku oraz numer rachunku bankowego do realizacji przedmiotu umowy:
B17: Nazwa banku: | D17: Numer rachunku:
B19: Wykonawca, którego reprezentuję/reprezentujemy jest: □ mikroprzedsiębiorstwem □ małym przedsiębiorstwem □ średnim przedsiębiorstwem □ jednoosobową działalnością gospodarczą □ osobą fizyczną nieprowadzącą działalności gospodarczej □ innym podmiotem
B21: Składamy ofertę na następujące części:
B23: Numer części: | C23: Temat: | D23: Cena brutto: | E23: Kwota VAT:
B24: ='Część nr 1'!$C$2 -> 1 | C24: ='Część nr 1'!$C$4 -> Aparaty EKG
B25: ='Część nr 2'!$C$2 -> 2 | C25: ='Część nr 2'!$C$4 -> Aparatura do histopatologii I
B26: ='Część nr 3'!$C$2 -> 3 | C26: ='Część nr 3'!$C$4 -> Aparatura do histopatologii II
B27: ='Część nr 4'!$C$2 -> 4 | C27: ='Część nr 4'!$C$4 -> Urządzenia Maquet
B28: ='Część nr 5'!$C$2 -> 5 | C28: ='Część nr 5'!$C$4 -> Sprzęt endoskopowy Olympus
B29: ='Część nr 6'!$C$2 -> 6 | C29: ='Część nr 6'!$C$4 -> System do radiografii próbek biopsyjnych
B30: ='Część nr 7'!$C$2 -> 7 | C30: ='Część nr 7'!$C$4 -> Wstrzykiwacze kontrastu
B31: ='Część nr 8'!$C$2 -> 8 | C31: ='Część nr 8'!$C$4 -> Aparaty do znieczulania Draeger
B32: ='Część nr 9'!$C$2 -> 9 | C32: ='Część nr 9'!$C$4 -> Aparaty do znieczulania Anmedic
B33: ='Część nr 10'!$C$2 -> 10 | C33: ='Część nr 10'!$C$4 -> Aparaty elektrochirurgiczne Emed
B34: ='Część nr 11'!$C$2 -> 11 | C34: ='Część nr 11'!$C$4 -> Aparaty elektrochirurgiczne Valleylab
B35: ='Część nr 12'!$C$2 -> 12 | C35: ='Część nr 12'!$C$4 -> Aparaty elektrochirurgiczne Erbe
B36: ='Część nr 13'!$C$2 -> 13 | C36: ='Część nr 13'!$C$4 -> Aparaty USG
B37: ='Część nr 14'!$C$2 -> 14 | C37: ='Część nr 14'!$C$4 -> Respirator Viasys
B38: ='Część nr 15'!$C$2 -> 15 | C38: ='Część nr 15'!$C$4 -> Detektory promieniowania gamma
B39: ='Część nr 16'!$C$2 -> 16 | C39: ='Część nr 16'!$C$4 -> Zestawy laparoskopowe Aesculap
B40: ='Część nr 17'!$C$2 -> 17 | C40: ='Część nr 17'!$C$4 -> Mikrotomy
B41: ='Część nr 18'!$C$2 -> 18 | C41: ='Część nr 18'!$C$4 -> Urządzenia Mindray
B42: ='Część nr 19'!$C$2 -> 19 | C42: ='Część nr 19'!$C$4 -> Sprzęt monitorowania parametrów życiowych
B43: ='Część nr 20'!$C$2 -> 20 | C43: ='Część nr 20'!$C$4 -> Defibrylatory
B44: ='Część nr 21'!$C$2 -> 21 | C44: ='Część nr 21'!$C$4 -> Pompy infuzyjne Braun
B45: ='Część nr 22'!$C$2 -> 22 | C45: ='Część nr 22'!$C$4 -> Myjnie endoskopowe, szafa do suszenia endoskopów
B46: ='Część nr 23'!$C$2 -> 23 | C46: ='Część nr 23'!$C$4 -> Sterylizator plazmowy
B47: ='Część nr 24'!$C$2 -> 24 | C47: ='Część nr 24'!$C$4 -> Urządzenia sterylizacji parowej
B48: ='Część nr 25'!$C$2 -> 25 | C48: ='Część nr 25'!$C$4 -> Urządzenia Centralnej Sterylizatorni
...

Sheet Część nr 1
B2: Część | C2: 1
A4: Temat: | C4: Aparaty EKG
B6: Szczegółowy podział części:
A8: Nr | B8: Nazwa/ Model | C8: Nr seryjny | D8: Rok produkcji | E8: Przegląd do | F8: Cena netto | G8: Stawka podatku VAT | H8: Cena brutto
A9: 1 | B9: AsCARD Mr BLUE | C9: 228/07/A | D9: 2007 | E9: 44805
A10: 2 | B10: AsCARD Mr BLUE | C10: 64/06 | D10: 2006 | E10: 44805
A11: 3 | B11: AsCARD Mr BLUE | C11: 703/08 | D11: 2008 | E11: 44805
A12: 4 | B12: AsCARD Mr BLUE | C12: 227/07/A | D12: 2007 | E12: 44805
A13: 5 | B13: M-Trace | C13: 0490 | D13: 2010 | E13: 44805
A14: 6 | B14: M-Trace | C14: 0633 | D14: 2010 | E14: 44805
A15: 7 | B15: M-Trace | C15: 0274 | D15: 2009 | E15: 44805
A16: 8 | B16: M-Trace | C16: 4450 | D16: 2018 | E16: 44805
A17: 9 | B17: M-Trace | C17: 4451 | D17: 2018 | E17: 44805
A18: 10 | B18: M-Trace | C18: 1386 | D18: 2012 | E18: 44805
B19: Przegląd zgodny z wymaganiami producenta obejmujący min. czyszczenie, kalibrację i testy kontrolne, sprawdzenie zgodności parametrów funkcjonalnych urządzeń z deklarowanymi przez producenta, sprawdzenie poprawności działania zgodnie z normami bezpieczeństwa zalecanymi przez producenta, konserwację zgodnie z zaleceniami producenta, testy bezpieczeństwa elektrycznego. Koszt przeglądu obejmuje koszty dojazdu. | G19: TAK
B20: Poszczególne przeglądy zostaną udokumentowane kartą pracy/raportem serwisowym, oraz wpisem do paszportu technicznego, a wyniki testu bezpieczeństwa elektrycznego na oddzielnym protokole. Aparaty zostaną oznakowane nalepką z terminem wykonania kolejnego przeglądu. | G20: TAK
A22: Cena brutto razem: | F22: Kwota VAT:

Sheet Część nr 2
B2: Część | C2: 2
A4: Temat: | C4: Aparatura do histopatologii I
B6: Szczegółowy podział części:
A8: Nr | B8: Nazwa/ Model | C8: Nr seryjny | D8: Rok produkcji | E8: Przegląd do | F8: Cena netto | G8: Stawka podatku VAT | H8: Cena brutto
A9: 1 | B9: Kriostat LEICA CM1900 | C9: 1398 | D9: 2000 | E9: 44783
A10: 2 | B10: Mikrotom LEICA RM2135 | C10: 775 | D10: 1997 | E10: 44783
A11: 3 | B11: Mikrotom LEICA SM2000R | C11: 1291 | D11: 1998 | E11: 44783
B12: Przegląd zgodny z wymaganiami producenta obejmujący min. czyszczenie, sprawdzenie bezpieczeństwa mechanicznego i elektrycznego, kontrolę zużycia części i wyposażenia, sprawdzenie poprawności ogólnego funkcjonowania aparatu, kalibrację i testy kontrolne, sprawdzenie zgodności parametrów funkcjonalnych urządzeń z deklarowanymi przez producenta, sprawdzenie poprawności działania zgodnie z normami bezpieczeństwa zalecanymi przez producenta, konserwację zgodnie z zaleceniami producenta, testy bezpieczeństwa elektrycznego. Koszt przeglądu obejmuje koszty dojazdu. | G12: TAK
B13: Poszczególne przeglądy zostaną udokumentowane kartą pracy/raportem serwisowym, oraz wpisem do paszportu technicznego, a wyniki testu bezpieczeństwa elektrycznego na oddzielnym protokole. Aparaty zostaną oznakowane nalepką z terminem wykonania kolejnego przeglądu. | G13: TAK
A16: Cena brutto razem: | F16: Kwota VAT:

Sheet Część nr 3
B2: Część | C2: 3
A4: Temat: | C4: Aparatura do histopatologii II
B6: Szczegółowy podział części:
A8: Nr | B8: Nazwa/ Model | C8: Nr seryjny | D8: Rok produkcji | E8: Przegląd do | F8: Cena netto | G8: Stawka podatku VAT | H8: Cena brutto
A9: 1 | B9: Procesor tkankowy Excelsior | C9: EX24250707 | D9: 2007 | E9: 44806
A10: 2 | B10: Barwiarka Varistain Gemini | C10: PH1059E0706 | D10: 2007 | E10: 44806
A11: 3 | B11: Zaklejarka GCS 600 | C11: 2023132 | D11: 2007 | E11: 44806
A12: 4 | B12: Stacja do zatapiania tkanek Histostar | C12: HS3139A1511 | D12: 2015 | E12: 44806
B13: Przegląd zgodny z wymaganiami producenta obejmujący min. czyszczenie, sprawdzenie bezpieczeństwa mechanicznego i elektrycznego, kontrolę zużycia części i wyposażenia, sprawdzenie poprawności ogólnego funkcjonowania aparatu, kalibrację i testy kontrolne, sprawdzenie zgodności parametrów funkcjonalnych urządzeń z deklarowanymi przez producenta, sprawdzenie poprawności działania zgodnie z normami bezpieczeństwa zalecanymi przez producenta, konserwację zgodnie z zaleceniami producenta, testy bezpieczeństwa elektrycznego. Przegląd obejmuje min. wymianę elementów – filter formaldehyde – 2 szt., filter vapour, akumulator 12V/12Ah – 2 szt. do procesora Excelsior, filter vapour, akumulator 12V/12Ah do barwiarki Gemini. Koszt przeglądu obejmuje koszty dojazdu. | G13: TAK
B14: Poszczególne przeglądy zostaną udokumentowane kartą pracy/raportem serwisowym, oraz wpisem do paszportu technicznego, a wyniki testu bezpieczeństwa elektrycznego na oddzielnym protokole. Aparaty zostaną oznakowane nalepką z terminem wykonania kolejnego przeglądu. | G14: TAK
A17: Cena brutto razem: | F17: Kwota VAT:

Sheet Część nr 4
B2: Część | C2: 4
A4: Temat: | C4: Urządzenia Maquet
B6: Szczegółowy podział części:
A8: Nr | B8: Nazwa/ Model | C8: Nr seryjny | D8: Rok produkcji | E8: Przegląd do | F8: Cena netto | G8: Stawka podatku VAT | H8: Cena brutto
A9: 1 | B9: Aphastar Pro | C9: 00256 | D9: 2014 | E9: 44924
A10: 2 | B10: Aphastar Pro | C10: 00257 | D10: 2014 | E10: 44924
A11: 3 | B11: Aphastar Pro | C11: 00268 | D11: 2014 | E11: 44924
A12: 4 | B12: Alphamaquet 1150 | C12: 02710 | D12: 2013 | E12: 44924
A13: 5 | B13: Volista 600/400 | C13: AR029000/ AR028047 | D13: 2014 | E13: 44924
A14: 6 | B14: Volista 600/400 | C14: AR025074/ AR025065 | D14: 2014 | E14: 44924
A15: 7 | B15: Modutec MM 6-6 BP | C15: SUQ822810 | D15: 2014 | E15: 44924
A16: 8 | B16: Modutec MM 6-6 BP | C16: SUQ822809 | D16: 2014 | E16: 44924
A17: 9 | B17: Modutec HM 9-9 BP | C17: SUQ822811 | D17: 2014 | E17: 44924
A18: 10 | B18: Modutec HM 9-9 BP | C18: SUQ822812 | D18: 2014 | E18: 44924
B19: Przegląd zgodny z wymaganiami producenta obejmujący min. czyszczenie, sprawdzenie bezpieczeństwa mechanicznego i elektrycznego, smarowanie ruchomych części mechanicznych, kontrolę zużycia części i wyposażenia, sprawdzenie poprawności ogólnego funkcjonowania aparatu, kalibrację i testy kontrolne, sprawdzenie zgodności parametrów funkcjonalnych urządzeń z deklarowanymi przez producenta, sprawdzenie poprawności działania zgodnie z normami bezpieczeństwa zalecanymi przez producenta, konserwację zgodnie z zaleceniami producenta, testy bezpieczeństwa elektrycznego. Koszt przeglądu obejmuje koszty dojazdu. | G19: TAK
B20: Poszczególne przeglądy zostaną udokumentowane kartą pracy/raportem serwisowym, oraz wpisem do paszportu technicznego, a wyniki testu bezpieczeństwa elektrycznego na oddzielnym protokole. Aparaty zostaną oznakowane nalepką z terminem wykonania kolejnego przeglądu. | G20: TAK
A22: Cena brutto razem: | F22: Kwota VAT:

Sheet Część nr 5
B2: Część | C2: 5
A4: Temat: | C4: Sprzęt endoskopowy Olympus
B6: Szczegółowy podział części:
A8: Nr | B8: Nazwa/ Model | C8: Nr seryjny | D8: Rok produkcji | E8: Przegląd do | F8: Cena netto | G8: Stawka podatku VAT | H8: Cena brutto
A9: 1 | B9: BF-XT160 | C9: 2500407 | D9: 2005 | E9: 45004
A10: 2 | B10: BF-1T160 | C10: 2512928 | D10: 2005 | E10: 45004
A11: 3 | B11: GIF-Q180 | C11: 2707212 | D11: 2007 | E11: 45004
A12: 4 | B12: URF-P5 | C12: W900431 | D12: 2009 | E12: 45004
A13: 5 | B13: CYF-VHA | C13: 2400846 | D13: 2014 | E13: 44859
A14: 6 | B14: GIF-H190 | C14: 2414276 | D14: 2014 | E14: 45004
A15: 7 | B15: CF-H185L | C15: 2731449 | D15: 2017 | E15: 44988
A16: 8 | B16: CF-H185L | C16: 2731452 | D16: 2017 | E16: 44936
A17: 9 | B17: ="OFP-2" -> OFP-2 | C17: ="21413143" -> 21413143 | D17: 2014 | E17: 44859
A18: 10 | B18: ="OFP-2" -> OFP-2 | C18: ="21411277" -> 21411277 | D18: 2014 | E18: 44859
A19: 11 | B19: ="CV-160" -> CV-160 | C19: ="7539116" -> 7539116 | D19: 2006 | E19: 44859
A20: 12 | B20: ="CV-190" -> CV-190 | C20: ="7455791" -> 7455791 | D20: 2014 | E20: 44859
A21: 13 | B21: ="CV-190" -> CV-190 | C21: ="7406699" -> 7406699 | D21: 2014 | E21: 44859
A22: 14 | B22: ="Wózek endoskopowy" -> Wózek endoskopowy | C22: ="802-59-1" -> 802-59-1 | D22: 2006 | E22: 44859
A23: 15 | B23: ="WM-NP2" -> WM-NP2 | C23: ="21415444" -> 21415444 | D23: 2014 | E23: 44859
A24: 16 | B24: ="WM-NP2" -> WM-NP2 | C24: ="21416379" -> 21416379 | D24: 2014 | E24: 44859
A25: 17 | B25: ="CLV-160" -> CLV-160 | C25: ="7546609" -> 7546609 | D25: 2006 | E25: 44859
A26: 18 | B26: ="CLV-190" -> CLV-190 | C26: ="7406764" -> 7406764 | D26: 2014 | E26: 44859
A27: 19 | B27: ="CLV-190" -> CLV-190 | C27: ="7455798" -> 7455798 | D27: 2014 | E27: 44859
B28: Przegląd zgodny z wymaganiami producenta obejmujący min. czyszczenie, sprawdzenie bezpieczeństwa mechanicznego i elektrycznego, kontrolę zużycia części i wyposażenia, sprawdzenie poprawności ogólnego funkcjonowania aparatu, kalibrację i testy kontrolne, sprawdzenie zgodności parametrów funkcjonalnych urządzeń z deklarowanymi przez producenta, sprawdzenie poprawności działania zgodnie z normami bezpieczeństwa zalecanymi przez producenta, konserwację zgodnie z zaleceniami producenta, testy bezpieczeństwa elektrycznego. Wykonawca w ramach przeglądu zobowiązuje się do przygotowania bieżących zaleceń eksploatacyjnych związanych ze stanem aparatów oraz ich dalszym użytkowaniem. Wykonawca zobowiązuje się do wykonania ekspertyz technicznych związanych z wykrytymi usterkami oraz kosztorysu naprawy. Wykonawca zobowiązuje się do zwrotu endoskopów w nie pogorszonym stanie technicznym, wszelkie działania mogące pogorszyć stan techniczny endoskopów muszą być wcześniej uzgadniane z Zamawiającym. | G28: TAK
B29: Poszczególne przeglądy zostaną udokumentowane kartą pracy/raportem serwisowym, oraz wpisem do paszportu technicznego, a wyniki testu bezpieczeństwa elektrycznego na oddzielnym protokole. Aparaty zostaną oznakowane nalepką z terminem wykonania kolejnego przeglądu. Koszt przeglądu obejmuje koszty dojazdu lub wysyłki. W przypadku wysyłki, fakt pobrania sprzętu do przeglądu i odbioru sprzętu po przeglądzie zostanie potwierdzony pokwitowaniem z zaznaczeniem nazwy, typu i numeru fabrycznego sprzętu. Wykonawca ponosi pełną odpowiedzialność za przewożony sprzęt. | G29: TAK
A31: Cena brutto razem: | F31: Kwota VAT:

Sheet Część nr 6
B2: Część | C2: 6
A4: Temat: | C4: System do radiografii próbek biopsyjnych
A6: Szczegółowy podział części:
A8: Nr | B8: Nazwa/ Model | C8: Nr seryjny | D8: Rok produkcji | E8: Przegląd do | F8: Cena netto | G8: Stawka podatku VAT | H8: Cena brutto
A9: 1 | B9: Xpert 20 | C9: 1520-075-405 | D9: 2017 | E9: 44903
B10: Przegląd zgodny z wymaganiami producenta obejmujący min. czyszczenie, sprawdzenie bezpieczeństwa mechanicznego i elektrycznego, kontrolę zużycia części i wyposażenia, sprawdzenie poprawności ogólnego funkcjonowania aparatu, kalibrację i testy kontrolne, sprawdzenie zgodności parametrów funkcjonalnych urządzenia z deklarowanymi przez producenta, sprawdzenie poprawności działania zgodnie z normami bezpieczeństwa zalecanymi przez producenta, konserwację zgodnie z zaleceniami producenta, testy bezpieczeństwa elektrycznego. Koszt przeglądu obejmuje koszty dojazdu. | G10: TAK
B11: Poszczególne przeglądy zostaną udokumentowane kartą pracy/raportem serwisowym, oraz wpisem do paszportu technicznego, a wyniki testu bezpieczeństwa elektrycznego na oddzielnym protokole. Aparaty zostaną oznakowane nalepką z terminem wykonania kolejnego przeglądu. | G11: TAK
A13: Cena brutto: | F13: Kwota VAT:

Sheet Część nr 7
B2: Część | C2: 7
A4: Temat: | C4: Wstrzykiwacze kontrastu
B6: Szczegółowy podział części:
A8: Nr | B8: Nazwa/ Model | C8: Nr seryjny | D8: Rok produkcji | E8: Przegląd do | F8: Cena netto | G8: Stawka podatku VAT | H8: Cena brutto
A9: 1 | B9: Optivantage DH | C9: CI0312B562 | D9: 2012 | E9: 44864
A10: 2 | B10: Optivantage DH | C10: CI0312B517 | D10: 2012 | E10: 44813
A11: 3 | B11: Optivantage DH | C11: CI0107B519 | D11: 2007 | E11: 45000
A12: 4 | B12: Optistar Elite | C12: CI0610D008 | D12: 2010 | E12: 44820
B13: Przegląd zgodny z wymaganiami producenta obejmujący min. czyszczenie, sprawdzenie bezpieczeństwa mechanicznego i elektrycznego, kontrolę zużycia części i wyposażenia, sprawdzenie poprawności ogólnego funkcjonowania aparatu, kalibrację i testy kontrolne, sprawdzenie zgodności parametrów funkcjonalnych urządzenia z deklarowanymi przez producenta, sprawdzenie poprawności działania zgodnie z normami bezpieczeństwa zalecanymi przez producenta, konserwację zgodnie z zaleceniami producenta, testy bezpieczeństwa elektrycznego. Koszt przeglądu obejmuje koszty dojazdu. | G13: TAK
B14: Poszczególne przeglądy zostaną udokumentowane kartą pracy/raportem serwisowym, oraz wpisem do paszportu technicznego, a wyniki testu bezpieczeństwa elektrycznego na oddzielnym protokole. Aparaty zostaną oznakowane nalepką z terminem wykonania kolejnego przeglądu. | G14: TAK
A16: Cena brutto: | F16: Kwota VAT:

Sheet Część nr 8
B2: Część | C2: 8
A4: Temat: | C4: Aparaty do znieczulania Draeger
B6: Szczegółowy podział części:
A8: Nr | B8: Nazwa/ Model | C8: Nr seryjny | D8: Rok produkcji | E8: Przegląd do | F8: Cena netto | G8: Stawka podatku VAT | H8: Cena brutto
A9: 1 | B9: Primus + monitor Infinity Delta | C9: ASDJ-0110 | D9: 2012 | E9: 2022-08-28, drugi po 6 miesiącach
A10: 2 | B10: Primus + monitor Infinity Delta | C10: ASAK-0172 | D10: 2009 | E10: 2022-08-28, drugi po 6 miesiącach
A11: 3 | B11: Primus | C11: ASFJ-0047 | D11: 2014 | E11: 2022-08-28, drugi po 6 miesiącach
B12: Przeglądy zgodnie z wymaganiami producenta obejmujące min. czyszczenie, kalibrację i testy kontrolne, sprawdzenie zgodności parametrów funkcjonalnych urządzeń z deklarowanymi przez producenta, sprawdzenie poprawności działania zgodnie z normami bezpieczeństwa zalecanymi przez producenta, konserwację zgodnie z zaleceniami producenta, testy bezpieczeństwa elektrycznego. Przeglądy wykonywane przy użyciu zalecanych przez producenta urządzeń kontrolnopomiarowych posiadających aktualne świadectwa kalibracji/wzorcowania. Przeglądy obejmują min. wymianę elementów – zestaw 2-letni Primus (1 szt.), zestaw 1-roczny Primus (2 szt.), filtr 37 mm - 3 szt, uszczelki (3 szt.), Lithium-ion battery (2 szt.) do monitorów Infinity Delta, moduł przewodowy Multimed 5 2,5 m (1 szt.), przewód EKG, 3-odpr, 2-pinowy, IEC1 (2 szt.), przedłużacz SpO2 Drager/Nellcor do Multimed 5 (1 szt.), czujnik SpO2 Drager na palec (1 szt.), czujnik SpO2 Masimo LNCS na palec z przedłużaczem, dren łączący NIPC do monitora Infinity (1 szt.), mankiet NIPC, rozmiar 23-33 cm (3 szt.), pułapka wodna (36 szt.). Koszt przeglądów obejmuje koszty dojazdu. Przeglądy zgodnie z wymaganiami producenta obejmujące min. czyszczenie, kalibrację i testy kontrolne, sprawdzenie zgodności parametrów funkcjonalnych urządzeń z deklarowanymi przez producenta, sprawdzenie poprawności działania zgodnie z normami bezpieczeństwa zalecanymi przez producenta, konserwację zgodnie z zaleceniami producenta, testy bezpieczeństwa elektrycznego. Przeglądy wykonywane przy użyciu zalecanych przez producenta urządzeń kontrolnopomiarowych posiadających aktualne świadectwa kalibracji/wzorcowania. Przeglądy obejmują min. wymianę elementów – zestaw 2-letni i 2-letni zestaw oddechowy Primus (2 szt.), zestaw 1-roczny Primus (1 szt.), filtr 37 mm - 3 szt, uszczelki (3 szt.), W kardiomonitorach filtr (2 szt.), akumulator (2 szt.), moduł przewodowy Multimed 5 2,5 m (1 szt.), przewód EKG, 3-odpr, 2-pinowy, IEC1 (2 szt.), przedłużacz SpO2 Drager/Nellcor do Multimed 5 (1 szt.), czujnik SpO2 Drager na palec (1 szt.), czujnik SpO2 Masimo LNCS na palec z przedłużaczem, dren łączący NIPC do monitora Infinity (1 szt.), mankiet NIPC, rozmiar 23-33 cm (3 szt.), pułapka wodna (36 szt.). Koszt przeglądów obejmuje koszty dojazdu. | G12: TAK
B13: Poszczególne przeglądy zostaną udokumentowane kartą pracy/raportem serwisowym, oraz wpisem do paszportu technicznego, a wyniki testu bezpieczeństwa elektrycznego na oddzielnym protokole. Aparaty zostaną oznakowane nalepką z terminem wykonania kolejnego przeglądu. | G13: TAK
A15: Cena brutto razem: | F15: Kwota VAT:

Sheet Część nr 9
B2: Część | C2: 9
A4: Temat: | C4: Aparaty do znieczulania Anmedic
B6: Szczegółowy podział części:
A8: Nr | B8: Nazwa/ Model | C8: Nr seryjny | D8: Rok produkcji | E8: Przegląd do | F8: Cena netto | G8: Stawka podatku VAT | H8: Cena brutto
A9: 1 | B9: Falcon SE | C9: 511163 | D9: 2006 | E9: 44773
A10: 2 | B10: Falcon SE | C10: 511165 | D10: 2006 | E10: 44773
B11: Przegląd zgodny z wymaganiami producenta obejmujący min. czyszczenie, kalibrację i testy kontrolne, sprawdzenie zgodności parametrów funkcjonalnych urządzeń z deklarowanymi przez producenta, sprawdzenie poprawności działania zgodnie z normami bezpieczeństwa zalecanymi przez producenta, konserwację zgodnie z zaleceniami producenta, testy bezpieczeństwa elektrycznego. Koszt przeglądu obejmuje koszty dojazdu. | G11: TAK
B12: Poszczególne przeglądy zostaną udokumentowane kartą pracy/raportem serwisowym, oraz wpisem do paszportu technicznego, a wyniki testu bezpieczeństwa elektrycznego na oddzielnym protokole. Aparaty zostaną oznakowane nalepką z terminem wykonania kolejnego przeglądu. | G12: TAK
A15: Cena brutto razem: | F15: Kwota VAT:

Sheet Część nr 10
B2: Część | C2: 10
A4: Temat: | C4: Aparaty elektrochirurgiczne Emed
B6: Szczegółowy podział części:
A8: Nr | B8: Nazwa/ Model | C8: Nr seryjny | D8: Rok produkcji | E8: Przegląd do | F8: Cena netto | G8: Stawka podatku VAT | H8: Cena brutto
A9: 1 | B9: ES 300 | C9: 30828 | D9: 2009 | E9: 44944
B10: Przegląd zgodny z wymaganiami producenta obejmujący min. pomiary mocy wyjściowych dla poszczególnych gniazd i trybów pracy, czyszczenie wnętrza i ocena stanu elementów sterujących, kontrola aktywacji, konserwację zgodnie z zaleceniami producenta, testy bezpieczeństwa elektrycznego. | G10: TAK
B11: Poszczególne przeglądy zostaną udokumentowane kartą pracy/raportem serwisowym, oraz wpisem do paszportu technicznego, a wyniki testu bezpieczeństwa elektrycznego na oddzielnym protokole. Aparaty zostaną oznakowane nalepką z terminem wykonania kolejnego przeglądu. Koszt przeglądu obejmuje koszty dojazdu lub wysyłki. W przypadku wysyłki Wykonawca ponosi pełną odpowiedzialność za przewożony sprzęt. | G11: TAK
A13: Cena brutto razem: | F13: Kwota VAT:

Sheet Część nr 11
B2: Część | C2: 11
A4: Temat: | C4: Aparaty elektrochirurgiczne Valleylab
B6: Szczegółowy podział części:
A8: Nr | B8: Nazwa/ Model | C8: Nr seryjny | D8: Rok produkcji | E8: Przegląd do | F8: Cena netto | G8: Stawka podatku VAT | H8: Cena brutto
A9: 1 | B9: FORCE EZ | C9: F0I4536B | D9: 2001 | E9: 44862
A10: 2 | B10: FORCE EZ-8C | C10: F7L10768B | D10: 2007 | E10: 44862
A11: 3 | B11: Force Triad | C11: T1K25934EX | D11: 2011 | E11: 44750
A12: 4 | B12: Force Triad | C12: T4C40440EX | D12: 2014 | E12: 44862
A13: 5 | B13: Force Argon II-8 | C13: G4D2949UX | D13: 2014 | E13: 44862
B14: Przegląd zgodny z wymaganiami producenta obejmujący min. pomiary mocy wyjściowych dla poszczególnych gniazd i trybów pracy, czyszczenie wnętrza i ocena stanu elementów sterujących, kontrola aktywacji, konserwację zgodnie z zaleceniami producenta, testy bezpieczeństwa elektrycznego. | G14: TAK
B15: Poszczególne przeglądy zostaną udokumentowane kartą pracy/raportem serwisowym, oraz wpisem do paszportu technicznego, a wyniki testu bezpieczeństwa elektrycznego na oddzielnym protokole. Aparaty zostaną oznakowane nalepką z terminem wykonania kolejnego przeglądu. Koszt przeglądu obejmuje koszty dojazdu lub wysyłki. W przypadku wysyłki Wykonawca ponosi pełną odpowiedzialność za przewożony sprzęt. | G15: TAK
A17: Cena brutto razem: | F17: Kwota VAT:

Sheet Część nr 12
B2: Część | C2: 12
A4: Temat: | C4: Aparaty elektrochirurgiczne Erbe
B6: Szczegółowy podział części:
A8: Nr | B8: Nazwa/ Model | C8: Nr seryjny | D8: Rok produkcji | E8: Przegląd do | F8: Cena netto | G8: Stawka podatku VAT | H8: Cena brutto
A9: 1 | B9: VIO 300D | C9: 11317371 | D9: 2010 | E9: 44862
A10: 2 | B10: VIO 300D | C10: 11383082 | D10: 2014 | E10: 44862
A11: 3 | B11: APC2 | C11: 11379886 | D11: 2014 | E11: 44862
B12: Przegląd zgodny z wymaganiami producenta obejmujący min. pomiary mocy wyjściowych dla poszczególnych gniazd i trybów pracy, czyszczenie wnętrza i ocena stanu elementów sterujących, kontrola aktywacji, konserwację zgodnie z zaleceniami producenta, testy bezpieczeństwa elektrycznego. | G12: TAK
B13: Poszczególne przeglądy zostaną udokumentowane kartą pracy/raportem serwisowym, oraz wpisem do paszportu technicznego, a wyniki testu bezpieczeństwa elektrycznego na oddzielnym protokole. Aparaty zostaną oznakowane nalepką z terminem wykonania kolejnego przeglądu. Koszt przeglądu obejmuje koszty dojazdu. | G13: TAK
A15: Cena brutto razem: | F15: Kwota VAT:

Sheet Część nr 13
B2: Część | C2: 13
A4: Temat: | C4: Aparaty USG
B6: Szczegółowy podział części:
A8: Nr | B8: Nazwa/ Model | C8: Nr seryjny | D8: Rok produkcji | E8: Przegląd do | F8: Cena netto | G8: Stawka podatku VAT | H8: Cena brutto
A9: 1 | B9: Logiq 7 R75X | C9: 36207YU9 | D9: 2008 | E9: 44807
A10: 2 | B10: Logiq 7 R75X | C10: 39043YU5 | D10: 2008 | E10: 44807
A11: 3 | B11: Logiq Book XP | C11: 49446WX8 | D11: 2007 | E11: 44807
A12: 4 | B12: Falcon 2101 EXL | C12: 1852268 | D12: 2004 | E12: 44807
A13: 5 | B13: Hawk 2102 | C13: 1851759 | D13: 2005 | E13: 44807
A14: 6 | B14: Preirus | C14: KE13039107 | D14: 2011 | E14: 44807
A15: 7 | B15: Sparq | C15: US61310230 | D15: 2013 | E15: 44807
A16: 8 | B16: Flex Focus 800 | C16: 5005181 | D16: 2014 | E16: 44895
A17: 9 | B17: Flex Focus 800 | C17: 5005189 | D17: 2014 | E17: 44895
A18: 10 | B18: ="Arietta V70" -> Arietta V70 | C18: ="205T4957" -> 205T4957 | D18: 2017 | E18: 44895
A19: 11 | B19: ="Arietta V70a" -> Arietta V70a | C19: ="205Q9960" -> 205Q9960 | D19: 2017 | E19: 44895
A20: 12 | B20: Arietta 850 | C20: 20612085 | D20: 2018 | E20: 44807
A21: 13 | B21: ="Flex Focus 300" -> Flex Focus 300 | C21: ="5009775" -> 5009775 | D21: 2017 | E21: 44807
B22: Przegląd serwisowy zgodny z wymaganiami producenta aparatu zawierający min. czyszczenie wnętrza aparatu, wentylatorów, filtrów i trackball’a, sprawdzenie i poprawę styków elektrycznych, sprawdzenie urządzeń peryferyjnych, testy głowic, konserwację zgodnie z zaleceniami producenta, testy bezpieczeństwa elektrycznego. Koszt przeglądu obejmuje koszty dojazdu. | G22: TAK
B23: Poszczególne przeglądy zostaną udokumentowane kartą pracy/raportem serwisowym, oraz wpisem do paszportu technicznego, a wyniki testu bezpieczeństwa elektrycznego na oddzielnym protokole. Aparaty zostaną oznakowane nalepką z terminem wykonania kolejnego przeglądu. | G23: TAK
A25: Cena brutto: | F25: Kwota VAT:

Sheet Część nr 14
B2: Część | C2: 14
A4: Temat: | C4: Respirator Viasys
B6: Szczegółowy podział części:
A8: Nr | B8: Nazwa/ Model | C8: Nr seryjny | D8: Rok produkcji | E8: Przegląd do | F8: Cena netto | G8: Stawka podatku VAT | H8: Cena brutto
A9: 1 | B9: Vela | C9: AGT01324 | D9: 2007 | E9: 44894
B10: Przegląd zgodny z wymaganiami producenta obejmujący min. czyszczenie, kalibrację i testy kontrolne, sprawdzenie zgodności parametrów funkcjonalnych urządzeń z deklarowanymi przez producenta, sprawdzenie poprawności działania zgodnie z normami bezpieczeństwa zalecanymi przez producenta, konserwację zgodnie z zaleceniami producenta, testy bezpieczeństwa elektrycznego. Przegląd obejmuje min. wymianę elementów: filtr wewnętrzny z tłumikiem (10365), uszczelka (30020) – 2 szt., filtr wentylatora (34058), filtr wejściowy tlenu (06804), filtr wejściowy powietrza (20819), membrana zastawki wydechowej (10384), czujnik tlenu (0110043). Koszt przeglądu obejmuje koszty dojazdu. | G10: TAK
B11: Przegląd zostanie udokumentowany kartą pracy/raportem serwisowym, oraz wpisem do paszportu technicznego, a wyniki testu bezpieczeństwa elektrycznego na oddzielnym protokole. Aparat zostanie oznakowany nalepką z terminem wykonania kolejnego przeglądu. | G11: TAK
A13: Cena brutto razem: | F13: Kwota VAT:

Sheet Część nr 15
B2: Część | C2: 15
A4: Temat: | C4: Detektory promieniowania gamma
B6: Szczegółowy podział części:
A8: Nr | B8: Nazwa/ Model | C8: Nr seryjny | D8: Rok produkcji | E8: Przegląd do | F8: Cena netto | G8: Stawka podatku VAT | H8: Cena brutto
A9: 1 | B9: GammaFinder II | C9: 040106 | D9: 2010 | E9: 44806
A10: 2 | B10: GammaFinder II | C10: 020758 | D10: 2008 | E10: 44806
A11: 3 | B11: GammaFinder II | C11: 040413 | D11: 2014 | E11: 44762
B12: Przegląd zgodny z wymaganiami producenta obejmujący min. czyszczenie, kalibrację i testy kontrolne, sprawdzenie zgodności parametrów funkcjonalnych urządzeń z deklarowanymi przez producenta, sprawdzenie poprawności działania zgodnie z normami bezpieczeństwa zalecanymi przez producenta, konserwację zgodnie z zaleceniami producenta, wymianę baterii. | G12: TAK
B13: Poszczególne przeglądy zostaną udokumentowane kartą pracy/raportem serwisowym, oraz wpisem do paszportu technicznego. Aparaty zostaną oznakowane nalepką z terminem wykonania kolejnego przeglądu. Koszt przeglądu obejmuje koszty dojazdu lub wysyłki. W przypadku wysyłki Wykonawca ponosi pełną odpowiedzialność za przewożony sprzęt. | G13: TAK
A15: Cena brutto: | F15: Kwota VAT:

Sheet Część nr 16
B2: Część | C2: 16
A4: Temat: | C4: Zestawy laparoskopowe Aesculap
B6: Szczegółowy podział części:
A8: Nr | B8: Nazwa/ Model | C8: Nr seryjny | D8: Rok produkcji | E8: Przegląd do | F8: Cena netto | G8: Stawka podatku VAT | H8: Cena brutto
A9: 1 | B9: ="PV890" -> PV890 | C9: ="1282" -> 1282 | D9: 2014 | E9: 44865
A10: 2 | B10: ="PV890" -> PV890 | C10: ="1284" -> 1284 | D10: 2014 | E10: 44865
A11: 3 | B11: ="PV959" -> PV959 | C11: ="14-236612" -> 14-236612 | D11: 2014 | E11: 44865
A12: 4 | B12: ="PV959" -> PV959 | C12: ="14-236610" -> 14-236610 | D12: 2014 | E12: 44865
A13: 5 | B13: ="PV959" -> PV959 | C13: ="14-236898" -> 14-236898 | D13: 2014 | E13: 44865
A14: 6 | B14: ="PV959" -> PV959 | C14: ="14-236902" -> 14-236902 | D14: 2014 | E14: 44865
A15: 7 | B15: ="PG080" -> PG080 | C15: ="1405CE294" -> 1405CE294 | D15: 2014 | E15: 44865
A16: 8 | B16: ="PG080" -> PG080 | C16: ="1406CE501" -> 1406CE501 | D16: 2014 | E16: 44865
A17: 9 | B17: ="OP940" -> OP940 | C17: ="469937" -> 469937 | D17: 2014 | E17: 44865
A18: 10 | B18: ="OP940" -> OP940 | C18: ="473754" -> 473754 | D18: 2014 | E18: 44865
A19: 11 | B19: ="PV462" -> PV462 | C19: ="3713014" -> 3713014 | D19: 2014 | E19: 44865
A20: 12 | B20: ="PV472" -> PV472 | C20: ="475455" -> 475455 | D20: 2014 | E20: 44865
A21: 13 | B21: ="PV460" -> PV460 | C21: ="4008706" -> 4008706 | D21: 2014 | E21: 44865
A22: 14 | B22: ="PV470" -> PV470 | C22: ="475868" -> 475868 | D22: 2014 | E22: 44865
A23: 15 | B23: ="PG145" -> PG145 | C23: ="1403CE688" -> 1403CE688 | D23: 2014 | E23: 44865
A24: 16 | B24: ="PG145" -> PG145 | C24: ="1408CE357" -> 1408CE357 | D24: 2014 | E24: 44865
A25: 17 | B25: GN640 | C25: 3337 | D25: 2014 | E25: 44865
A26: 18 | B26: ="PV840" -> PV840 | C26: ="1136" -> 1136 | D26: 2014 | E26: 44865
B27: Przegląd zgodny z wymaganiami producenta obejmujący min. czyszczenie, sprawdzenie bezpieczeństwa mechanicznego i elektrycznego, kontrolę zużycia części i wyposażenia, sprawdzenie poprawności ogólnego funkcjonowania aparatu, kalibrację i testy kontrolne, sprawdzenie zgodności parametrów funkcjonalnych urządzeń z deklarowanymi przez producenta, sprawdzenie poprawności działania zgodnie z normami bezpieczeństwa zalecanymi przez producenta, konserwację zgodnie z zaleceniami producenta, testy bezpieczeństwa elektrycznego. Koszt przeglądu obejmuje koszty dojazdu. | G27: TAK
B28: Poszczególne przeglądy zostaną udokumentowane kartą pracy/raportem serwisowym, oraz wpisem do paszportu technicznego, a wyniki testu bezpieczeństwa elektrycznego na oddzielnym protokole. Aparaty zostaną oznakowane nalepką z terminem wykonania kolejnego przeglądu. | G28: TAK
A30: Cena brutto razem: | F30: Kwota VAT:

Sheet Część nr 17
B2: Część | C2: 17
A4: Temat: | C4: Mikrotomy
B6: Szczegółowy podział części:
A8: Nr | B8: Nazwa/ Model | C8: Nr seryjny | D8: Rok produkcji | E8: Przegląd do | F8: Cena netto | G8: Stawka podatku VAT | H8: Cena brutto
A9: 1 | B9: Mikrotom HM 340E + STS | C9: 38905 | D9: 2007 | E9: 44806
A10: 2 | B10: Mikrotom HM450 | C10: 37098 | D10: 2006 | E10: 44806
A11: 3 | B11: Mikrotom HM 340E + STS | C11: 28961 | D11: 2004 | E11: 44806
A12: 4 | B12: Mikrotom HM 340E | C12: 40451 | D12: 2008 | E12: 44806
A13: 5 | B13: Mikrotom HM 340E | C13: 39450 | D13: 2007 | E13: 44806
A14: 6 | B14: Mikrotom HM 340E | C14: 58439 | D14: 2013 | E14: 44806
B15: Przegląd zgodny z wymaganiami producenta obejmujący min. czyszczenie, sprawdzenie bezpieczeństwa mechanicznego i elektrycznego, kontrolę zużycia części i wyposażenia, sprawdzenie poprawności ogólnego funkcjonowania aparatu, kalibrację i testy kontrolne, sprawdzenie zgodności parametrów funkcjonalnych urządzeń z deklarowanymi przez producenta, sprawdzenie poprawności działania zgodnie z normami bezpieczeństwa zalecanymi przez producenta, konserwację zgodnie z zaleceniami producenta, testy bezpieczeństwa elektrycznego. Koszt przeglądu obejmuje koszty dojazdu. | G15: TAK
B16: Poszczególne przeglądy zostaną udokumentowane kartą pracy/raportem serwisowym, oraz wpisem do paszportu technicznego, a wyniki testu bezpieczeństwa elektrycznego na oddzielnym protokole. Aparaty zostaną oznakowane nalepką z terminem wykonania kolejnego przeglądu. | G16: TAK
A19: Cena brutto razem: | F19: Kwota VAT:

Sheet Część nr 18
B2: Część | C2: 18
A4: Temat: | C4: Urządzenia Mindray
B6: Szczegółowy podział części:
A8: Nr | B8: Nazwa/ Model | C8: Nr seryjny | D8: Rok produkcji | E8: Przegląd do | F8: Cena netto | G8: Stawka podatku VAT | H8: Cena brutto
A9: 1 | B9: Monitor PM9000 | C9: BX5C-0315AIOQ | D9: 2006 | E9: 44895
A10: 2 | B10: Monitor PM9000 | C10: BX5C-0316FIQQ | D10: 2006 | E10: 44895
A11: 3 | B11: Monitor PM9000 | C11: BX5C-0317FIOQ | D11: 2006 | E11: 44895
A12: 4 | B12: Monitor BeneView T8 z modułem BeneView T1 | C12: CF-3C120727 | D12: 2013 | E12: 44895
A13: 5 | B13: Monitor BeneView T8 | C13: CF-3C120728 | D13: 2013 | E13: 44895
A14: 6 | B14: Monitor BeneView T8 | C14: CF-3C120729 | D14: 2013 | E14: 44895
A15: 7 | B15: Monitor BeneView T8 | C15: CF-3C120732 | D15: 2013 | E15: 44895
A16: 8 | B16: Monitor BeneView T8 | C16: CF-3C120734 | D16: 2013 | E16: 44895
A17: 9 | B17: Monitor BeneView T8 | C17: CF-3C120736 | D17: 2013 | E17: 44895
A18: 10 | B18: Monitor BeneView T8 | C18: CF-3C120737 | D18: 2013 | E18: 44895
A19: 11 | B19: Monitor BeneView T8 | C19: CF-3C120738 | D19: 2013 | E19: 44895
A20: 12 | B20: Monitor BeneView T8 | C20: CF-3C120739 | D20: 2013 | E20: 44895
... A28: 20 | B28: Defibrylator BeneHeart D3 | C28: EL-46014684 | D28: 2014 | E28: 44895
B29: Przegląd zgodny z wymaganiami producenta obejmujący min. czyszczenie, sprawdzenie bezpieczeństwa mechanicznego i elektrycznego, kontrolę zużycia części i wyposażenia, sprawdzenie poprawności ogólnego funkcjonowania aparatu, kalibrację i testy kontrolne, sprawdzenie zgodności parametrów funkcjonalnych urządzeń z deklarowanymi przez producenta, sprawdzenie poprawności działania zgodnie z normami bezpieczeństwa zalecanymi przez producenta, konserwację zgodnie z zaleceniami producenta, testy bezpieczeństwa elektrycznego. Koszt przeglądu obejmuje koszty dojazdu. | G29: TAK
B30: Poszczególne przeglądy zostaną udokumentowane kartą pracy/raportem serwisowym, oraz wpisem do paszportu technicznego, a wyniki testu bezpieczeństwa elektrycznego na oddzielnym protokole. Aparaty zostaną oznakowane nalepką z terminem wykonania kolejnego przeglądu. | G30: TAK
A33: Cena brutto razem: | F33: Kwota VAT:

Sheet Część nr 19
B2: Część | C2: 19
A4: Temat: | C4: Sprzęt monitorowania parametrów życiowych
B6: Szczegółowy podział części:
A8: Nr | B8: Nazwa/ Model | C8: Nr seryjny | D8: Rok produkcji | E8: Przegląd do | F8: Cena netto | G8: Stawka podatku VAT | H8: Cena brutto
A9: 1 | B9: Pulsoksymetr Spectro2 | C9: 4009598 | D9: 2010 | E9: 44783
A10: 2 | B10: Pulsoksymetr Spectro2 | C10: 4056940 | D10: 2014 | E10: 44783
A11: 3 | B11: Pulsoksymetr Spectro2 | C11: 4052013 | D11: 2014 | E11: 44783
A12: 4 | B12: Pulsoksymetr Spectro2 | C12: 4046701 | D12: 2013 | E12: 44783
A13: 5 | B13: Pulsoksymetr PM-60 | C13: CR-9A210658 | D13: 2019 | E13: 44783
A14: 6 | B14: Pulsoksymetr PM-60 | C14: CR-97206680 | D14: 2019 | E14: 44783
A15: 7 | B15: Pulsoksymetr C101A2 | C15: C101A2202005261083 | D15: 2020 | E15: 44783
A16: 8 | B16: Pulsoksymetr C101A2 | C16: C101A22022005260789 | D16: 2020 | E16: 44783
A17: 9 | B17: Pulsoksymetr C101A2 | C17: C101A22022005260894 | D17: 2020 | E17: 44783
A18: 10 | B18: Pulsoksymetr YK-81CEU | C18: A005510R0 | D18: 2021 | E18: 44783
A19: 11 | B19: Kardiomonitor Biolight Q7 | C19: Q71E010916 | D19: 2020 | E19: 44783
A20: 12 | B20: Kapnograf Capnocheck II | C20: 704109039 | D20: 2004 | E20: 44783
A21: 13 | B21: Kardiomonitor Precess 3160 | C21: US10500233 | D21: 2012 | E21: 44783
A22: 14 | B22: Kardiomonitor Enmove 1200 | C22: W-77100622 | D22: 2007 | E22: 44783
A23: 15 | B23: Kardiomonitor FX 2000P | C23: 2590 | D23: 2008 | E23: 44783
A24: 16 | B24: Kardiomonitor FX 2000P | C24: 2591 | D24: 2008 | E24: 44783
A25: 17 | B25: Kardiomonitor FX 2000P | C25: 2592 | D25: 2008 | E25: 44783
A26: 18 | B26: Kardiomonitor FX 2000P | C26: 2593 | D26: 2008 | E26: 44783
B27: Przegląd zgodny z wymaganiami producenta obejmujący min. czyszczenie, sprawdzenie bezpieczeństwa mechanicznego i elektrycznego, kontrolę zużycia części i wyposażenia, sprawdzenie poprawności ogólnego funkcjonowania aparatu, kalibrację i testy kontrolne, sprawdzenie zgodności parametrów funkcjonalnych urządzeń z deklarowanymi przez producenta, sprawdzenie poprawności działania zgodnie z normami bezpieczeństwa zalecanymi przez producenta, konserwację zgodnie z zaleceniami producenta, testy bezpieczeństwa elektrycznego. Koszt przeglądu obejmuje koszty dojazdu. | G27: TAK
B28: Poszczególne przeglądy zostaną udokumentowane kartą pracy/raportem serwisowym, oraz wpisem do paszportu technicznego, a wyniki testu bezpieczeństwa elektrycznego na oddzielnym protokole. Aparaty zostaną oznakowane nalepką z terminem wykonania kolejnego przeglądu. | G28: TAK
A31: Cena brutto razem: | F31: Kwota VAT:

Sheet Część nr 20
B2: Część | C2: 20
A4: Temat: | C4: Defibrylatory
B6: Szczegółowy podział części:
A8: Nr | B8: Nazwa/ Model | C8: Nr seryjny | D8: Rok produkcji | E8: Przegląd do | F8: Cena netto | G8: Stawka podatku VAT | H8: Cena brutto
A9: 1 | B9: M Series | C9: T07B87735 | D9: 2007 | E9: 44783
A10: 2 | B10: Cardio-Aid 200-B | C10: 5126193 | D10: 2006 | E10: 44783
B11: Przegląd zgodny z wymaganiami producenta obejmujący min. czyszczenie, sprawdzenie bezpieczeństwa mechanicznego i elektrycznego, kontrolę zużycia części i wyposażenia, sprawdzenie poprawności ogólnego funkcjonowania aparatu, kalibrację i testy kontrolne, sprawdzenie zgodności parametrów funkcjonalnych urządzeń z deklarowanymi przez producenta, sprawdzenie poprawności działania zgodnie z normami bezpieczeństwa zalecanymi przez producenta, konserwację zgodnie z zaleceniami producenta, testy bezpieczeństwa elektrycznego. Koszt przeglądu obejmuje koszty dojazdu. | G11: TAK
B12: Poszczególne przeglądy zostaną udokumentowane kartą pracy/raportem serwisowym, oraz wpisem do paszportu technicznego, a wyniki testu bezpieczeństwa elektrycznego na oddzielnym protokole. Aparaty zostaną oznakowane nalepką z terminem wykonania kolejnego przeglądu. | G12: TAK
A15: Cena brutto razem: | F15: Kwota VAT:

Sheet Część nr 21
B2: Część | C2: 21
A4: Temat: | C4: Pompy infuzyjne Braun
B6: Szczegółowy podział części:
A8: Nr | B8: Nazwa/ Model | C8: Nr seryjny | D8: Rok produkcji | E8: Przegląd do | F8: Cena netto | G8: Stawka podatku VAT | H8: Cena brutto
A9: 1 | B9: Infusomat Space | C9: 137158 | D9: 2011 | E9: 44776
A10: 2 | B10: Perfusor Space | C10: 246667 | D10: 2014 | E10: 44776
A11: 3 | B11: Infusomat Space | C11: 386836 | D11: 2016 | E11: 44776
A12: 4 | B12: Infusomat Space | C12: 386853 | D12: 2016 | E12: 44776
A13: 5 | B13: Infusomat Space | C13: 387003 | D13: 2016 | E13: 44776
A14: 6 | B14: Infusomat Space | C14: 387025 | D14: 2016 | E14: 44776
A15: 7 | B15: Infusomat Space | C15: 387035 | D15: 2016 | E15: 44776
A16: 8 | B16: Perfusor Space | C16: 155545 | D16: 2011 | E16: 44776
A17: 9 | B17: Infusomat Space | C17: 300117 | D17: 2014 | E17: 44776
A18: 10 | B18: Infusomat Space | C18: 386936 | D18: 2016 | E18: 44776
A19: 11 | B19: Infusomat Space | C19: 387027 | D19: 2016 | E19: 44776
A20: 12 | B20: Perfusor Space | C20: 246705 | D20: 2014 | E20: 44776
A21: 13 | B21: Perfusor Space | C21: 246757 | D21: 2014 | E21: 44776
A22: 14 | B22: Perfusor Space | C22: 246693 | D22: 2014 | E22: 44776
A23: 15 | B23: Perfusor Space | C23: 246763 | D23: 2014 | E23: 44776
A24: 16 | B24: Infusomat Space | C24: 51128 | D24: 2008 | E24: 44986
A25: 17 | B25: Infusomat Space | C25: 29725 | D25: 2008 | E25: 45022
A26: 18 | B26: Infusomat Space | C26: 300196 | D26: 2015 | E26: 45083
A27: 19 | B27: Infusomat Space | C27: 300203 | D27: 2015 | E27: 45083
A28: 20 | B28: Perfusor Space | C28: 129769 | D28: 2011 | E28: 45083
A29: 21 | B29: Infusomat Space | C29: 300240 | D29: 2015 | E29: 45084
A30: 22 | B30: Infusomat Space | C30: 300241 | D30: 2015 | E30: 45084
A31: 23 | B31: Infusomat Space | C31: 300183 | D31: 2015 | E31: 45084
A32: 24 | B32: SpaceStation MRI | C32: MIMSPA110207 | D32: 2011 | E32: 44782
B33: Przegląd zgodny z wymaganiami producenta obejmujący min. czyszczenie, sprawdzenie bezpieczeństwa mechanicznego i elektrycznego, kontrolę zużycia części i wyposażenia, sprawdzenie poprawności ogólnego funkcjonowania aparatu, kalibrację i testy kontrolne, sprawdzenie zgodności parametrów funkcjonalnych urządzeń z deklarowanymi przez producenta, sprawdzenie poprawności działania zgodnie z normami bezpieczeństwa zalecanymi przez producenta, konserwację zgodnie z zaleceniami producenta, testy bezpieczeństwa elektrycznego. Przegląd obejmuje wymianę zasilaczy w 6 pompach Space (nr ser.: 137158, 155545, 246667, 246705, 246757, 246693). Koszt przeglądu obejmuje koszty dojazdu. | G33: TAK
B34: Poszczególne przeglądy zostaną udokumentowane kartą pracy/raportem serwisowym, oraz wpisem do paszportu technicznego, a wyniki testu bezpieczeństwa elektrycznego na oddzielnym protokole. Aparaty zostaną oznakowane nalepką z terminem wykonania kolejnego przeglądu. | G34: TAK
A37: Cena brutto razem: | F37: Kwota VAT:

Sheet Część nr 22
B2: Część | C2: 22
A4: Temat: | C4: Myjnie endoskopowe, szafa do suszenia endoskopów
B6: Szczegółowy podział części:
A8: Nr | B8: Nazwa/ Model | C8: Nr seryjny | D8: Rok produkcji | E8: Przegląd do | F8: Cena netto | G8: Stawka podatku VAT | H8: Cena brutto
A9: 1 | B9: Mini ETD-2 GA | C9: 6421821 | D9: 2007 | E9: 44789
A10: 2 | B10: Mini ETD | C10: 431303 | D10: 2005 | E10: 44789
A11: 3 | B11: Mini ETD-2 PlusGA | C11: 17926626 | D11: 2017 | E11: 44964
A12: 4 | B12: EDC Plus | C12: NG817130 | D12: 2017 | E12: 44964
B13: Przegląd zgodny z wymaganiami producenta obejmujący min. czyszczenie, sprawdzenie bezpieczeństwa mechanicznego i elektrycznego, kontrolę zużycia części i wyposażenia, sprawdzenie poprawności ogólnego funkcjonowania aparatu, kalibrację i testy kontrolne, sprawdzenie zgodności parametrów funkcjonalnych urządzeń z deklarowanymi przez producenta, sprawdzenie poprawności działania zgodnie z normami bezpieczeństwa zalecanymi przez producenta, konserwację zgodnie z zaleceniami producenta, testy bezpieczeństwa elektrycznego. Przegląd obejmuje wymianę zestawów serwisowych (Maintenance Kit) w myjniach oraz filtrów w szafie. Wykonawca w ramach przeglądu zobowiązuje się do przygotowania bieżących zaleceń eksploatacyjnych związanych ze stanem aparatów oraz ich dalszym użytkowaniem. Wykonawca zobowiązuje się do wykonania ekspertyz technicznych związanych z wykrytymi usterkami oraz kosztorysu naprawy. Koszt przeglądu obejmuje koszty dojazdu. | G13: TAK
B14: Poszczególne przeglądy zostaną udokumentowane kartą pracy/raportem serwisowym, oraz wpisem do paszportu technicznego, a wyniki testu bezpieczeństwa elektrycznego na oddzielnym protokole. Aparaty zostaną oznakowane nalepką z terminem wykonania kolejnego przeglądu. | G14: TAK
A17: Cena brutto razem: | F17: Kwota VAT:

Sheet Część nr 23
B2: Część | C2: 23
A4: Temat: | C4: Sterylizator plazmowy
B6: Szczegółowy podział części:
A8: Nr | B8: Nazwa/ Model | C8: Nr seryjny | D8: Rok produkcji | E8: Przegląd do | F8: Cena netto | G8: Stawka podatku VAT | H8: Cena brutto
A9: 1 | B9: Sterrad 100NX | C9: 1042110034 | D9: 2012 | E9: 2022-07-17, drugi po 6 miesiącach
B10: Przegląd zgodny z wymaganiami producenta obejmujący min. czyszczenie, sprawdzenie bezpieczeństwa mechanicznego i elektrycznego, kontrolę zużycia części i wyposażenia, sprawdzenie poprawności ogólnego funkcjonowania aparatu, kalibrację i testy kontrolne, sprawdzenie zgodności parametrów funkcjonalnych urządzeń z deklarowanymi przez producenta, sprawdzenie poprawności działania zgodnie z normami bezpieczeństwa zalecanymi przez producenta, konserwację zgodnie z zaleceniami producenta, testy bezpieczeństwa elektrycznego. Przegląd obejmuje wymianę części (zestawy serwisowe PM) przewidzianych przez producenta do wymiany podczas przeglądu okresowego. Koszt przeglądu obejmuje koszty dojazdu. | G10: TAK
B11: Poszczególne przeglądy zostaną udokumentowane kartą pracy/raportem serwisowym, oraz wpisem do paszportu technicznego, a wyniki testu bezpieczeństwa elektrycznego na oddzielnym protokole. Aparaty zostaną oznakowane nalepką z terminem wykonania kolejnego przeglądu. | G11: TAK
A14: Cena brutto razem: | F14: Kwota VAT:

Sheet Część nr 24
B2: Część | C2: 24
A4: Temat: | C4: Urządzenia sterylizacji parowej
B6: Szczegółowy podział części:
A8: Nr | B8: Nazwa/ Model | C8: Nr seryjny | D8: Rok produkcji | E8: Przegląd do | F8: Cena netto | G8: Stawka podatku VAT | H8: Cena brutto
A9: 1 | B9: Selectomat PL 966-2H | C9: B110824 | D9: 2012 | E9: 2022-07-18, drugi po 6 miesiącach
A10: 2 | B10: Selectomat PL 966-2H | C10: B110825 | D10: 2012 | E10: 2022-07-18, drugi po 6 miesiącach
A11: 3 | B11: Myjnia ultradźwiękowa | C11: Ultramatic 550 | D11: 2012 | E11: 44751
A12: 4 | B12: System EcoSoft | C12: -- | D12: 2012 | E12: 44760
B13: Przegląd zgodny z wymaganiami producenta obejmujący min. czyszczenie, sprawdzenie bezpieczeństwa mechanicznego i elektrycznego, kontrolę zużycia części i wyposażenia, sprawdzenie poprawności ogólnego funkcjonowania aparatu, kalibrację i testy kontrolne, sprawdzenie zgodności parametrów funkcjonalnych urządzeń z deklarowanymi przez producenta, sprawdzenie poprawności działania zgodnie z normami bezpieczeństwa zalecanymi przez producenta, konserwację zgodnie z zaleceniami producenta, testy bezpieczeństwa elektrycznego. Przegląd obejmuje wymianę części przewidzianych przez producenta do wymiany podczas przeglądu okresowego. Koszt przeglądu obejmuje koszty dojazdu. | G13: TAK
B14: Poszczególne przeglądy zostaną udokumentowane kartą pracy/raportem serwisowym, oraz wpisem do paszportu technicznego, a wyniki testu bezpieczeństwa elektrycznego na oddzielnym protokole. Aparaty zostaną oznakowane nalepką z terminem wykonania kolejnego przeglądu. | G14: TAK
A17: Cena brutto razem: | F17: Kwota VAT:

Sheet Część nr 25
B2: Część | C2: 25
A4: Temat: | C4: Urządzenia Centralnej Sterylizatorni
B6: Szczegółowy podział części:
A8: Nr | B8: Nazwa/ Model | C8: Nr seryjny | D8: Rok produkcji | E8: Przegląd do | F8: Cena netto | G8: Stawka podatku VAT | H8: Cena brutto
A9: 1 | B9: Myjnia G7824 | C9: 74358056 | D9: 2011 | E9: 44805
A10: 2 | B10: Myjnia G7824 | C10: 74358057 | D10: 2011 | E10: 44805
A11: 3 | B11: Myjnia G7836 | C11: 74329616 | D11: 2007 | E11: 44805
A12: 4 | B12: Suszarka KSU-66150 | C12: 40 | D12: 2012 | E12: 44805
A13: 5 | B13: Zgrzewarka Steripack 301 | C13: 453525 | D13: 2012 | E13: 44805
A14: 6 | B14: Urządzenie Elmasteam ES5000 | C14: 000221029 | D14: 2013 | E14: 44805
B15: Przegląd zgodny z wymaganiami producenta obejmujący min. czyszczenie, sprawdzenie bezpieczeństwa mechanicznego i elektrycznego, kontrolę zużycia części i wyposażenia, sprawdzenie poprawności ogólnego funkcjonowania urządzeń, kalibrację i testy kontrolne, sprawdzenie zgodności parametrów funkcjonalnych urządzeń z deklarowanymi przez producenta, sprawdzenie poprawności działania zgodnie z normami bezpieczeństwa zalecanymi przez producenta, konserwację zgodnie z zaleceniami producenta, testy bezpieczeństwa elektrycznego. Przegląd obejmuje min. wymianę elementów – obudowa pompy DOS (60/30) do myjni G7824 - 1 szt., obudowa pompy DOS (30/10) do myjni G7824 - 1 szt., filtr zgrubny i HEPA do KSU-66150, rolka dociskowa, taśma barwiąca, taśma teflonowa grzałek i prowadnic, paski zębate do Steripack 301, uszczelki pod korek wlewu wody do Elmasteam - 3 szt. Koszt przeglądu obejmuje koszty dojazdu. | G15: TAK
B16: Poszczególne przeglądy zostaną udokumentowane kartą pracy/raportem serwisowym, oraz wpisem do paszportu technicznego, a wyniki testu bezpieczeństwa elektrycznego na oddzielnym protokole. Aparaty zostaną oznakowane nalepką z terminem wykonania kolejnego przeglądu. | G16: TAK
A19: Cena brutto razem: | F19: Kwota VAT:

Sheet Część nr 26
B2: Część | C2: 26
A4: Temat: | C4: Komory laminarne I
B6: Szczegółowy podział części:
A8: Nr | B8: Nazwa/ Model | C8: Nr seryjny | D8: Rok produkcji | E8: Przegląd do | F8: Cena netto | G8: Stawka podatku VAT | H8: Cena brutto
A9: 1 | B9: C-[MaxPro]3-130 | C9: 1013080210 | D9: 2008 | E9: 44938
A10: 2 | B10: C-[MaxPro]3-130 | C10: 1013100367 | D10: 2010 | E10: 44938
A11: 3 | B11: C-[MaxPro]3-130 | C11: 1013100368 | D11: 2010 | E11: 44938
A12: 4 | B12: Minifil | C12: 29081/06 | D12: 2006 | E12: 44938
A13: 5 | B13: Lamil Plus 10 | C13: 3153/06 | D13: 2006 | E13: 44938
A14: 6 | B14: Claire PRO B-2-130 | C14: 2013000249 | D14: 2017 | E14: 44938
B15: Przegląd zgodny z wymaganiami producenta obejmujący min. czyszczenie, sprawdzenie bezpieczeństwa mechanicznego i elektrycznego, kontrolę zużycia części i wyposażenia, sprawdzenie poprawności ogólnego funkcjonowania aparatu, kalibrację i testy kontrolne, sprawdzenie zgodności parametrów funkcjonalnych urządzeń z deklarowanymi przez producenta, sprawdzenie poprawności działania zgodnie z normami bezpieczeństwa zalecanymi przez producenta, konserwację zgodnie z zaleceniami producenta, testy bezpieczeństwa elektrycznego. Pomiary kontrolne prędkości i laminarności przepływu oraz klas czystości powietrza w przestrzni roboczej komory/nawiewu i w pomieszczeniu, sprawdzenie klasy czystości powietrza w pomieszczeniu, w którym pracuje komora. Koszt przeglądu obejmuje koszty dojazdu. Wykonawca w zakresie komory o numerze seryjnym 2013000249 posiada wszystkie wymagane kody producenta. | G15: TAK
B16: Poszczególne przeglądy zostaną udokumentowane kartą pracy/raportem serwisowym, oraz wpisem do paszportu technicznego, a wyniki testu bezpieczeństwa elektrycznego na oddzielnym protokole. Aparaty zostaną oznakowane nalepką z terminem wykonania kolejnego przeglądu. | G16: TAK
A18: Cena brutto razem: | F18: Kwota VAT:

Sheet Część nr 27
B2: Część | C2: 27
A4: Temat: | C4: Aparaty rtg Siemens
B6: Szczegółowy podział części:
A8: Nr | B8: Nazwa/ Model | C8: Nr seryjny | D8: Rok produkcji | E8: Przegląd do | F8: Cena netto | G8: Stawka podatku VAT | H8: Cena brutto
A9: 1 | B9: Multix Fusion Digital | C9: 30070 | D9: 2015 | E9: 44896
A10: 2 | B10: Luminos dRF Max | C10: 5264 | D10: 2015 | E10: 44897
A11: 3 | B11: Mobilett XP Hybrid | C11: 1248 | D11: 2005 | E11: 44729
B12: Przeglądy zgodne z wymaganiami producenta obejmujące min. czyszczenie, sprawdzenie bezpieczeństwa mechanicznego i elektrycznego, kontrolę zużycia części i wyposażenia, sprawdzenie poprawności ogólnego funkcjonowania aparatu, kalibrację i testy kontrolne, sprawdzenie zgodności parametrów funkcjonalnych urządzeń z deklarowanymi przez producenta, sprawdzenie poprawności działania zgodnie z normami bezpieczeństwa zalecanymi przez producenta, konserwację zgodnie z zaleceniami producenta, wymianę żarówki w aparacie Mobilett XP, testy bezpieczeństwa elektrycznego. Koszt przeglądów obejmuje koszty dojazdu. | G12: TAK
B13: Poszczególne przeglądy zostaną udokumentowane kartą pracy/raportem serwisowym, oraz wpisem do paszportu technicznego, a wyniki testu bezpieczeństwa elektrycznego na oddzielnym protokole. Aparaty zostaną oznakowane nalepką z terminem wykonania kolejnego przeglądu. | G13: TAK
A15: Cena brutto razem: | F15: Kwota VAT:

Sheet Część nr 28
B2: Część | C2: 28
A4: Temat: | C4: Mammograf, kardiomonitor GE
B6: Szczegółowy podział części:
A8: Nr | B8: Nazwa/ Model | C8: Nr seryjny | D8: Rok produkcji | E8: Przegląd do | F8: Cena netto | G8: Stawka podatku VAT | H8: Cena brutto
A9: 1 | B9: Senographe Essential | C9: 668486BU4 | D9: 2015 | E9: 2022-09-25, drugi po 6 miesiącach
A10: 2 | B10: Senographe Essential | C10: 583153BU2 | D10: 2009 | E10: 2022-07-21, drugi po 6 miesiącach
A11: 3 | B11: B650 | C11: SEW14127236HA | D11: 2014 | E11: 44873
B12: Przegląd zgodny z wymaganiami producenta obejmujący min. czyszczenie, sprawdzenie bezpieczeństwa mechanicznego i elektrycznego, kontrolę zużycia części i wyposażenia, sprawdzenie poprawności ogólnego funkcjonowania aparatu, kalibrację i testy kontrolne, sprawdzenie zgodności parametrów funkcjonalnych urządzeń z deklarowanymi przez producenta, sprawdzenie poprawności działania zgodnie z normami bezpieczeństwa zalecanymi przez producenta, konserwację zgodnie z zaleceniami producenta, testy bezpieczeństwa elektrycznego. Koszt przeglądu obejmuje koszty dojazdu. | G12: TAK
B13: Poszczególne przeglądy zostaną udokumentowane kartą pracy/raportem serwisowym, oraz wpisem do paszportu technicznego, a wyniki testu bezpieczeństwa elektrycznego na oddzielnym protokole. Aparaty zostaną oznakowane nalepką z terminem wykonania kolejnego przeglądu. | G13: TAK
A15: Cena brutto razem: | F15: Kwota VAT:

Sheet Część nr 29
B2: Część | C2: 29
A4: Temat: | C4: Urządzenia ZdAJ
B6: Szczegółowy podział części:
A8: Nr | B8: Nazwa/ Model | C8: Nr seryjny | D8: Rok produkcji | E8: Przegląd do | F8: Cena netto | G8: Stawka podatku VAT | H8: Cena brutto
A9: 1 | B9: Drzwi osłonowe obrotowe | C9: Nr 02 seria 57/06 | D9: 2006 | E9: 44891
A10: 2 | B10: Drzwi osłonowe obrotowe | C10: Nr 01 seria 57/06 | D10: 2006 | E10: 44891
A11: 3 | B11: Drzwi osłonowe obrotowe | C11: Nr 03 seria 57/06 | D11: 2007 | E11: 44891
A12: 4 | B12: Drzwi osłonowe obrotowe | C12: Nr 06 seria 44/03 | D12: 2003 | E12: 44891
B13: Przegląd zgodny z wymaganiami producenta obejmujący min. czyszczenie, sprawdzenie bezpieczeństwa mechanicznego i elektrycznego, kontrolę zużycia części i wyposażenia, sprawdzenie poprawności ogólnego funkcjonowania aparatu, kalibrację i testy kontrolne, sprawdzenie zgodności parametrów funkcjonalnych urządzeń z deklarowanymi przez producenta, sprawdzenie poprawności działania zgodnie z normami bezpieczeństwa zalecanymi przez producenta, konserwację zgodnie z zaleceniami producenta, testy bezpieczeństwa elektrycznego. Przegląd drzwi może być wykonany po godz. 18 od poniedziałku do piątku oraz w soboty. Koszt przeglądu obejmuje koszty dojazdu. | G13: TAK
B14: Poszczególne przeglądy zostaną udokumentowane kartą pracy/raportem serwisowym, oraz wpisem do paszportu technicznego, a wyniki testu bezpieczeństwa elektrycznego na oddzielnym protokole. Aparaty zostaną oznakowane nalepką z terminem wykonania kolejnego przeglądu. | G14: TAK
A16: Cena brutto razem: | F16: Kwota VAT:

Sheet Część nr 30
B2: Część | C2: 30
A4: Temat: | C4: Inkubatory CO2, cieplarki Incucell
B6: Szczegółowy podział części:
A8: Nr | B8: Nazwa/ Model | C8: Nr seryjny | D8: Rok produkcji | E8: Przegląd do | F8: Cena netto | G8: Stawka podatku VAT | H8: Cena brutto
A9: 1 | B9: ="MCO-5AC" -> MCO-5AC | C9: ="16120208" -> 16120208 | D9: 2017 | E9: ="2022-12-01" -> 2022-12-01
A10: 2 | B10: ="INCUCEL 55" -> INCUCEL 55 | C10: ="B030946" -> B030946 | D10: 2003 | E10: 44846
A11: 3 | B11: ="Incucell V" -> Incucell V | C11: ="D 172660" -> D 172660 | D11: 2017 | E11: ="2022-12-01" -> 2022-12-01
A12: 4 | B12: ="Incucell V" -> Incucell V | C12: ="D 172661" -> D 172661 | D12: 2017 | E12: ="2022-12-01" -> 2022-12-01
A13: 5 | B13: Incucel 111 | C13: 101791 | D13: 2010 | E13: 44846
B14: Przegląd zgodny z wymaganiami producenta obejmujący min. czyszczenie, sprawdzenie bezpieczeństwa mechanicznego i elektrycznego, kontrolę zużycia części i wyposażenia, sprawdzenie poprawności ogólnego funkcjonowania aparatów, kalibrację i testy kontrolne, sprawdzenie zgodności parametrów funkcjonalnych urządzeń z deklarowanymi przez producenta, sprawdzenie poprawności działania zgodnie z normami bezpieczeństwa zalecanymi przez producenta, konserwację zgodnie z zaleceniami producenta, testy bezpieczeństwa elektrycznego. Koszt przeglądu obejmuje koszty dojazdu. | G14: TAK
B15: Poszczególne przeglądy zostaną udokumentowane kartą pracy/raportem serwisowym, oraz wpisem do paszportu technicznego, a wyniki testu bezpieczeństwa elektrycznego na oddzielnym protokole. Aparaty zostaną oznakowane nalepką z terminem wykonania kolejnego przeglądu. | G15: TAK
A17: Cena brutto razem: | F17: Kwota VAT:

Sheet Część nr 31
B2: Część | C2: 31
A4: Temat: | C4: Cytometr przepływowy
B6: Szczegółowy podział części:
A8: Nr | B8: Nazwa/ Model | C8: Nr seryjny | D8: Rok produkcji | E8: Przegląd do | F8: Cena netto | G8: Stawka podatku VAT | H8: Cena brutto
A9: 1 | B9: FACSCalibur | C9: E0669 | D9: 1996 | E9: 2022-06-30, drugi po 6 miesiącach
B10: Przegląd zgodny z wymaganiami producenta obejmujący min. czyszczenie wnętrza aparatu, czyszczenie i optymalizacja zestrojenia optyki, sprawdzenie bezpieczeństwa mechanicznego i elektrycznego, kontrolę zużycia części i wyposażenia, sprawdzenie poprawności ogólnego funkcjonowania aparatu, kalibrację i testy kontrolne, sprawdzenie zgodności parametrów funkcjonalnych urządzeń z deklarowanymi przez producenta, sprawdzenie poprawności działania zgodnie z normami bezpieczeństwa zalecanymi przez producenta, konserwację zgodnie z zaleceniami producenta, wymiana zestawu "PM Kit", testy bezpieczeństwa elektrycznego. Koszt przeglądu obejmuje koszty dojazdu. | G10: TAK
B11: Poszczególne przeglądy zostaną udokumentowane kartą pracy/raportem serwisowym, oraz wpisem do paszportu technicznego, a wyniki testu bezpieczeństwa elektrycznego na oddzielnym protokole. Aparaty zostaną oznakowane nalepką z terminem wykonania kolejnego przeglądu. | G11: TAK
A13: Cena brutto razem: | F13: Kwota VAT:

Sheet Część nr 32
B2: Część | C2: 32
A4: Temat: | C4: Aparat do suchego rozmrażania osocza
B6: Szczegółowy podział części:
A8: Nr | B8: Nazwa/ Model | C8: Nr seryjny | D8: Rok produkcji | E8: Przegląd do | F8: Cena netto | G8: Stawka podatku VAT | H8: Cena brutto
A9: 1 | B9: Sahara III | C9: 99121057 | D9: 2006 | E9: 44846
B10: Przegląd zgodny z wymaganiami producenta obejmujący min. czyszczenie, sprawdzenie bezpieczeństwa mechanicznego i elektrycznego, kontrolę zużycia części i wyposażenia, sprawdzenie poprawności ogólnego funkcjonowania aparatu, kalibrację i testy kontrolne, sprawdzenie zgodności parametrów funkcjonalnych urządzeń z deklarowanymi przez producenta, sprawdzenie poprawności działania zgodnie z normami bezpieczeństwa zalecanymi przez producenta, konserwację zgodnie z zaleceniami producenta, testy bezpieczeństwa elektrycznego. | G10: TAK
