Workbook
Name FO: 'Załącznik nr 1 do SWZ'!$A$1:$H$104
Name for: 'Część nr 1'!$A$1:$K$22
Name Print_Area: 'Część nr 1'!$A$1:$L$22
Name Print_Area: 'Część nr 10'!$A$1:$K$13
Name Print_Area: 'Część nr 11'!$A$1:$K$17
Name Print_Area: 'Część nr 12'!$A$1:$K$15
Name Print_Area: 'Część nr 13'!$A$1:$K$25
Name Print_Area: 'Część nr 14'!$A$1:$K$13
Name Print_Area: 'Część nr 15'!$A$1:$K$15
Name Print_Area: 'Część nr 16'!$A$1:$K$30
Name Print_Area: 'Część nr 17'!$A$1:$K$19
Name Print_Area: 'Część nr 18'!$A$1:$K$33
Name Print_Area: 'Część nr 19'!$A$1:$K$31
Name Print_Area: 'Część nr 2'!$A$1:$K$16
Name Print_Area: 'Część nr 20'!$A$1:$K$15
Name Print_Area: 'Część nr 21'!$A$1:$K$37
Name Print_Area: 'Część nr 22'!$A$1:$K$17
Name Print_Area: 'Część nr 23'!$A$1:$K$14
Name Print_Area: 'Część nr 24'!$A$1:$K$17
Name Print_Area: 'Część nr 25'!$A$1:$K$19
Name Print_Area: 'Część nr 26'!$A$1:$K$18
Name Print_Area: 'Część nr 27'!$A$1:$K$15
Name Print_Area: 'Część nr 28'!$A$1:$K$15
Name Print_Area: 'Część nr 29'!$A$1:$K$16
Name Print_Area: 'Część nr 3'!$A$1:$K$17
Name Print_Area: 'Część nr 30'!$A$1:$K$17
Name Print_Area: 'Część nr 31'!$A$1:$K$13
Name Print_Area: 'Część nr 32'!$A$1:$K$13
Name Print_Area: 'Część nr 33'!$A$1:$K$17
Name Print_Area: 'Część nr 34'!$A$1:$K$13
Name Print_Area: 'Część nr 38'!$A$1:$K$14
Name Print_Area: 'Część nr 4'!$A$1:$K$22
Name Print_Area: 'Część nr 5'!$A$1:$K$31
Name Print_Area: 'Część nr 6'!$A$1:$K$13
Name Print_Area: 'Część nr 67'!$A$1:$K$14
Name Print_Area: 'Część nr 7'!$A$1:$K$16
Name Print_Area: 'Część nr 8'!$A$1:$K$15
Name Print_Area: 'Część nr 9'!$A$1:$K$15
Name Print_Area: 'Załącznik nr 1 do SWZ'!$A$1:$I$108

Sheet Załącznik nr 1 do SWZ
B2: Numer postępowania: | C2: ZP-271-7/22
B4: Nazwa postępowania: | C4: Usługa okresowych przeglądów technicznych aparatury, sprzętu medycznego i laboratoryjnego
B6: Nazwa Wykonawcy:
B8: Ulica: | D8: Nr domu:
B9: Miejscowość: | D9: Nr lokalu:
B10: Województwo: | D10: Kod pocztowy:
B11: NIP:
B12: REGON:
B13: KRS (jeśli dotyczy):
B14: BDO (jeśli dotyczy):
B16: Nazwa banku oraz numer rachunku bankowego do realizacji przedmiotu umowy:
B17: Nazwa banku: | D17: Numer rachunku:
B19: Wykonawca, którego reprezentuję/reprezentujemy jest: □ mikroprzedsiębiorstwem □ małym przedsiębiorstwem □ średnim przedsiębiorstwem □ jednoosobową działalnością gospodarczą □ osobą fizyczną nieprowadzącą działalności gospodarczej □ innym podmiotem
B21: Składamy ofertę na następujące części:
B23: Numer części: | C23: Temat: | D23: Cena brutto: | E23: Kwota VAT:
B24: ='Część nr 1'!$C$2 -> 1 | C24: ='Część nr 1'!$C$4 -> Aparaty EKG
B25: ='Część nr 2'!$C$2 -> 2 | C25: ='Część nr 2'!$C$4 -> Aparatura do histopatologii I
B26: ='Część nr 3'!$C$2 -> 3 | C26: ='Część nr 3'!$C$4 -> Aparatura do histopatologii II
B27: ='Część nr 4'!$C$2 -> 4 | C27: ='Część nr 4'!$C$4 -> Urządzenia Maquet
B28: ='Część nr 5'!$C$2 -> 5 | C28: ='Część nr 5'!$C$4 -> Sprzęt endoskopowy Olympus
B29: ='Część nr 6'!$C$2 -> 6 | C29: ='Część nr 6'!$C$4 -> System do radiografii próbek biopsyjnych
B30: ='Część nr 7'!$C$2 -> 7 | C30: ='Część nr 7'!$C$4 -> Wstrzykiwacze kontrastu
B31: ='Część nr 8'!$C$2 -> 8 | C31: ='Część nr 8'!$C$4 -> Aparaty do znieczulania Draeger
B32: ='Część nr 9'!$C$2 -> 9 | C32: ='Część nr 9'!$C$4 -> Aparaty do znieczulania Anmedic
B33: ='Część nr 10'!$C$2 -> 10 | C33: ='Część nr 10'!$C$4 -> Aparaty elektrochirurgiczne Emed
B34: ='Część nr 11'!$C$2 -> 11 | C34: ='Część nr 11'!$C$4 -> Aparaty elektrochirurgiczne Valleylab
B35: ='Część nr 12'!$C$2 -> 12 | C35: ='Część nr 12'!$C$4 -> Aparaty elektrochirurgiczne Erbe
B36: ='Część nr 13'!$C$2 -> 13 | C36: ='Część nr 13'!$C$4 -> Aparaty USG
B37: ='Część nr 14'!$C$2 -> 14 | C37: ='Część nr 14'!$C$4 -> Respirator Viasys
B38: ='Część nr 15'!$C$2 -> 15 | C38: ='Część nr 15'!$C$4 -> Detektory promieniowania gamma
B39: ='Część nr 16'!$C$2 -> 16 | C39: ='Część nr 16'!$C$4 -> Zestawy laparoskopowe Aesculap
B40: ='Część nr 17'!$C$2 -> 17 | C40: ='Część nr 17'!$C$4 -> Mikrotomy
B41: ='Część nr 18'!$C$2 -> 18 | C41: ='Część nr 18'!$C$4 -> Urządzenia Mindray
B42: ='Część nr 19'!$C$2 -> 19 | C42: ='Część nr 19'!$C$4 -> Sprzęt monitorowania parametrów życiowych
B43: ='Część nr 20'!$C$2 -> 20 | C43: ='Część nr 20'!$C$4 -> Defibrylatory
B44: ='Część nr 21'!$C$2 -> 21 | C44: ='Część nr 21'!$C$4 -> Pompy infuzyjne Braun
B45: ='Część nr 22'!$C$2 -> 22 | C45: ='Część nr 22'!$C$4 -> Myjnie endoskopowe, szafa do suszenia endoskopów
B46: ='Część nr 23'!$C$2 -> 23 | C46: ='Część nr 23'!$C$4 -> Sterylizator plazmowy
B47: ='Część nr 24'!$C$2 -> 24 | C47: ='Część nr 24'!$C$4 -> Urządzenia sterylizacji parowej
B48: ='Część nr 25'!$C$2 -> 25 | C48: ='Część nr 25'!$C$4 -> Urządzenia Centralnej Sterylizatorni
B49: ='Część nr 26'!$C$2 -> 26 | C49: ='Część nr 26'!$C$4 -> Komory laminarne I
B50: ='Część nr 27'!$C$2 -> 27 | C50: ='Część nr 27'!$C$4 -> Aparaty rtg Siemens
B51: ='Część nr 28'!$C$2 -> 28 | C51: ='Część nr 28'!$C$4 -> Mammograf, kardiomonitor GE
B52: ='Część nr 29'!$C$2 -> 29 | C52: ='Część nr 29'!$C$4 -> Urządzenia ZdAJ
B53: ='Część nr 30'!$C$2 -> 30 | C53: ='Część nr 30'!$C$4 -> Inkubatory CO2, cieplarki Incucell
B54: ='Część nr 31'!$C$2 -> 31 | C54: ='Część nr 31'!$C$4 -> Cytometr przepływowy
B55: ='Część nr 32'!$C$2 -> 32 | C55: ='Część nr 32'!$C$4 -> Aparat do suchego rozmrażania osocza
B56: ='Część nr 33'!$C$2 -> 33 | C56: ='Część nr 33'!$C$4 -> Myjnie-dezynfektory do kaczek i basenów Steelco
B57: ='Część nr 34'!$C$2 -> 34 | C57: ='Część nr 34'!$C$4 -> Aparat do hipertermii
B58: ='Część nr 35'!$C$2 -> 35 | C58: ='Część nr 35'!$C$4 -> Komory manipulacyjne
B59: ='Część nr 36'!$C$2 -> 36 | C59: ='Część nr 36'!$C$4 -> Systemy do planowania leczenia
B60: ='Część nr 37'!$C$2 -> 37 | C60: ='Część nr 37'!$C$4 -> Drukarki do klisz
B61: ='Część nr 38'!$C$2 -> 38 | C61: ='Część nr 38'!$C$4 -> Urządzenia do biopsji mammotomicznej
B62: ='Część nr 39'!$C$2 -> 39 | C62: ='Część nr 39'!$C$4 -> Aparat rtg Ziehm
B63: ='Część nr 40'!$C$2 -> 40 | C63: ='Część nr 40'!$C$4 -> Myjnia-dezynfektor do kaczek i basenów Getinge
B64: ='Część nr 41'!$C$2 -> 41 | C64: ='Część nr 41'!$C$4 -> Aparat do znieczulania Taema
B65: ='Część nr 42'!$C$2 -> 42 | C65: ='Część nr 42'!$C$4 -> Respiratory Covidien
B66: ='Część nr 43'!$C$2 -> 43 | C66: ='Część nr 43'!$C$4 -> Zestawy endoskopowe Karl Storz
B67: ='Część nr 44'!$C$2 -> 44 | C67: ='Część nr 44'!$C$4 -> Myjnia dezynfektor do kaczek i basenów Franke
B68: ='Część nr 45'!$C$2 -> 45 | C68: ='Część nr 45'!$C$4 -> Morcelator Richard Wolf
B69: ='Część nr 46'!$C$2 -> 46 | C69: ='Część nr 46'!$C$4 -> Nóż harmoniczny
B70: ='Część nr 47'!$C$2 -> 47 | C70: ='Część nr 47'!$C$4 -> Aspirator ultradźwiękowy
B71: ='Część nr 48'!$C$2 -> 48 | C71: ='Część nr 48'!$C$4 -> Kardiomonitor do pomiarów hemodynamicznych serca
B72: ='Część nr 49'!$C$2 -> 49 | C72: ='Część nr 49'!$C$4 -> Łóżka szpitalne elektryczne
B73: ='Część nr 50'!$C$2 -> 50 | C73: ='Część nr 50'!$C$4 -> Łóżka intensywnej opieki medycznej
B74: ='Część nr 51'!$C$2 -> 51 | C74: ='Część nr 51'!$C$4 -> Sprzęt endoskopowy Pentax
B75: ='Część nr 52'!$C$2 -> 52 | C75: ='Część nr 52'!$C$4 -> Laser do udrażniania światła oskrzeli
B76: ='Część nr 53'!$C$2 -> 53 | C76: ='Część nr 53'!$C$4 -> Ciśnieniomierze
B77: ='Część nr 54'!$C$2 -> 54 | C77: ='Część nr 54'!$C$4 -> Aparat do znieczulania Mindray
B78: ='Część nr 55'!$C$2 -> 55 | C78: ='Część nr 55'!$C$4 -> System transportu pacjenta
B79: ='Część nr 56'!$C$2 -> 56 | C79: ='Część nr 56'!$C$4 -> Mikroskopy
B80: ='Część nr 57'!$C$2 -> 57 | C80: ='Część nr 57'!$C$4 -> Pipety
B81: ='Część nr 58'!$C$2 -> 58 | C81: ='Część nr 58'!$C$4 -> Detektor promieniowania gamma
B82: ='Część nr 59'!$C$2 -> 59 | C82: ='Część nr 59'!$C$4 -> Generator do termoablacji
B83: ='Część nr 60'!$C$2 -> 60 | C83: ='Część nr 60'!$C$4 -> Performer hipertermii
B84: ='Część nr 61'!$C$2 -> 61 | C84: ='Część nr 61'!$C$4 -> System obrazowania VS3 Iridium
B85: ='Część nr 62'!$C$2 -> 62 | C85: ='Część nr 62'!$C$4 -> Robotyczny pozycjoner optyki
B86: ='Część nr 63'!$C$2 -> 63 | C86: ='Część nr 63'!$C$4 -> Kardiostymulator zewnętrzny
B87: ='Część nr 64'!$C$2 -> 64 | C87: ='Część nr 64'!$C$4 -> Respiratory transportowe
B88: ='Część nr 65'!$C$2 -> 65 | C88: ='Część nr 65'!$C$4 -> Stół operacyjny Saturn Select
B89: ='Część nr 66'!$C$2 -> 66 | C89: ='Część nr 66'!$C$4 -> Lampy operacyjne
B90: ='Część nr 67'!$C$2 -> 67 | C90: ='Część nr 67'!$C$4 -> Sekwenator Ion S5 z wyposażeniem
B91: ='Część nr 68'!$C$2 -> 68 | C91: ='Część nr 68'!$C$4 -> Sekwenator kapilarny
B92: ='Część nr 69'!$C$2 -> 69 | C92: ='Część nr 69'!$C$4 -> Zamrażarki niskotemperaturowe
B93: ='Część nr 70'!$C$2 -> 70 | C93: ='Część nr 70'!$C$4 -> Wirówki laboratoryjne
B94: ='Część nr 71'!$C$2 -> 71 | C94: ='Część nr 71'!$C$4 -> Aparat do izolacji kwasów nukleinowych
B95: ='Część nr 72'!$C$2 -> 72 | C95: ='Część nr 72'!$C$4 -> Inkubator, wirówka Bio-Rad
B96: ='Część nr 73'!$C$2 -> 73 | C96: ='Część nr 73'!$C$4 -> Termocyklery PCR firmy Termo Scientific
B97: ='Część nr 74'!$C$2 -> 74 | C97: ='Część nr 74'!$C$4 -> Komory laminarne II
B98: ='Część nr 75'!$C$2 -> 75 | C98: ='Część nr 75'!$C$4 -> Komory laminarne III
B99: ='Część nr 76'!$C$2 -> 76 | C99: ='Część nr 76'!$C$4 -> Urządzenia laboratoryjne Becton Dickinson
B100: ='Część nr 77'!$C$2 -> 77 | C100: ='Część nr 77'!$C$4 -> Komora laminarna IV
B102: Jeśli wybór oferty będzie prowadzić do powstania u Zamawiającego obowiązku podatkowego zgodnie z przepisami o podatku od towarów i usług Wykonawca winien poinformować o tym Zamawiającego np. poprzez wpisanie w kolumnie "Kwota VAT" wyrażenia "po stronie Zamawiającego" lub inny tekst jednoznacznie wskazujący, że obowiązek podatkowy będzie po stronie Zamawiającego.
B103: Zamierzam powierzyć część zamówienia Podwykonawcy: nazwa lub firma Podwykonawcy, część zamówienia, która zostanie powierzona podwykonawcy* (*niepotrzebne skreślić)…………………………. ……………………………………………………………………………………………………….. / Nie zamierzam powierzyć część zamówienia Podwykonawcy* (*niepotrzebne skreślić).
B104: Oświadczam, że wypełniłem obowiązki informacyjne przewidziane w art. 13 lub art. 14 RODO (rozporządzenie Parlamentu Europejskiego i Rady (UE) 2016/679 z dnia 27 kwietnia 2016 r. w sprawie ochrony osób fizycznych w związku z przetwarzaniem danych osobowych i w sprawie swobodnego przepływu takich danych oraz uchylenia dyrektywy 95/46/WE (ogólne rozporządzenie o ochronie danych) (Dz. Urz. UE L 119 z 04.05.2016, str. 1) wobec osób fizycznych, od których dane osobowe bezpośrednio lub pośrednio pozyskałem w celu ubiegania się o udzielenie zamówienia publicznego w niniejszym postępowaniu.* * W przypadku gdy wykonawca nie przekazuje danych osobowych innych niż bezpośrednio jego dotyczących lub zachodzi wyłączenie stosowania obowiązku informacyjnego, stosownie do art. 13 ust. 4 lub art. 14 ust. 5 RODO treści oświadczenia wykonawca nie składa (usunięcie treści oświadczenia np. przez jego wykreślenie).

Sheet Część nr 1
B2: Część | C2: 1
A4: Temat: | C4: Aparaty EKG
B6: Szczegółowy podział części:
A8: Nr | B8: Nazwa/ Model | C8: Nr seryjny | D8: Rok produkcji | E8: Przegląd do | F8: Cena netto | G8: Stawka podatku VAT | H8: Cena brutto
A9: 1 | B9: AsCARD Mr BLUE | C9: 228/07/A | D9: 2007 | E9: 44805
A10: 2 | B10: AsCARD Mr BLUE | C10: 64/06 | D10: 2006 | E10: 44805
A11: 3 | B11: AsCARD Mr BLUE | C11: 703/08 | D11: 2008 | E11: 44805
A12: 4 | B12: AsCARD Mr BLUE | C12: 227/07/A | D12: 2007 | E12: 44805
A13: 5 | B13: M-Trace | C13: 0490 | D13: 2010 | E13: 44805
A14: 6 | B14: M-Trace | C14: 0633 | D14: 2010 | E14: 44805
A15: 7 | B15: M-Trace | C15: 0274 | D15: 2009 | E15: 44805
A16: 8 | B16: M-Trace | C16: 4450 | D16: 2018 | E16: 44805
A17: 9 | B17: M-Trace | C17: 4451 | D17: 2018 | E17: 44805
A18: 10 | B18: M-Trace | C18: 1386 | D18: 2012 | E18: 44805
B19: Przegląd zgodny z wymaganiami producenta obejmujący min. czyszczenie, kalibrację i testy kontrolne, sprawdzenie zgodności parametrów funkcjonalnych urządzeń z deklarowanymi przez producenta, sprawdzenie poprawności działania zgodnie z normami bezpieczeństwa zalecanymi przez producenta, konserwację zgodnie z zaleceniami producenta, testy bezpieczeństwa elektrycznego. Koszt przeglądu obejmuje koszty dojazdu. | G19: TAK
B20: Poszczególne przeglądy zostaną udokumentowane kartą pracy/raportem serwisowym, oraz wpisem do paszportu technicznego, a wyniki testu bezpieczeństwa elektrycznego na oddzielnym protokole. Aparaty zostaną oznakowane nalepką z terminem wykonania kolejnego przeglądu. | G20: TAK
A22: Cena brutto razem: | F22: Kwota VAT:

Sheet Część nr 2
B2: Część | C2: 2
A4: Temat: | C4: Aparatura do histopatologii I
B6: Szczegółowy podział części:
A8: Nr | B8: Nazwa/ Model | C8: Nr seryjny | D8: Rok produkcji | E8: Przegląd do | F8: Cena netto | G8: Stawka podatku VAT | H8: Cena brutto
A9: 1 | B9: Kriostat LEICA CM1900 | C9: 1398 | D9: 2000 | E9: 44783
A10: 2 | B10: Mikrotom LEICA RM2135 | C10: 775 | D10: 1997 | E10: 44783
A11: 3 | B11: Mikrotom LEICA SM2000R | C11: 1291 | D11: 1998 | E11: 44783
B12: Przegląd zgodny z wymaganiami producenta obejmujący min. czyszczenie, sprawdzenie bezpieczeństwa mechanicznego i elektrycznego, kontrolę zużycia części i wyposażenia, sprawdzenie poprawności ogólnego funkcjonowania aparatu, kalibrację i testy kontrolne, sprawdzenie zgodności parametrów funkcjonalnych urządzeń z deklarowanymi przez producenta, sprawdzenie poprawności działania zgodnie z normami bezpieczeństwa zalecanymi przez producenta, konserwację zgodnie z zaleceniami producenta, testy bezpieczeństwa elektrycznego. Koszt przeglądu obejmuje koszty dojazdu. | G12: TAK
B13: Poszczególne przeglądy zostaną udokumentowane kartą pracy/raportem serwisowym, oraz wpisem do paszportu technicznego, a wyniki testu bezpieczeństwa elektrycznego na oddzielnym protokole. Aparaty zostaną oznakowane nalepką z terminem wykonania kolejnego przeglądu. | G13: TAK
A16: Cena brutto razem: | F16: Kwota VAT:

Sheet Część nr 3
B2: Część | C2: 3
A4: Temat: | C4: Aparatura do histopatologii II
B6: Szczegółowy podział części:
A8: Nr | B8: Nazwa/ Model | C8: Nr seryjny | D8: Rok produkcji | E8: Przegląd do | F8: Cena netto | G8: Stawka podatku VAT | H8: Cena brutto
A9: 1 | B9: Procesor tkankowy Excelsior | C9: EX24250707 | D9: 2007 | E9: 44806
A10: 2 | B10: Barwiarka Varistain Gemini | C10: PH1059E0706 | D10: 2007 | E10: 44806
A11: 3 | B11: Zaklejarka GCS 600 | C11: 2023132 | D11: 2007 | E11: 44806
A12: 4 | B12: Stacja do zatapiania tkanek Histostar | C12: HS3139A1511 | D12: 2015 | E12: 44806
B13: Przegląd zgodny z wymaganiami producenta obejmujący min. czyszczenie, sprawdzenie bezpieczeństwa mechanicznego i elektrycznego, kontrolę zużycia części i wyposażenia, sprawdzenie poprawności ogólnego funkcjonowania aparatu, kalibrację i testy kontrolne, sprawdzenie zgodności parametrów funkcjonalnych urządzeń z deklarowanymi przez producenta, sprawdzenie poprawności działania zgodnie z normami bezpieczeństwa zalecanymi przez producenta, konserwację zgodnie z zaleceniami producenta, testy bezpieczeństwa elektrycznego. Przegląd obejmuje min. wymianę elementów – filter formaldehyde – 2 szt., filter vapour, akumulator 12V/12Ah – 2 szt. do procesora Excelsior, filter vapour, akumulator 12V/12Ah do barwiarki Gemini. Koszt przeglądu obejmuje koszty dojazdu. | G13: TAK
B14: Poszczególne przeglądy zostaną udokumentowane kartą pracy/raportem serwisowym, oraz wpisem do paszportu technicznego, a wyniki testu bezpieczeństwa elektrycznego na oddzielnym protokole. Aparaty zostaną oznakowane nalepką z terminem wykonania kolejnego przeglądu. | G14: TAK
A17: Cena brutto razem: | F17: Kwota VAT:

Sheet Część nr 4
B2: Część | C2: 4
A4: Temat: | C4: Urządzenia Maquet
B6: Szczegółowy podział części:
A8: Nr | B8: Nazwa/ Model | C8: Nr seryjny | D8: Rok produkcji | E8: Przegląd do | F8: Cena netto | G8: Stawka podatku VAT | H8: Cena brutto
A9: 1 | B9: Aphastar Pro | C9: 00256 | D9: 2014 | E9: 44924
A10: 2 | B10: Aphastar Pro | C10: 00257 | D10: 2014 | E10: 44924
A11: 3 | B11: Aphastar Pro | C11: 00268 | D11: 2014 | E11: 44924
A12: 4 | B12: Alphamaquet 1150 | C12: 02710 | D12: 2013 | E12: 44924
A13: 5 | B13: Volista 600/400 | C13: AR029000/ AR028047 | D13: 2014 | E13: 44924
A14: 6 | B14: Volista 600/400 | C14: AR025074/ AR025065 | D14: 2014 | E14: 44924
A15: 7 | B15: Modutec MM 6-6 BP | C15: SUQ822810 | D15: 2014 | E15: 44924
A16: 8 | B16: Modutec MM 6-6 BP | C16: SUQ822809 | D16: 2014 | E16: 44924
A17: 9 | B17: Modutec HM 9-9 BP | C17: SUQ822811 | D17: 2014 | E17: 44924
A18: 10 | B18: Modutec HM 9-9 BP | C18: SUQ822812 | D18: 2014 | E18: 44924
B19: Przegląd zgodny z wymaganiami producenta obejmujący min. czyszczenie, sprawdzenie bezpieczeństwa mechanicznego i elektrycznego, smarowanie ruchomych części mechanicznych, kontrolę zużycia części i wyposażenia, sprawdzenie poprawności ogólnego funkcjonowania aparatu, kalibrację i testy kontrolne, sprawdzenie zgodności parametrów funkcjonalnych urządzeń z deklarowanymi przez producenta, sprawdzenie poprawności działania zgodnie z normami bezpieczeństwa zalecanymi przez producenta, konserwację zgodnie z zaleceniami producenta, testy bezpieczeństwa elektrycznego. Koszt przeglądu obejmuje koszty dojazdu. | G19: TAK
B20: Poszczególne przeglądy zostaną udokumentowane kartą pracy/raportem serwisowym, oraz wpisem do paszportu technicznego, a wyniki testu bezpieczeństwa elektrycznego na oddzielnym protokole. Aparaty zostaną oznakowane nalepką z terminem wykonania kolejnego przeglądu. | G20: TAK
A22: Cena brutto razem: | F22: Kwota VAT:

Sheet Część nr 5
B2: Część | C2: 5
A4: Temat: | C4: Sprzęt endoskopowy Olympus
B6: Szczegółowy podział części:
A8: Nr | B8: Nazwa/ Model | C8: Nr seryjny | D8: Rok produkcji | E8: Przegląd do | F8: Cena netto | G8: Stawka podatku VAT | H8: Cena brutto
A9: 1 | B9: BF-XT160 | C9: 2500407 | D9: 2005 | E9: 45004
A10: 2 | B10: BF-1T160 | C10: 2512928 | D10: 2005 | E10: 45004
A11: 3 | B11: GIF-Q180 | C11: 2707212 | D11: 2007 | E11: 45004
A12: 4 | B12: URF-P5 | C12: W900431 | D12: 2009 | E12: 45004
A13: 5 | B13: CYF-VHA | C13: 2400846 | D13: 2014 | E13: 44859
A14: 6 | B14: GIF-H190 | C14: 2414276 | D14: 2014 | E14: 45004
A15: 7 | B15: CF-H185L | C15: 2731449 | D15: 2017 | E15: 44988
A16: 8 | B16: CF-H185L | C16: 2731452 | D16: 2017 | E16: 44936
A17: 9 | B17: ="OFP-2" -> OFP-2 | C17: ="21413143" -> 21413143 | D17: 2014 | E17: 44859
A18: 10 | B18: ="OFP-2" -> OFP-2 | C18: ="21411277" -> 21411277 | D18: 2014 | E18: 44859
A19: 11 | B19: ="CV-160" -> CV-160 | C19: ="7539116" -> 7539116 | D19: 2006 | E19: 44859
A20: 12 | B20: ="CV-190" -> CV-190 | C20: ="7455791" -> 7455791 | D20: 2014 | E20: 44859
A21: 13 | B21: ="CV-190" -> CV-190 | C21: ="7406699" -> 7406699 | D21: 2014 | E21: 44859
A22: 14 | B22: ="Wózek endoskopowy" -> Wózek endoskopowy | C22: ="802-59-1" -> 802-59-1 | D22: 2006 | E22: 44859
A23: 15 | B23: ="WM-NP2" -> WM-NP2 | C23: ="21415444" -> 21415444 | D23: 2014 | E23: 44859
A24: 16 | B24: ="WM-NP2" -> WM-NP2 | C24: ="21416379" -> 21416379 | D24: 2014 | E24: 44859
A25: 17 | B25: ="CLV-160" -> CLV-160 | C25: ="7546609" -> 7546609 | D25: 2006 | E25: 44859
A26: 18 | B26: ="CLV-190" -> CLV-190 | C26: ="7406764" -> 7406764 | D26: 2014 | E26: 44859
A27: 19 | B27: ="CLV-190" -> CLV-190 | C27: ="7455798" -> 7455798 | D27: 2014 | E27: 44859
B28: Przegląd zgodny z wymaganiami producenta obejmujący min. czyszczenie, sprawdzenie bezpieczeństwa mechanicznego i elektrycznego, kontrolę zużycia części i wyposażenia, sprawdzenie poprawności ogólnego funkcjonowania aparatu, kalibrację i testy kontrolne, sprawdzenie zgodności parametrów funkcjonalnych urządzeń z deklarowanymi przez producenta, sprawdzenie poprawności działania zgodnie z normami bezpieczeństwa zalecanymi przez producenta, konserwację zgodnie z zaleceniami producenta, testy bezpieczeństwa elektrycznego. Wykonawca w ramach przeglądu zobowiązuje się do przygotowania bieżących zaleceń eksploatacyjnych związanych ze stanem aparatów oraz ich dalszym użytkowaniem. Wykonawca zobowiązuje się do wykonania ekspertyz technicznych związanych z wykrytymi usterkami oraz kosztorysu naprawy. Wykonawca zobowiązuje się do zwrotu endoskopów w nie pogorszonym stanie technicznym, wszelkie działania mogące pogorszyć stan techniczny endoskopów muszą być wcześniej uzgadniane z Zamawiającym. | G28: TAK
B29: Poszczególne przeglądy zostaną udokumentowane kartą pracy/raportem serwisowym, oraz wpisem do paszportu technicznego, a wyniki testu bezpieczeństwa elektrycznego na oddzielnym protokole. Aparaty zostaną oznakowane nalepką z terminem wykonania kolejnego przeglądu. Koszt przeglądu obejmuje koszty dojazdu lub wysyłki. W przypadku wysyłki, fakt pobrania sprzętu do przeglądu i odbioru sprzętu po przeglądzie zostanie potwierdzony pokwitowaniem z zaznaczeniem nazwy, typu i numeru fabrycznego sprzętu. Wykonawca ponosi pełną odpowiedzialność za przewożony sprzęt. | G29: TAK
A31: Cena brutto razem: | F31: Kwota VAT:

Sheet Część nr 6
B2: Część | C2: 6
A4: Temat: | C4: System do radiografii próbek biopsyjnych
A6: Szczegółowy podział części:
A8: Nr | B8: Nazwa/ Model | C8: Nr seryjny | D8: Rok produkcji | E8: Przegląd do | F8: Cena netto | G8: Stawka podatku VAT | H8: Cena brutto
A9: 1 | B9: Xpert 20 | C9: 1520-075-405 | D9: 2017 | E9: 44903
B10: Przegląd zgodny z wymaganiami producenta obejmujący min. czyszczenie, sprawdzenie bezpieczeństwa mechanicznego i elektrycznego, kontrolę zużycia części i wyposażenia, sprawdzenie poprawności ogólnego funkcjonowania aparatu, kalibrację i testy kontrolne, sprawdzenie zgodności parametrów funkcjonalnych urządzenia z deklarowanymi przez producenta, sprawdzenie poprawności działania zgodnie z normami bezpieczeństwa zalecanymi przez producenta, konserwację zgodnie z zaleceniami producenta, testy bezpieczeństwa elektrycznego. Koszt przeglądu obejmuje koszty dojazdu. | G10: TAK
B11: Poszczególne przeglądy zostaną udokumentowane kartą pracy/raportem serwisowym, oraz wpisem do paszportu technicznego, a wyniki testu bezpieczeństwa elektrycznego na oddzielnym protokole. Aparaty zostaną oznakowane nalepką z terminem wykonania kolejnego przeglądu. | G11: TAK
A13: Cena brutto: | F13: Kwota VAT:

Sheet Część nr 7
B2: Część | C2: 7
A4: Temat: | C4: Wstrzykiwacze kontrastu
B6: Szczegółowy podział części:
A8: Nr | B8: Nazwa/ Model | C8: Nr seryjny | D8: Rok produkcji | E8: Przegląd do | F8: Cena netto | G8: Stawka podatku VAT | H8: Cena brutto
A9: 1 | B9: Optivantage DH | C9: CI0312B562 | D9: 2012 | E9: 44864
A10: 2 | B10: Optivantage DH | C10: CI0312B517 | D10: 2012 | E10: 44813
A11: 3 | B11: Optivantage DH | C11: CI0107B519 | D11: 2007 | E11: 45000
A12: 4 | B12: Optistar Elite | C12: CI0610D008 | D12: 2010 | E12: 44820
B13: Przegląd zgodny z wymaganiami producenta obejmujący min. czyszczenie, sprawdzenie bezpieczeństwa mechanicznego i elektrycznego, kontrolę zużycia części i wyposażenia, sprawdzenie poprawności ogólnego funkcjonowania aparatu, kalibrację i testy kontrolne, sprawdzenie zgodności parametrów funkcjonalnych urządzenia z deklarowanymi przez producenta, sprawdzenie poprawności działania zgodnie z normami bezpieczeństwa zalecanymi przez producenta, konserwację zgodnie z zaleceniami producenta, testy bezpieczeństwa elektrycznego. Koszt przeglądu obejmuje koszty dojazdu. | G13: TAK
B14: Poszczególne przeglądy zostaną udokumentowane kartą pracy/raportem serwisowym, oraz wpisem do paszportu technicznego, a wyniki testu bezpieczeństwa elektrycznego na oddzielnym protokole. Aparaty zostaną oznakowane nalepką z terminem wykonania kolejnego przeglądu. | G14: TAK
A16: Cena brutto: | F16: Kwota VAT:

Sheet Część nr 8
B2: Część | C2: 8
A4: Temat: | C4: Aparaty do znieczulania Draeger
B6: Szczegółowy podział części:
A8: Nr | B8: Nazwa/ Model | C8: Nr seryjny | D8: Rok produkcji | E8: Przegląd do | F8: Cena netto | G8: Stawka podatku VAT | H8: Cena brutto
A9: 1 | B9: Primus + monitor Infinity Delta | C9: ASDJ-0110 | D9: 2012 | E9: 2022-08-28, drugi po 6 miesiącach
A10: 2 | B10: Primus + monitor Infinity Delta | C10: ASAK-0172 | D10: 2009 | E10: 2022-08-28, drugi po 6 miesiącach
A11: 3 | B11: Primus | C11: ASFJ-0047 | D11: 2014 | E11: 2022-08-28, drugi po 6 miesiącach
B12: Przeglądy zgodnie z wymaganiami producenta obejmujące min. czyszczenie, kalibrację i testy kontrolne, sprawdzenie zgodności parametrów funkcjonalnych urządzeń z deklarowanymi przez producenta, sprawdzenie poprawności działania zgodnie z normami bezpieczeństwa zalecanymi przez producenta, konserwację zgodnie z zaleceniami producenta, testy bezpieczeństwa elektrycznego. Przeglądy wykonywane przy użyciu zalecanych przez producenta urządzeń kontrolnopomiarowych posiadających aktualne świadectwa kalibracji/wzorcowania. Przeglądy obejmują min. wymianę elementów – zestaw 2-letni Primus (1 szt.), zestaw 1-roczny Primus (2 szt.), filtr 37 mm - 3 szt, uszczelki (3 szt.), Lithium-ion battery (2 szt.) do monitorów Infinity Delta, moduł przewodowy Multimed 5 2,5 m (1 szt.), przewód EKG, 3-odpr, 2-pinowy, IEC1 (2 szt.), przedłużacz SpO2 Drager/Nellcor do Multimed 5 (1 szt.), czujnik SpO2 Drager na palec (1 szt.), czujnik SpO2 Masimo LNCS na palec z przedłużaczem, dren łączący NIPC do monitora Infinity (1 szt.), mankiet NIPC, rozmiar 23-33 cm (3 szt.), pułapka wodna (36 szt.). Koszt przeglądów obejmuje koszty dojazdu. Przeglądy zgodnie z wymaganiami producenta obejmujące min. czyszczenie, kalibrację i testy kontrolne, sprawdzenie zgodności parametrów funkcjonalnych urządzeń z deklarowanymi przez producenta, sprawdzenie poprawności działania zgodnie z normami bezpieczeństwa zalecanymi przez producenta, konserwację zgodnie z zaleceniami producenta, testy bezpieczeństwa elektrycznego. Przeglądy wykonywane przy użyciu zalecanych przez producenta urządzeń kontrolnopomiarowych posiadających aktualne świadectwa kalibracji/wzorcowania. Przeglądy obejmują min. wymianę elementów – zestaw 2-letni i 2-letni zestaw oddechowy Primus (2 szt.), zestaw 1-roczny Primus (1 szt.), filtr 37 mm - 3 szt, uszczelki (3 szt.), W kardiomonitorach filtr (2 szt.), akumulator (2 szt.), moduł przewodowy Multimed 5 2,5 m (1 szt.), przewód EKG, 3-odpr, 2-pinowy, IEC1 (2 szt.), przedłużacz SpO2 Drager/Nellcor do Multimed 5 (1 szt.), czujnik SpO2 Drager na palec (1 szt.), czujnik SpO2 Masimo LNCS na palec z przedłużaczem, dren łączący NIPC do monitora Infinity (1 szt.), mankiet NIPC, rozmiar 23-33 cm (3 szt.), pułapka wodna (36 szt.). Koszt przeglądów obejmuje koszty dojazdu. | G12: TAK
B13: Poszczególne przeglądy zostaną udokumentowane kartą pracy/raportem serwisowym, oraz wpisem do paszportu technicznego, a wyniki testu bezpieczeństwa elektrycznego na oddzielnym protokole. Aparaty zostaną oznakowane nalepką z terminem wykonania kolejnego przeglądu. | G13: TAK
A15: Cena brutto razem: | F15: Kwota VAT:

Sheet Część nr 9
B2: Część | C2: 9
A4: Temat: | C4: Aparaty do znieczulania Anmedic
B6: Szczegółowy podział części:
A8: Nr | B8: Nazwa/ Model | C8: Nr seryjny | D8: Rok produkcji | E8: Przegląd do | F8: Cena netto | G8: Stawka podatku VAT | H8: Cena brutto
A9: 1 | B9: Falcon SE | C9: 511163 | D9: 2006 | E9: 44773
A10: 2 | B10: Falcon SE | C10: 511165 | D10: 2006 | E10: 44773
B11: Przegląd zgodny z wymaganiami producenta obejmujący min. czyszczenie, kalibrację i testy kontrolne, sprawdzenie zgodności parametrów funkcjonalnych urządzeń z deklarowanymi przez producenta, sprawdzenie poprawności działania zgodnie z normami bezpieczeństwa zalecanymi przez producenta, konserwację zgodnie z zaleceniami producenta, testy bezpieczeństwa elektrycznego. Koszt przeglądu obejmuje koszty dojazdu. | G11: TAK
B12: Poszczególne przeglądy zostaną udokumentowane kartą pracy/raportem serwisowym, oraz wpisem do paszportu technicznego, a wyniki testu bezpieczeństwa elektrycznego na oddzielnym protokole. Aparaty zostaną oznakowane nalepką z terminem wykonania kolejnego przeglądu. | G12: TAK
A15: Cena brutto razem: | F15: Kwota VAT:

Sheet Część nr 10
B2: Część | C2: 10
A4: Temat: | C4: Aparaty elektrochirurgiczne Emed
B6: Szczegółowy podział części:
A8: Nr | B8: Nazwa/ Model | C8: Nr seryjny | D8: Rok produkcji | E8: Przegląd do | F8: Cena netto | G8: Stawka podatku VAT | H8: Cena brutto
A9: 1 | B9: ES 300 | C9: 30828 | D9: 2009 | E9: 44944
B10: Przegląd zgodny z wymaganiami producenta obejmujący min. pomiary mocy wyjściowych dla poszczególnych gniazd i trybów pracy, czyszczenie wnętrza i ocena stanu elementów sterujących, kontrola aktywacji, konserwację zgodnie z zaleceniami producenta, testy bezpieczeństwa elektrycznego. | G10: TAK
B11: Poszczególne przeglądy zostaną udokumentowane kartą pracy/raportem serwisowym, oraz wpisem do paszportu technicznego, a wyniki testu bezpieczeństwa elektrycznego na oddzielnym protokole. Aparaty zostaną oznakowane nalepką z terminem wykonania kolejnego przeglądu. Koszt przeglądu obejmuje koszty dojazdu lub wysyłki. W przypadku wysyłki Wykonawca ponosi pełną odpowiedzialność za przewożony sprzęt. | G11: TAK
A13: Cena brutto razem: | F13: Kwota VAT:

Sheet Część nr 11
B2: Część | C2: 11
A4: Temat: | C4: Aparaty elektrochirurgiczne Valleylab
B6: Szczegółowy podział części:
A8: Nr | B8: Nazwa/ Model | C8: Nr seryjny | D8: Rok produkcji | E8: Przegląd do | F8: Cena netto | G8: Stawka podatku VAT | H8: Cena brutto
A9: 1 | B9: FORCE EZ | C9: F0I4536B | D9: 2001 | E9: 44862
A10: 2 | B10: FORCE EZ-8C | C10: F7L10768B | D10: 2007 | E10: 44862
A11: 3 | B11: Force Triad | C11: T1K25934EX | D11: 2011 | E11: 44750
A12: 4 | B12: Force Triad | C12: T4C40440EX | D12: 2014 | E12: 44862
A13: 5 | B13: Force Argon II-8 | C13: G4D2949UX | D13: 2014 | E13: 44862
B14: Przegląd zgodny z wymaganiami producenta obejmujący min. pomiary mocy wyjściowych dla poszczególnych gniazd i trybów pracy, czyszczenie wnętrza i ocena stanu elementów sterujących, kontrola aktywacji, konserwację zgodnie z zaleceniami producenta, testy bezpieczeństwa elektrycznego. | G14: TAK
B15: Poszczególne przeglądy zostaną udokumentowane kartą pracy/raportem serwisowym, oraz wpisem do paszportu technicznego, a wyniki testu bezpieczeństwa elektrycznego na oddzielnym protokole. Aparaty zostaną oznakowane nalepką z terminem wykonania kolejnego przeglądu. Koszt przeglądu obejmuje koszty dojazdu lub wysyłki. W przypadku wysyłki Wykonawca ponosi pełną odpowiedzialność za przewożony sprzęt. | G15: TAK
A17: Cena brutto razem: | F17: Kwota VAT:

Sheet Część nr 12
B2: Część | C2: 12
A4: Temat: | C4: Aparaty elektrochirurgiczne Erbe
B6: Szczegółowy podział części:
A8: Nr | B8: Nazwa/ Model | C8: Nr seryjny | D8: Rok produkcji | E8: Przegląd do | F8: Cena netto | G8: Stawka podatku VAT | H8: Cena brutto
A9: 1 | B9: VIO 300D | C9: 11317371 | D9: 2010 | E9: 44862
A10: 2 | B10: VIO 300D | C10: 11383082 | D10: 2014 | E10: 44862
A11: 3 | B11: APC2 | C11: 11379886 | D11: 2014 | E11: 44862
B12: Przegląd zgodny z wymaganiami producenta obejmujący min. pomiary mocy wyjściowych dla poszczególnych gniazd i trybów pracy, czyszczenie wnętrza i ocena stanu elementów sterujących, kontrola aktywacji, konserwację zgodnie z zaleceniami producenta, testy bezpieczeństwa elektrycznego. | G12: TAK
B13: Poszczególne przeglądy zostaną udokumentowane kartą pracy/raportem serwisowym, oraz wpisem do paszportu technicznego, a wyniki testu bezpieczeństwa elektrycznego na oddzielnym protokole. Aparaty zostaną oznakowane nalepką z terminem wykonania kolejnego przeglądu. Koszt przeglądu obejmuje koszty dojazdu. | G13: TAK
A15: Cena brutto razem: | F15: Kwota VAT:

Sheet Część nr 13
B2: Część | C2: 13
A4: Temat: | C4: Aparaty USG
B6: Szczegółowy podział części:
A8: Nr | B8: Nazwa/ Model | C8: Nr seryjny | D8: Rok produkcji | E8: Przegląd do | F8: Cena netto | G8: Stawka podatku VAT | H8: Cena brutto
A9: 1 | B9: Logiq 7 R75X | C9: 36207YU9 | D9: 2008 | E9: 44807
A10: 2 | B10: Logiq 7 R75X | C10: 39043YU5 | D10: 2008 | E10: 44807
A11: 3 | B11: Logiq Book XP | C11: 49446WX8 | D11: 2007 | E11: 44807
A12: 4 | B12: Falcon 2101 EXL | C12: 1852268 | D12: 2004 | E12: 44807
A13: 5 | B13: Hawk 2102 | C13: 1851759 | D13: 2005 | E13: 44807
A14: 6 | B14: Preirus | C14: KE13039107 | D14: 2011 | E14: 44807
A15: 7 | B15: Sparq | C15: US61310230 | D15: 2013 | E15: 44807
A16: 8 | B16: Flex Focus 800 | C16: 5005181 | D16: 2014 | E16: 44895
A17: 9 | B17: Flex Focus 800 | C17: 5005189 | D17: 2014 | E17: 44895
A18: 10 | B18: ="Arietta V70" -> Arietta V70 | C18: ="205T4957" -> 205T4957 | D18: 2017 | E18: 44895
A19: 11 | B19: ="Arietta V70a" -> Arietta V70a | C19: ="205Q9960" -> 205Q9960 | D19: 2017 | E19: 44895
A20: 12 | B20: Arietta 850 | C20: 20612085 | D20: 2018 | E20: 44807
A21: 13 | B21: ="Flex Focus 300" -> Flex Focus 300 | C21: ="5009775" -> 5009775 | D21: 2017 | E21: 44807
B22: Przegląd serwisowy zgodny z wymaganiami producenta aparatu zawierający min. czyszczenie wnętrza aparatu, wentylatorów, filtrów i trackball’a, sprawdzenie i poprawę styków elektrycznych, sprawdzenie urządzeń peryferyjnych, testy głowic, konserwację zgodnie z zaleceniami producenta, testy bezpieczeństwa elektrycznego. Koszt przeglądu obejmuje koszty dojazdu. | G22: TAK
B23: Poszczególne przeglądy zostaną udokumentowane kartą pracy/raportem serwisowym, oraz wpisem do paszportu technicznego, a wyniki testu bezpieczeństwa elektrycznego na oddzielnym protokole. Aparaty zostaną oznakowane nalepką z terminem wykonania kolejnego przeglądu. | G23: TAK
A25: Cena brutto: | F25: Kwota VAT:

Sheet Część nr 14
B2: Część | C2: 14
A4: Temat: | C4: Respirator Viasys
B6: Szczegółowy podział części:
A8: Nr | B8: Nazwa/ Model | C8: Nr seryjny | D8: Rok produkcji | E8: Przegląd do | F8: Cena netto | G8: Stawka podatku VAT | H8: Cena brutto
A9: 1 | B9: Vela | C9: AGT01324 | D9: 2007 | E9: 44894
B10: Przegląd zgodny z wymaganiami producenta obejmujący min. czyszczenie, kalibrację i testy kontrolne, sprawdzenie zgodności parametrów funkcjonalnych urządzeń z deklarowanymi przez producenta, sprawdzenie poprawności działania zgodnie z normami bezpieczeństwa zalecanymi przez producenta, konserwację zgodnie z zaleceniami producenta, testy bezpieczeństwa elektrycznego. Przegląd obejmuje min. wymianę elementów: filtr wewnętrzny z tłumikiem (10365), uszczelka (30020) – 2 szt., filtr wentylatora (34058), filtr wejściowy tlenu (06804), filtr wejściowy powietrza (20819), membrana zastawki wydechowej (10384), czujnik tlenu (0110043). Koszt przeglądu obejmuje koszty dojazdu. | G10: TAK
B11: Przegląd zostanie udokumentowany kartą pracy/raportem serwisowym, oraz wpisem do paszportu technicznego, a wyniki testu bezpieczeństwa elektrycznego na oddzielnym protokole. Aparat zostanie oznakowany nalepką z terminem wykonania kolejnego przeglądu. | G11: TAK
A13: Cena brutto razem: | F13: Kwota VAT:

Sheet Część nr 15
B2: Część | C2: 15
A4: Temat: | C4: Detektory promieniowania gamma
B6: Szczegółowy podział części:
A8: Nr | B8: Nazwa/ Model | C8: Nr seryjny | D8: Rok produkcji | E8: Przegląd do | F8: Cena netto | G8: Stawka podatku VAT | H8: Cena brutto
A9: 1 | B9: GammaFinder II | C9: 040106 | D9: 2010 | E9: 44806
A10: 2 | B10: GammaFinder II | C10: 020758 | D10: 2008 | E10: 44806
A11: 3 | B11: GammaFinder II | C11: 040413 | D11: 2014 | E11: 44762
B12: Przegląd zgodny z wymaganiami producenta obejmujący min. czyszczenie, kalibrację i testy kontrolne, sprawdzenie zgodności parametrów funkcjonalnych urządzeń z deklarowanymi przez producenta, sprawdzenie poprawności działania zgodnie z normami bezpieczeństwa zalecanymi przez producenta, konserwację zgodnie z zaleceniami producenta, wymianę baterii. | G12: TAK
B13: Poszczególne przeglądy zostaną udokumentowane kartą pracy/raportem serwisowym, oraz wpisem do paszportu technicznego. Aparaty zostaną oznakowane nalepką z terminem wykonania kolejnego przeglądu. Koszt przeglądu obejmuje koszty dojazdu lub wysyłki. W przypadku wysyłki Wykonawca ponosi pełną odpowiedzialność za przewożony sprzęt. | G13: TAK
A15: Cena brutto: | F15: Kwota VAT:

Sheet Część nr 16
B2: Część | C2: 16
A4: Temat: | C4: Zestawy laparoskopowe Aesculap
B6: Szczegółowy podział części:
A8: Nr | B8: Nazwa/ Model | C8: Nr seryjny | D8: Rok produkcji | E8: Przegląd do | F8: Cena netto | G8: Stawka podatku VAT | H8: Cena brutto
A9: 1 | B9: ="PV890" -> PV890 | C9: ="1282" -> 1282 | D9: 2014 | E9: 44865
A10: 2 | B10: ="PV890" -> PV890 | C10: ="1284" -> 1284 | D10: 2014 | E10: 44865
A11: 3 | B11: ="PV959" -> PV959 | C11: ="14-236612" -> 14-236612 | D11: 2014 | E11: 44865
A12: 4 | B12: ="PV959" -> PV959 | C12: ="14-236610" -> 14-236610 | D12: 2014 | E12: 44865
A13: 5 | B13: ="PV959" -> PV959 | C13: ="14-236898" -> 14-236898 | D13: 2014 | E13: 44865
A14: 6 | B14: ="PV959" -> PV959 | C14: ="14-236902" -> 14-236902 | D14: 2014 | E14: 44865
A15: 7 | B15: ="PG080" -> PG080 | C15: ="1405CE294" -> 1405CE294 | D15: 2014 | E15: 44865
A16: 8 | B16: ="PG080" -> PG080 | C16: ="1406CE501" -> 1406CE501 | D16: 2014 | E16: 44865
A17: 9 | B17: ="OP940" -> OP940 | C17: ="469937" -> 469937 | D17: 2014 | E17: 44865
A18: 10 | B18: ="OP940" -> OP940 | C18: ="473754" -> 473754 | D18: 2014 | E18: 44865
A19: 11 | B19: ="PV462" -> PV462 | C19: ="3713014" -> 3713014 | D19: 2014 | E19: 44865
A20: 12 | B20: ="PV472" -> PV472 | C20: ="475455" -> 475455 | D20: 2014 | E20: 44865
A21: 13 | B21: ="PV460" -> PV460 | C21: ="4008706" -> 4008706 | D21: 2014 | E21: 44865
A22: 14 | B22: ="PV470" -> PV470 | C22: ="475868" -> 475868 | D22: 2014 | E22: 44865
A23: 15 | B23: ="PG145" -> PG145 | C23: ="1403CE688" -> 1403CE688 | D23: 2014 | E23: 44865
A24: 16 | B24: ="PG145" -> PG145 | C24: ="1408CE357" -> 1408CE357 | D24: 2014 | E24: 44865
A25: 17 | B25: GN640 | C25: 3337 | D25: 2014 | E25: 44865
A26: 18 | B26: ="PV840" -> PV840 | C26: ="1136" -> 1136 | D26: 2014 | E26: 44865
B27: Przegląd zgodny z wymaganiami producenta obejmujący min. czyszczenie, sprawdzenie bezpieczeństwa mechanicznego i elektrycznego, kontrolę zużycia części i wyposażenia, sprawdzenie poprawności ogólnego funkcjonowania aparatu, kalibrację i testy kontrolne, sprawdzenie zgodności parametrów funkcjonalnych urządzeń z deklarowanymi przez producenta, sprawdzenie poprawności działania zgodnie z normami bezpieczeństwa zalecanymi przez producenta, konserwację zgodnie z zaleceniami producenta, testy bezpieczeństwa elektrycznego. Koszt przeglądu obejmuje koszty dojazdu. | G27: TAK
B28: Poszczególne przeglądy zostaną udokumentowane kartą pracy/raportem serwisowym, oraz wpisem do paszportu technicznego, a wyniki testu bezpieczeństwa elektrycznego na oddzielnym protokole. Aparaty zostaną oznakowane nalepką z terminem wykonania kolejnego przeglądu. | G28: TAK
A30: Cena brutto razem: | F30: Kwota VAT:

Sheet Część nr 17
B2: Część | C2: 17
A4: Temat: | C4: Mikrotomy
B6: Szczegółowy podział części:
A8: Nr | B8: Nazwa/ Model | C8: Nr seryjny | D8: Rok produkcji | E8: Przegląd do | F8: Cena netto | G8: Stawka podatku VAT | H8: Cena brutto
A9: 1 | B9: Mikrotom HM 340E + STS | C9: 38905 | D9: 2007 | E9: 44806
A10: 2 | B10: Mikrotom HM450 | C10: 37098 | D10: 2006 | E10: 44806
A11: 3 | B11: Mikrotom HM 340E + STS | C11: 28961 | D11: 2004 | E11: 44806
A12: 4 | B12: Mikrotom HM 340E | C12: 40451 | D12: 2008 | E12: 44806
A13: 5 | B13: Mikrotom HM 340E | C13: 39450 | D13: 2007 | E13: 44806
A14: 6 | B14: Mikrotom HM 340E | C14: 58439 | D14: 2013 | E14: 44806
B15: Przegląd zgodny z wymaganiami producenta obejmujący min. czyszczenie, sprawdzenie bezpieczeństwa mechanicznego i elektrycznego, kontrolę zużycia części i wyposażenia, sprawdzenie poprawności ogólnego funkcjonowania aparatu, kalibrację i testy kontrolne, sprawdzenie zgodności parametrów funkcjonalnych urządzeń z deklarowanymi przez producenta, sprawdzenie poprawności działania zgodnie z normami bezpieczeństwa zalecanymi przez producenta, konserwację zgodnie z zaleceniami producenta, testy bezpieczeństwa elektrycznego. Koszt przeglądu obejmuje koszty dojazdu. | G15: TAK
B16: Poszczególne przeglądy zostaną udokumentowane kartą pracy/raportem serwisowym, oraz wpisem do paszportu technicznego, a wyniki testu bezpieczeństwa elektrycznego na oddzielnym protokole. Aparaty zostaną oznakowane nalepką z terminem wykonania kolejnego przeglądu. | G16: TAK
A19: Cena brutto razem: | F19: Kwota VAT:

Sheet Część nr 18
B2: Część | C2: 18
A4: Temat: | C4: Urządzenia Mindray
B6: Szczegółowy podział części:
A8: Nr | B8: Nazwa/ Model | C8: Nr seryjny | D8: Rok produkcji | E8: Przegląd do | F8: Cena netto | G8: Stawka podatku VAT | H8: Cena brutto
A9: 1 | B9: Monitor PM9000 | C9: BX5C-0315AIOQ | D9: 2006 | E9: 44895
A10: 2 | B10: Monitor PM9000 | C10: BX5C-0316FIQQ | D10: 2006 | E10: 44895
A11: 3 | B11: Monitor PM9000 | C11: BX5C-0317FIOQ | D11: 2006 | E11: 44895
A12: 4 | B12: Monitor BeneView T8 z modułem BeneView T1 | C12: CF-3C120727 | D12: 2013 | E12: 44895
A13: 5 | B13: Monitor BeneView T8 | C13: CF-3C120728 | D13: 2013 | E13: 44895
A14: 6 | B14: Monitor BeneView T8 | C14: CF-3C120729 | D14: 2013 | E14: 44895
A15: 7 | B15: Monitor BeneView T8 | C15: CF-3C120732 | D15: 2013 | E15: 44895
A16: 8 | B16: Monitor BeneView T8 | C16: CF-3C120734 | D16: 2013 | E16: 44895
A17: 9 | B17: Monitor BeneView T8 | C17: CF-3C120736 | D17: 2013 | E17: 44895
A18: 10 | B18: Monitor BeneView T8 | C18: CF-3C120737 | D18: 2013 | E18: 44895
A19: 11 | B19: Monitor BeneView T8 | C19: CF-3C120738 | D19: 2013 | E19: 44895
A20: 12 | B20: Monitor BeneView T8 | C20: CF-3C120739 | D20: 2013 | E20: 44895
... A28: 20 | B28: Defibrylator BeneHeart D3 | C28: EL-46014684 | D28: 2014 | E28: 44895
B29: Przegląd zgodny z wymaganiami producenta obejmujący min. czyszczenie, sprawdzenie bezpieczeństwa mechanicznego i elektrycznego, kontrolę zużycia części i wyposażenia, sprawdzenie poprawności ogólnego funkcjonowania aparatu, kalibrację i testy kontrolne, sprawdzenie zgodności parametrów funkcjonalnych urządzeń z deklarowanymi przez producenta, sprawdzenie poprawności działania zgodnie z normami bezpieczeństwa zalecanymi przez producenta, konserwację zgodnie z zaleceniami producenta, testy bezpieczeństwa elektrycznego. Koszt przeglądu obejmuje koszty dojazdu. | G29: TAK
B30: Poszczególne przeglądy zostaną udokumentowane kartą pracy/raportem serwisowym, oraz wpisem do paszportu technicznego, a wyniki testu bezpieczeństwa elektrycznego na oddzielnym protokole. Aparaty zostaną oznakowane nalepką z terminem wykonania kolejnego przeglądu. | G30: TAK
A33: Cena brutto razem: | F33: Kwota VAT:

Sheet Część nr 19
B2: Część | C2: 19
A4: Temat: | C4: Sprzęt monitorowania parametrów życiowych
B6: Szczegółowy podział części:
A8: Nr | B8: Nazwa/ Model | C8: Nr seryjny | D8: Rok produkcji | E8: Przegląd do | F8: Cena netto | G8: Stawka podatku VAT | H8: Cena brutto
A9: 1 | B9: Pulsoksymetr Spectro2 | C9: 4009598 | D9: 2010 | E9: 44783
A10: 2 | B10: Pulsoksymetr Spectro2 | C10: 4056940 | D10: 2014 | E10: 44783
A11: 3 | B11: Pulsoksymetr Spectro2 | C11: 4052013 | D11: 2014 | E11: 44783
A12: 4 | B12: Pulsoksymetr Spectro2 | C12: 4046701 | D12: 2013 | E12: 44783
A13: 5 | B13: Pulsoksymetr PM-60 | C13: CR-9A210658 | D13: 2019 | E13: 44783
A14: 6 | B14: Pulsoksymetr PM-60 | C14: CR-97206680 | D14: 2019 | E14: 44783
A15: 7 | B15: Pulsoksymetr C101A2 | C15: C101A2202005261083 | D15: 2020 | E15: 44783
A16: 8 | B16: Pulsoksymetr C101A2 | C16: C101A22022005260789 | D16: 2020 | E16: 44783
A17: 9 | B17: Pulsoksymetr C101A2 | C17: C101A22022005260894 | D17: 2020 | E17: 44783
A18: 10 | B18: Pulsoksymetr YK-81CEU | C18: A005510R0 | D18: 2021 | E18: 44783
A19: 11 | B19: Kardiomonitor Biolight Q7 | C19: Q71E010916 | D19: 2020 | E19: 44783
A20: 12 | B20: Kapnograf Capnocheck II | C20: 704109039 | D20: 2004 | E20: 44783
A21: 13 | B21: Kardiomonitor Precess 3160 | C21: US10500233 | D21: 2012 | E21: 44783
A22: 14 | B22: Kardiomonitor Enmove 1200 | C22: W-77100622 | D22: 2007 | E22: 44783
A23: 15 | B23: Kardiomonitor FX 2000P | C23: 2590 | D23: 2008 | E23: 44783
A24: 16 | B24: Kardiomonitor FX 2000P | C24: 2591 | D24: 2008 | E24: 44783
A25: 17 | B25: Kardiomonitor FX 2000P | C25: 2592 | D25: 2008 | E25: 44783
A26: 18 | B26: Kardiomonitor FX 2000P | C26: 2593 | D26: 2008 | E26: 44783
B27: Przegląd zgodny z wymaganiami producenta obejmujący min. czyszczenie, sprawdzenie bezpieczeństwa mechanicznego i elektrycznego, kontrolę zużycia części i wyposażenia, sprawdzenie poprawności ogólnego funkcjonowania aparatu, kalibrację i testy kontrolne, sprawdzenie zgodności parametrów funkcjonalnych urządzeń z deklarowanymi przez producenta, sprawdzenie poprawności działania zgodnie z normami bezpieczeństwa zalecanymi przez producenta, konserwację zgodnie z zaleceniami producenta, testy bezpieczeństwa elektrycznego. Koszt przeglądu obejmuje koszty dojazdu. | G27: TAK
B28: Poszczególne przeglądy zostaną udokumentowane kartą pracy/raportem serwisowym, oraz wpisem do paszportu technicznego, a wyniki testu bezpieczeństwa elektrycznego na oddzielnym protokole. Aparaty zostaną oznakowane nalepką z terminem wykonania kolejnego przeglądu. | G28: TAK
A31: Cena brutto razem: | F31: Kwota VAT:

Sheet Część nr 20
B2: Część | C2: 20
A4: Temat: | C4: Defibrylatory
B6: Szczegółowy podział części:
A8: Nr | B8: Nazwa/ Model | C8: Nr seryjny | D8: Rok produkcji | E8: Przegląd do | F8: Cena netto | G8: Stawka podatku VAT | H8: Cena brutto
A9: 1 | B9: M Series | C9: T07B87735 | D9: 2007 | E9: 44783
A10: 2 | B10: Cardio-Aid 200-B | C10: 5126193 | D10: 2006 | E10: 44783
B11: Przegląd zgodny z wymaganiami producenta obejmujący min. czyszczenie, sprawdzenie bezpieczeństwa mechanicznego i elektrycznego, kontrolę zużycia części i wyposażenia, sprawdzenie poprawności ogólnego funkcjonowania aparatu, kalibrację i testy kontrolne, sprawdzenie zgodności parametrów funkcjonalnych urządzeń z deklarowanymi przez producenta, sprawdzenie poprawności działania zgodnie z normami bezpieczeństwa zalecanymi przez producenta, konserwację zgodnie z zaleceniami producenta, testy bezpieczeństwa elektrycznego. Koszt przeglądu obejmuje koszty dojazdu. | G11: TAK
B12: Poszczególne przeglądy zostaną udokumentowane kartą pracy/raportem serwisowym, oraz wpisem do paszportu technicznego, a wyniki testu bezpieczeństwa elektrycznego na oddzielnym protokole. Aparaty zostaną oznakowane nalepką z terminem wykonania kolejnego przeglądu. | G12: TAK
A15: Cena brutto razem: | F15: Kwota VAT:

Sheet Część nr 21
B2: Część | C2: 21
A4: Temat: | C4: Pompy infuzyjne Braun
B6: Szczegółowy podział części:
A8: Nr | B8: Nazwa/ Model | C8: Nr seryjny | D8: Rok produkcji | E8: Przegląd do | F8: Cena netto | G8: Stawka podatku VAT | H8: Cena brutto
A9: 1 | B9: Infusomat Space | C9: 137158 | D9: 2011 | E9: 44776
A10: 2 | B10: Perfusor Space | C10: 246667 | D10: 2014 | E10: 44776
A11: 3 | B11: Infusomat Space | C11: 386836 | D11: 2016 | E11: 44776
A12: 4 | B12: Infusomat Space | C12: 386853 | D12: 2016 | E12: 44776
A13: 5 | B13: Infusomat Space | C13: 387003 | D13: 2016 | E13: 44776
A14: 6 | B14: Infusomat Space | C14: 387025 | D14: 2016 | E14: 44776
A15: 7 | B15: Infusomat Space | C15: 387035 | D15: 2016 | E15: 44776
A16: 8 | B16: Perfusor Space | C16: 155545 | D16: 2011 | E16: 44776
A17: 9 | B17: Infusomat Space | C17: 300117 | D17: 2014 | E17: 44776
A18: 10 | B18: Infusomat Space | C18: 386936 | D18: 2016 | E18: 44776
A19: 11 | B19: Infusomat Space | C19: 387027 | D19: 2016 | E19: 44776
A20: 12 | B20: Perfusor Space | C20: 246705 | D20: 2014 | E20: 44776
A21: 13 | B21: Perfusor Space | C21: 246757 | D21: 2014 | E21: 44776
A22: 14 | B22: Perfusor Space | C22: 246693 | D22: 2014 | E22: 44776
A23: 15 | B23: Perfusor Space | C23: 246763 | D23: 2014 | E23: 44776
A24: 16 | B24: Infusomat Space | C24: 51128 | D24: 2008 | E24: 44986
A25: 17 | B25: Infusomat Space | C25: 29725 | D25: 2008 | E25: 45022
A26: 18 | B26: Infusomat Space | C26: 300196 | D26: 2015 | E26: 45083
A27: 19 | B27: Infusomat Space | C27: 300203 | D27: 2015 | E27: 45083
A28: 20 | B28: Perfusor Space | C28: 129769 | D28: 2011 | E28: 45083
A29: 21 | B29: Infusomat Space | C29: 300240 | D29: 2015 | E29: 45084
A30: 22 | B30: Infusomat Space | C30: 300241 | D30: 2015 | E30: 45084
A31: 23 | B31: Infusomat Space | C31: 300183 | D31: 2015 | E31: 45084
A32: 24 | B32: SpaceStation MRI | C32: MIMSPA110207 | D32: 2011 | E32: 44782
B33: Przegląd zgodny z wymaganiami producenta obejmujący min. czyszczenie, sprawdzenie bezpieczeństwa mechanicznego i elektrycznego, kontrolę zużycia części i wyposażenia, sprawdzenie poprawności ogólnego funkcjonowania aparatu, kalibrację i testy kontrolne, sprawdzenie zgodności parametrów funkcjonalnych urządzeń z deklarowanymi przez producenta, sprawdzenie poprawności działania zgodnie z normami bezpieczeństwa zalecanymi przez producenta, konserwację zgodnie z zaleceniami producenta, testy bezpieczeństwa elektrycznego. Przegląd obejmuje wymianę zasilaczy w 6 pompach Space (nr ser.: 137158, 155545, 246667, 246705, 246757, 246693). Koszt przeglądu obejmuje koszty dojazdu. | G33: TAK
B34: Poszczególne przeglądy zostaną udokumentowane kartą pracy/raportem serwisowym, oraz wpisem do paszportu technicznego, a wyniki testu bezpieczeństwa elektrycznego na oddzielnym protokole. Aparaty zostaną oznakowane nalepką z terminem wykonania kolejnego przeglądu. | G34: TAK
A37: Cena brutto razem: | F37: Kwota VAT:

Sheet Część nr 22
B2: Część | C2: 22
A4: Temat: | C4: Myjnie endoskopowe, szafa do suszenia endoskopów
B6: Szczegółowy podział części:
A8: Nr | B8: Nazwa/ Model | C8: Nr seryjny | D8: Rok produkcji | E8: Przegląd do | F8: Cena netto | G8: Stawka podatku VAT | H8: Cena brutto
A9: 1 | B9: Mini ETD-2 GA | C9: 6421821 | D9: 2007 | E9: 44789
A10: 2 | B10: Mini ETD | C10: 431303 | D10: 2005 | E10: 44789
A11: 3 | B11: Mini ETD-2 PlusGA | C11: 17926626 | D11: 2017 | E11: 44964
A12: 4 | B12: EDC Plus | C12: NG817130 | D12: 2017 | E12: 44964
B13: Przegląd zgodny z wymaganiami producenta obejmujący min. czyszczenie, sprawdzenie bezpieczeństwa mechanicznego i elektrycznego, kontrolę zużycia części i wyposażenia, sprawdzenie poprawności ogólnego funkcjonowania aparatu, kalibrację i testy kontrolne, sprawdzenie zgodności parametrów funkcjonalnych urządzeń z deklarowanymi przez producenta, sprawdzenie poprawności działania zgodnie z normami bezpieczeństwa zalecanymi przez producenta, konserwację zgodnie z zaleceniami producenta, testy bezpieczeństwa elektrycznego. Przegląd obejmuje wymianę zestawów serwisowych (Maintenance Kit) w myjniach oraz filtrów w szafie. Wykonawca w ramach przeglądu zobowiązuje się do przygotowania bieżących zaleceń eksploatacyjnych związanych ze stanem aparatów oraz ich dalszym użytkowaniem. Wykonawca zobowiązuje się do wykonania ekspertyz technicznych związanych z wykrytymi usterkami oraz kosztorysu naprawy. Koszt przeglądu obejmuje koszty dojazdu. | G13: TAK
B14: Poszczególne przeglądy zostaną udokumentowane kartą pracy/raportem serwisowym, oraz wpisem do paszportu technicznego, a wyniki testu bezpieczeństwa elektrycznego na oddzielnym protokole. Aparaty zostaną oznakowane nalepką z terminem wykonania kolejnego przeglądu. | G14: TAK
A17: Cena brutto razem: | F17: Kwota VAT:

Sheet Część nr 23
B2: Część | C2: 23
A4: Temat: | C4: Sterylizator plazmowy
B6: Szczegółowy podział części:
A8: Nr | B8: Nazwa/ Model | C8: Nr seryjny | D8: Rok produkcji | E8: Przegląd do | F8: Cena netto | G8: Stawka podatku VAT | H8: Cena brutto
A9: 1 | B9: Sterrad 100NX | C9: 1042110034 | D9: 2012 | E9: 2022-07-17, drugi po 6 miesiącach
B10: Przegląd zgodny z wymaganiami producenta obejmujący min. czyszczenie, sprawdzenie bezpieczeństwa mechanicznego i elektrycznego, kontrolę zużycia części i wyposażenia, sprawdzenie poprawności ogólnego funkcjonowania aparatu, kalibrację i testy kontrolne, sprawdzenie zgodności parametrów funkcjonalnych urządzeń z deklarowanymi przez producenta, sprawdzenie poprawności działania zgodnie z normami bezpieczeństwa zalecanymi przez producenta, konserwację zgodnie z zaleceniami producenta, testy bezpieczeństwa elektrycznego. Przegląd obejmuje wymianę części (zestawy serwisowe PM) przewidzianych przez producenta do wymiany podczas przeglądu okresowego. Koszt przeglądu obejmuje koszty dojazdu. | G10: TAK
B11: Poszczególne przeglądy zostaną udokumentowane kartą pracy/raportem serwisowym, oraz wpisem do paszportu technicznego, a wyniki testu bezpieczeństwa elektrycznego na oddzielnym protokole. Aparaty zostaną oznakowane nalepką z terminem wykonania kolejnego przeglądu. | G11: TAK
A14: Cena brutto razem: | F14: Kwota VAT:

Sheet Część nr 24
B2: Część | C2: 24
A4: Temat: | C4: Urządzenia sterylizacji parowej
B6: Szczegółowy podział części:
A8: Nr | B8: Nazwa/ Model | C8: Nr seryjny | D8: Rok produkcji | E8: Przegląd do | F8: Cena netto | G8: Stawka podatku VAT | H8: Cena brutto
A9: 1 | B9: Selectomat PL 966-2H | C9: B110824 | D9: 2012 | E9: 2022-07-18, drugi po 6 miesiącach
A10: 2 | B10: Selectomat PL 966-2H | C10: B110825 | D10: 2012 | E10: 2022-07-18, drugi po 6 miesiącach
A11: 3 | B11: Myjnia ultradźwiękowa | C11: Ultramatic 550 | D11: 2012 | E11: 44751
A12: 4 | B12: System EcoSoft | C12: -- | D12: 2012 | E12: 44760
B13: Przegląd zgodny z wymaganiami producenta obejmujący min. czyszczenie, sprawdzenie bezpieczeństwa mechanicznego i elektrycznego, kontrolę zużycia części i wyposażenia, sprawdzenie poprawności ogólnego funkcjonowania aparatu, kalibrację i testy kontrolne, sprawdzenie zgodności parametrów funkcjonalnych urządzeń z deklarowanymi przez producenta, sprawdzenie poprawności działania zgodnie z normami bezpieczeństwa zalecanymi przez producenta, konserwację zgodnie z zaleceniami producenta, testy bezpieczeństwa elektrycznego. Przegląd obejmuje wymianę części przewidzianych przez producenta do wymiany podczas przeglądu okresowego. Koszt przeglądu obejmuje koszty dojazdu. | G13: TAK
B14: Poszczególne przeglądy zostaną udokumentowane kartą pracy/raportem serwisowym, oraz wpisem do paszportu technicznego, a wyniki testu bezpieczeństwa elektrycznego na oddzielnym protokole. Aparaty zostaną oznakowane nalepką z terminem wykonania kolejnego przeglądu. | G14: TAK
A17: Cena brutto razem: | F17: Kwota VAT:

Sheet Część nr 25
B2: Część | C2: 25
A4: Temat: | C4: Urządzenia Centralnej Sterylizatorni
B6: Szczegółowy podział części:
A8: Nr | B8: Nazwa/ Model | C8: Nr seryjny | D8: Rok produkcji | E8: Przegląd do | F8: Cena netto | G8: Stawka podatku VAT | H8: Cena brutto
A9: 1 | B9: Myjnia G7824 | C9: 74358056 | D9: 2011 | E9: 44805
A10: 2 | B10: Myjnia G7824 | C10: 74358057 | D10: 2011 | E10: 44805
A11: 3 | B11: Myjnia G7836 | C11: 74329616 | D11: 2007 | E11: 44805
A12: 4 | B12: Suszarka KSU-66150 | C12: 40 | D12: 2012 | E12: 44805
A13: 5 | B13: Zgrzewarka Steripack 301 | C13: 453525 | D13: 2012 | E13: 44805
A14: 6 | B14: Urządzenie Elmasteam ES5000 | C14: 000221029 | D14: 2013 | E14: 44805
B15: Przegląd zgodny z wymaganiami producenta obejmujący min. czyszczenie, sprawdzenie bezpieczeństwa mechanicznego i elektrycznego, kontrolę zużycia części i wyposażenia, sprawdzenie poprawności ogólnego funkcjonowania urządzeń, kalibrację i testy kontrolne, sprawdzenie zgodności parametrów funkcjonalnych urządzeń z deklarowanymi przez producenta, sprawdzenie poprawności działania zgodnie z normami bezpieczeństwa zalecanymi przez producenta, konserwację zgodnie z zaleceniami producenta, testy bezpieczeństwa elektrycznego. Przegląd obejmuje min. wymianę elementów – obudowa pompy DOS (60/30) do myjni G7824 - 1 szt., obudowa pompy DOS (30/10) do myjni G7824 - 1 szt., filtr zgrubny i HEPA do KSU-66150, rolka dociskowa, taśma barwiąca, taśma teflonowa grzałek i prowadnic, paski zębate do Steripack 301, uszczelki pod korek wlewu wody do Elmasteam - 3 szt. Koszt przeglądu obejmuje koszty dojazdu. | G15: TAK
B16: Poszczególne przeglądy zostaną udokumentowane kartą pracy/raportem serwisowym, oraz wpisem do paszportu technicznego, a wyniki testu bezpieczeństwa elektrycznego na oddzielnym protokole. Aparaty zostaną oznakowane nalepką z terminem wykonania kolejnego przeglądu. | G16: TAK
A19: Cena brutto razem: | F19: Kwota VAT:

Sheet Część nr 26
B2: Część | C2: 26
A4: Temat: | C4: Komory laminarne I
B6: Szczegółowy podział części:
A8: Nr | B8: Nazwa/ Model | C8: Nr seryjny | D8: Rok produkcji | E8: Przegląd do | F8: Cena netto | G8: Stawka podatku VAT | H8: Cena brutto
A9: 1 | B9: C-[MaxPro]3-130 | C9: 1013080210 | D9: 2008 | E9: 44938
A10: 2 | B10: C-[MaxPro]3-130 | C10: 1013100367 | D10: 2010 | E10: 44938
A11: 3 | B11: C-[MaxPro]3-130 | C11: 1013100368 | D11: 2010 | E11: 44938
A12: 4 | B12: Minifil | C12: 29081/06 | D12: 2006 | E12: 44938
A13: 5 | B13: Lamil Plus 10 | C13: 3153/06 | D13: 2006 | E13: 44938
A14: 6 | B14: Claire PRO B-2-130 | C14: 2013000249 | D14: 2017 | E14: 44938
B15: Przegląd zgodny z wymaganiami producenta obejmujący min. czyszczenie, sprawdzenie bezpieczeństwa mechanicznego i elektrycznego, kontrolę zużycia części i wyposażenia, sprawdzenie poprawności ogólnego funkcjonowania aparatu, kalibrację i testy kontrolne, sprawdzenie zgodności parametrów funkcjonalnych urządzeń z deklarowanymi przez producenta, sprawdzenie poprawności działania zgodnie z normami bezpieczeństwa zalecanymi przez producenta, konserwację zgodnie z zaleceniami producenta, testy bezpieczeństwa elektrycznego. Pomiary kontrolne prędkości i laminarności przepływu oraz klas czystości powietrza w przestrzni roboczej komory/nawiewu i w pomieszczeniu, sprawdzenie klasy czystości powietrza w pomieszczeniu, w którym pracuje komora. Koszt przeglądu obejmuje koszty dojazdu. Wykonawca w zakresie komory o numerze seryjnym 2013000249 posiada wszystkie wymagane kody producenta. | G15: TAK
B16: Poszczególne przeglądy zostaną udokumentowane kartą pracy/raportem serwisowym, oraz wpisem do paszportu technicznego, a wyniki testu bezpieczeństwa elektrycznego na oddzielnym protokole. Aparaty zostaną oznakowane nalepką z terminem wykonania kolejnego przeglądu. | G16: TAK
A18: Cena brutto razem: | F18: Kwota VAT:

Sheet Część nr 27
B2: Część | C2: 27
A4: Temat: | C4: Aparaty rtg Siemens
B6: Szczegółowy podział części:
A8: Nr | B8: Nazwa/ Model | C8: Nr seryjny | D8: Rok produkcji | E8: Przegląd do | F8: Cena netto | G8: Stawka podatku VAT | H8: Cena brutto
A9: 1 | B9: Multix Fusion Digital | C9: 30070 | D9: 2015 | E9: 44896
A10: 2 | B10: Luminos dRF Max | C10: 5264 | D10: 2015 | E10: 44897
A11: 3 | B11: Mobilett XP Hybrid | C11: 1248 | D11: 2005 | E11: 44729
B12: Przeglądy zgodne z wymaganiami producenta obejmujące min. czyszczenie, sprawdzenie bezpieczeństwa mechanicznego i elektrycznego, kontrolę zużycia części i wyposażenia, sprawdzenie poprawności ogólnego funkcjonowania aparatu, kalibrację i testy kontrolne, sprawdzenie zgodności parametrów funkcjonalnych urządzeń z deklarowanymi przez producenta, sprawdzenie poprawności działania zgodnie z normami bezpieczeństwa zalecanymi przez producenta, konserwację zgodnie z zaleceniami producenta, wymianę żarówki w aparacie Mobilett XP, testy bezpieczeństwa elektrycznego. Koszt przeglądów obejmuje koszty dojazdu. | G12: TAK
B13: Poszczególne przeglądy zostaną udokumentowane kartą pracy/raportem serwisowym, oraz wpisem do paszportu technicznego, a wyniki testu bezpieczeństwa elektrycznego na oddzielnym protokole. Aparaty zostaną oznakowane nalepką z terminem wykonania kolejnego przeglądu. | G13: TAK
A15: Cena brutto razem: | F15: Kwota VAT:

Sheet Część nr 28
B2: Część | C2: 28
A4: Temat: | C4: Mammograf, kardiomonitor GE
B6: Szczegółowy podział części:
A8: Nr | B8: Nazwa/ Model | C8: Nr seryjny | D8: Rok produkcji | E8: Przegląd do | F8: Cena netto | G8: Stawka podatku VAT | H8: Cena brutto
A9: 1 | B9: Senographe Essential | C9: 668486BU4 | D9: 2015 | E9: 2022-09-25, drugi po 6 miesiącach
A10: 2 | B10: Senographe Essential | C10: 583153BU2 | D10: 2009 | E10: 2022-07-21, drugi po 6 miesiącach
A11: 3 | B11: B650 | C11: SEW14127236HA | D11: 2014 | E11: 44873
B12: Przegląd zgodny z wymaganiami producenta obejmujący min. czyszczenie, sprawdzenie bezpieczeństwa mechanicznego i elektrycznego, kontrolę zużycia części i wyposażenia, sprawdzenie poprawności ogólnego funkcjonowania aparatu, kalibrację i testy kontrolne, sprawdzenie zgodności parametrów funkcjonalnych urządzeń z deklarowanymi przez producenta, sprawdzenie poprawności działania zgodnie z normami bezpieczeństwa zalecanymi przez producenta, konserwację zgodnie z zaleceniami producenta, testy bezpieczeństwa elektrycznego. Koszt przeglądu obejmuje koszty dojazdu. | G12: TAK
B13: Poszczególne przeglądy zostaną udokumentowane kartą pracy/raportem serwisowym, oraz wpisem do paszportu technicznego, a wyniki testu bezpieczeństwa elektrycznego na oddzielnym protokole. Aparaty zostaną oznakowane nalepką z terminem wykonania kolejnego przeglądu. | G13: TAK
A15: Cena brutto razem: | F15: Kwota VAT:

Sheet Część nr 29
B2: Część | C2: 29
A4: Temat: | C4: Urządzenia ZdAJ
B6: Szczegółowy podział części:
A8: Nr | B8: Nazwa/ Model | C8: Nr seryjny | D8: Rok produkcji | E8: Przegląd do | F8: Cena netto | G8: Stawka podatku VAT | H8: Cena brutto
A9: 1 | B9: Drzwi osłonowe obrotowe | C9: Nr 02 seria 57/06 | D9: 2006 | E9: 44891
A10: 2 | B10: Drzwi osłonowe obrotowe | C10: Nr 01 seria 57/06 | D10: 2006 | E10: 44891
A11: 3 | B11: Drzwi osłonowe obrotowe | C11: Nr 03 seria 57/06 | D11: 2007 | E11: 44891
A12: 4 | B12: Drzwi osłonowe obrotowe | C12: Nr 06 seria 44/03 | D12: 2003 | E12: 44891
B13: Przegląd zgodny z wymaganiami producenta obejmujący min. czyszczenie, sprawdzenie bezpieczeństwa mechanicznego i elektrycznego, kontrolę zużycia części i wyposażenia, sprawdzenie poprawności ogólnego funkcjonowania aparatu, kalibrację i testy kontrolne, sprawdzenie zgodności parametrów funkcjonalnych urządzeń z deklarowanymi przez producenta, sprawdzenie poprawności działania zgodnie z normami bezpieczeństwa zalecanymi przez producenta, konserwację zgodnie z zaleceniami producenta, testy bezpieczeństwa elektrycznego. Przegląd drzwi może być wykonany po godz. 18 od poniedziałku do piątku oraz w soboty. Koszt przeglądu obejmuje koszty dojazdu. | G13: TAK
B14: Poszczególne przeglądy zostaną udokumentowane kartą pracy/raportem serwisowym, oraz wpisem do paszportu technicznego, a wyniki testu bezpieczeństwa elektrycznego na oddzielnym protokole. Aparaty zostaną oznakowane nalepką z terminem wykonania kolejnego przeglądu. | G14: TAK
A16: Cena brutto razem: | F16: Kwota VAT:

Sheet Część nr 30
B2: Część | C2: 30
A4: Temat: | C4: Inkubatory CO2, cieplarki Incucell
B6: Szczegółowy podział części:
A8: Nr | B8: Nazwa/ Model | C8: Nr seryjny | D8: Rok produkcji | E8: Przegląd do | F8: Cena netto | G8: Stawka podatku VAT | H8: Cena brutto
A9: 1 | B9: ="MCO-5AC" -> MCO-5AC | C9: ="16120208" -> 16120208 | D9: 2017 | E9: ="2022-12-01" -> 2022-12-01
A10: 2 | B10: ="INCUCEL 55" -> INCUCEL 55 | C10: ="B030946" -> B030946 | D10: 2003 | E10: 44846
A11: 3 | B11: ="Incucell V" -> Incucell V | C11: ="D 172660" -> D 172660 | D11: 2017 | E11: ="2022-12-01" -> 2022-12-01
A12: 4 | B12: ="Incucell V" -> Incucell V | C12: ="D 172661" -> D 172661 | D12: 2017 | E12: ="2022-12-01" -> 2022-12-01
A13: 5 | B13: Incucel 111 | C13: 101791 | D13: 2010 | E13: 44846
B14: Przegląd zgodny z wymaganiami producenta obejmujący min. czyszczenie, sprawdzenie bezpieczeństwa mechanicznego i elektrycznego, kontrolę zużycia części i wyposażenia, sprawdzenie poprawności ogólnego funkcjonowania aparatów, kalibrację i testy kontrolne, sprawdzenie zgodności parametrów funkcjonalnych urządzeń z deklarowanymi przez producenta, sprawdzenie poprawności działania zgodnie z normami bezpieczeństwa zalecanymi przez producenta, konserwację zgodnie z zaleceniami producenta, testy bezpieczeństwa elektrycznego. Koszt przeglądu obejmuje koszty dojazdu. | G14: TAK
B15: Poszczególne przeglądy zostaną udokumentowane kartą pracy/raportem serwisowym, oraz wpisem do paszportu technicznego, a wyniki testu bezpieczeństwa elektrycznego na oddzielnym protokole. Aparaty zostaną oznakowane nalepką z terminem wykonania kolejnego przeglądu. | G15: TAK
A17: Cena brutto razem: | F17: Kwota VAT:

Sheet Część nr 31
B2: Część | C2: 31
A4: Temat: | C4: Cytometr przepływowy
B6: Szczegółowy podział części:
A8: Nr | B8: Nazwa/ Model | C8: Nr seryjny | D8: Rok produkcji | E8: Przegląd do | F8: Cena netto | G8: Stawka podatku VAT | H8: Cena brutto
A9: 1 | B9: FACSCalibur | C9: E0669 | D9: 1996 | E9: 2022-06-30, drugi po 6 miesiącach
B10: Przegląd zgodny z wymaganiami producenta obejmujący min. czyszczenie wnętrza aparatu, czyszczenie i optymalizacja zestrojenia optyki, sprawdzenie bezpieczeństwa mechanicznego i elektrycznego, kontrolę zużycia części i wyposażenia, sprawdzenie poprawności ogólnego funkcjonowania aparatu, kalibrację i testy kontrolne, sprawdzenie zgodności parametrów funkcjonalnych urządzeń z deklarowanymi przez producenta, sprawdzenie poprawności działania zgodnie z normami bezpieczeństwa zalecanymi przez producenta, konserwację zgodnie z zaleceniami producenta, wymiana zestawu "PM Kit", testy bezpieczeństwa elektrycznego. Koszt przeglądu obejmuje koszty dojazdu. | G10: TAK
B11: Poszczególne przeglądy zostaną udokumentowane kartą pracy/raportem serwisowym, oraz wpisem do paszportu technicznego, a wyniki testu bezpieczeństwa elektrycznego na oddzielnym protokole. Aparaty zostaną oznakowane nalepką z terminem wykonania kolejnego przeglądu. | G11: TAK
A13: Cena brutto razem: | F13: Kwota VAT:

Sheet Część nr 32
B2: Część | C2: 32
A4: Temat: | C4: Aparat do suchego rozmrażania osocza
B6: Szczegółowy podział części:
A8: Nr | B8: Nazwa/ Model | C8: Nr seryjny | D8: Rok produkcji | E8: Przegląd do | F8: Cena netto | G8: Stawka podatku VAT | H8: Cena brutto
A9: 1 | B9: Sahara III | C9: 99121057 | D9: 2006 | E9: 44846
B10: Przegląd zgodny z wymaganiami producenta obejmujący min. czyszczenie, sprawdzenie bezpieczeństwa mechanicznego i elektrycznego, kontrolę zużycia części i wyposażenia, sprawdzenie poprawności ogólnego funkcjonowania aparatu, kalibrację i testy kontrolne, sprawdzenie zgodności parametrów funkcjonalnych urządzeń z deklarowanymi przez producenta, sprawdzenie poprawności działania zgodnie z normami bezpieczeństwa zalecanymi przez producenta, konserwację zgodnie z zaleceniami producenta, testy bezpieczeństwa elektrycznego. | G10: TAK
B11: Poszczególne przeglądy zostaną udokumentowane kartą pracy/raportem serwisowym, oraz wpisem do paszportu technicznego, a wyniki testu bezpieczeństwa elektrycznego na oddzielnym protokole. Aparaty zostaną oznakowane nalepką z terminem wykonania kolejnego przeglądu. Koszt przeglądu obejmuje koszty dojazdu lub wysyłki. Wykonawca ponosi pełną odpowiedzialność za przewożony sprzęt. | G11: TAK
A13: Cena brutto razem: | F13: Kwota VAT:

Sheet Część nr 33
B2: Część | C2: 33
A4: Temat: | C4: Myjnie-dezynfektory do kaczek i basenów Steelco
B6: Szczegółowy podział części:
A8: Nr | B8: Nazwa/ Model | C8: Nr seryjny | D8: Rok produkcji | E8: Przegląd do | F8: Cena netto | G8: Stawka podatku VAT | H8: Cena brutto
A9: 1 | B9: BP 100 HA | C9: 1004045 | D9: 2010 | E9: 44894
A10: 2 | B10: BP 100 HA | C10: 1004047 | D10: 2010 | E10: 44894
A11: 3 | B11: BP 100 HA | C11: 1004041 | D11: 2010 | E11: 44894
A12: 4 | B12: BP 100 HA | C12: 804061 | D12: 2009 | E12: 44894
A13: 5 | B13: BP 100 HA | C13: 1004039 | D13: 2010 | E13: 44894
B14: Przegląd zgodny z wymaganiami producenta obejmujący min. czyszczenie, sprawdzenie bezpieczeństwa mechanicznego i elektrycznego, kontrolę zużycia części i wyposażenia, sprawdzenie poprawności ogólnego funkcjonowania myjni, kalibrację i testy kontrolne, sprawdzenie zgodności parametrów funkcjonalnych urządzeń z deklarowanymi przez producenta, sprawdzenie poprawności działania zgodnie z normami bezpieczeństwa zalecanymi przez producenta, konserwację zgodnie z zaleceniami producenta, sprawdzenie i czyszczenie sitek na elektrozaworach, sprawdzenie i odkamienienie dysz i wytwornicy pary, testy bezpieczeństwa elektrycznego. Koszt przeglądu obejmuje koszty dojazdu. | G14: TAK
B15: Poszczególne przeglądy zostaną udokumentowane kartą pracy/raportem serwisowym, oraz wpisem do paszportu technicznego. Aparaty zostaną oznakowane nalepką z terminem wykonania kolejnego przeglądu. | G15: TAK
A17: Cena brutto razem: | F17: Kwota VAT:

Sheet Część nr 34
B2: Część | C2: 34
A4: Temat: | C4: Aparat do hipertermii
B6: Szczegółowy podział części:
A8: Nr | B8: Nazwa/ Model | C8: Nr seryjny | D8: Rok produkcji | E8: Przegląd do | F8: Cena netto | G8: Stawka podatku VAT | H8: Cena brutto
A9: 1 | B9: BSD-500 | C9: 080922-033 | D9: 2008 | E9: 2022-08-18, drugi po 6 miesiącach
B10: Przegląd zgodny z wymaganiami producenta obejmujący min. czyszczenie, sprawdzenie bezpieczeństwa mechanicznego i elektrycznego, oczyszczenie dróg chłodzenia, smarowanie ruchomych części mechanicznych, sprawdzenie i porządkowanie oprogramowania systemowego, kontrolę zużycia części i wyposażenia, sprawdzenie poprawności ogólnego funkcjonowania aparatu, kalibrację i testy kontrolne, sprawdzenie zgodności parametrów funkcjonalnych urządzeń z deklarowanymi przez producenta, sprawdzenie poprawności działania zgodnie z normami bezpieczeństwa zalecanymi przez producenta, konserwację zgodnie z zaleceniami producenta, sprawdzenie bezpieczeństwa elektrycznego w niezbędnym zakresie. Koszt przeglądu obejmuje koszty dojazdu. | G10: TAK
B11: Poszczególne przeglądy zostaną udokumentowane kartą pracy/raportem serwisowym, oraz wpisem do paszportu technicznego, a wyniki testu bezpieczeństwa elektrycznego na oddzielnym protokole. Aparaty zostaną oznakowane nalepką z terminem wykonania kolejnego przeglądu. | G11: TAK
A13: Cena brutto razem: | F13: Kwota VAT:

Sheet Część nr 35
B2: Część | C2: 35
A4: Temat: | C4: Komory manipulacyjne
B6: Szczegółowy podział części:
A8: Nr | B8: Nazwa/ Model | C8: Nr seryjny | D8: Rok produkcji | E8: Przegląd do | F8: Cena netto | G8: Stawka podatku VAT | H8: Cena brutto
A9: 1 | B9: NMC 50 DSI | C9: 9443 | D9: 2012 | E9: 44890
A10: 2 | B10: NMC 50 1/30-20VF | C10: 6230 | D10: 2008 | E10: 44891
B11: Przegląd zgodny z wymaganiami producenta obejmujący min. czyszczenie, sprawdzenie bezpieczeństwa mechanicznego i elektrycznego, sprawdzenie prawidłowego otwierania i zamykania szklanej pokrywy frontowej, prawidłowego ruchu osłony ze szkła ołowiowego, systemu wentylacji i systemu filtrów, systemu oświetlenia i UV, systemu podnośników, kontrolę zużycia części i wyposażenia, sprawdzenie poprawności ogólnego funkcjonowania aparatu, kalibrację i testy kontrolne, sprawdzenie zgodności parametrów funkcjonalnych urządzeń z deklarowanymi przez producenta, sprawdzenie poprawności działania zgodnie z normami bezpieczeństwa zalecanymi przez producenta, konserwację zgodnie z zaleceniami producenta, sprawdzenie bezpieczeństwa elektrycznego w niezbędnym zakresie. Koszt przeglądu obejmuje również sprawdzenie mierników dawki Curiementor obejmujące kontrolę przewodów sygnałowych i przycisków, sprawdzenie zerowania i pomiaru tła, sprawdzenie działania źródłem kontrolnym dostarczonym przez użytkownika. Koszt przeglądu obejmuje koszty dojazdu. | G11: TAK
B12: Poszczególne przeglądy zostaną udokumentowane kartą pracy/raportem serwisowym, oraz wpisem do paszportu technicznego. Aparaty zostaną oznakowane nalepką z terminem wykonania kolejnego przeglądu. | G12: TAK
A14: Cena brutto razem: | F14: Kwota VAT:

Sheet Część nr 36
B2: Część | C2: 36
A4: Temat: | C4: Systemy do planowania leczenia
B6: Szczegółowy podział części:
A8: Nr | B8: Nazwa/ Model | C8: Nr seryjny | D8: Rok produkcji | E8: Przegląd do | F8: Cena netto | G8: Stawka podatku VAT | H8: Cena brutto
A9: 1 | B9: Oncentra Prostate | C9: 70062 | D9: 2011 | E9: 44741
A10: 2 | B10: Oncentra Brachy | C10: 03E65C6E | D10: 2013 | E10: 44741
B11: Przegląd zgodny z wymaganiami producenta obejmujący min. czyszczenie i konserwacja wnętrza serwerów i stacji klienckich,weryfikacja błędów w logach systemowych oraz logach aplikacji. Sprawdzenie poprawności wykonywania backupów. Sprawdzenie poprawności działania systemów. Koszt przeglądu obejmuje koszty dojazdu. | G11: TAK
B12: Poszczególne przeglądy zostaną udokumentowane kartą pracy/raportem serwisowym wraz z listą kontrolną przeprowadzonych czynności, oraz wpisem do paszportu technicznego. Aparaty zostaną oznakowane nalepką z terminem wykonania kolejnego przeglądu. | G12: TAK
A14: Cena brutto razem: | F14: Kwota VAT:

Sheet Część nr 37
B2: Część | C2: 37
A4: Temat: | C4: Drukarki do klisz
B6: Szczegółowy podział części:
A8: Nr | B8: Nazwa/ Model | C8: Nr seryjny | D8: Rok produkcji | E8: Przegląd do | F8: Cena netto | G8: Stawka podatku VAT | H8: Cena brutto
A9: 1 | B9: Drystar Axys | C9: 2552 | D9: 2009 | E9: 44834
B10: Przegląd zgodny z wymaganiami producenta obejmujący min. czyszczenie i konserwację, sprawdzenie poprawności działania, niezbędne testy i kalibracje. Koszt przeglądu obejmuje koszty dojazdu. | G10: TAK
B11: Poszczególne przeglądy zostaną udokumentowane kartą pracy/raportem serwisowym wraz z listą kontrolną przeprowadzonych czynności, oraz wpisem do paszportu technicznego. Aparaty zostaną oznakowane nalepką z terminem wykonania kolejnego przeglądu. | G11: TAK
A13: Cena brutto razem: | F13: Kwota VAT:

Sheet Część nr 38
B2: Część | C2: 38
A4: Temat: | C4: Urządzenia do biopsji mammotomicznej
B6: Szczegółowy podział części:
A8: Nr | B8: Nazwa/ Model | C8: Nr seryjny | D8: Rok produkcji | E8: Przegląd do | F8: Cena netto | G8: Stawka podatku VAT | H8: Cena brutto
A9: 1 | B9: Mammotome Revolve | C9: MSCM1001373 | D9: 2017 | E9: 44939
A10: 2 | B10: MammoTest | C10: 10161 | D10: 2009 | E10: 2022-08-22, drugi po 6 miesiącach
B11: Przegląd zgodny z wymaganiami producenta obejmujący min. czyszczenie, sprawdzenie bezpieczeństwa mechanicznego i elektrycznego, kontrolę zużycia części i wyposażenia, sprawdzenie poprawności ogólnego funkcjonowania aparatu, kalibrację i testy kontrolne, sprawdzenie zgodności parametrów funkcjonalnych urządzenia z deklarowanymi przez producenta, sprawdzenie poprawności działania zgodnie z normami bezpieczeństwa zalecanymi przez producenta, konserwację zgodnie z zaleceniami producenta, testy bezpieczeństwa elektrycznego, przygotowanie szczegółowego protokołu z przeglądu zawierającego wyniki pomiarów. | G11: TAK
B12: Poszczególne przeglądy zostaną udokumentowane kartą pracy/raportem serwisowym, oraz wpisem do paszportu technicznego, a wyniki testu bezpieczeństwa elektrycznego na oddzielnym protokole. Aparaty zostaną oznakowane nalepką z terminem wykonania kolejnego przeglądu. Koszt przeglądu obejmuje koszty dojazdu lub wysyłki. W przypadku wysyłki Wykonawca ponosi pełną odpowiedzialność za przewożony sprzęt. Na czas przeglądu Mammotome Revolve należy zapewnić aparat zastępczy wraz z akcesoriami. | G12: TAK
A14: Cena brutto razem: | F14: Kwota VAT:

Sheet Część nr 39
B2: Część | C2: 39
A4: Temat: | C4: Aparat rtg Ziehm
B6: Szczegółowy podział części:
A8: Nr | B8: Nazwa/ Model | C8: Nr seryjny | D8: Rok produkcji | E8: Przegląd do | F8: Cena netto | G8: Stawka podatku VAT | H8: Cena brutto
A9: 1 | B9: Ziehm Vision RFD | C9: 20515 | D9: 2014 | E9: 44894
B10: Przegląd zgodny z wymaganiami producenta obejmujący min. czyszczenie, sprawdzenie bezpieczeństwa mechanicznego i elektrycznego, kontrolę zużycia części i wyposażenia, sprawdzenie poprawności ogólnego funkcjonowania aparatu i jego gotowości do pracy, sprawdzenie, pomiary i korekta fizycznych parametrów ekspozycji, sprawdzenie i korekta geometrii wiązki promieniowania, kontrola jakości obrazów, oczyszczenie dróg chłodzenia i odprowadzania ciepła, smarowanie ruchomych części mechanicznych, konserwacja oprogramowania systemowego i aplikacyjnego, przygotowanie szczegółowego protokołu z przeglądu zawierającego wyniki pomiarów w odniesieniu do obowiązujących norm, wystawienie certyfikatu sprawności, testy bezpieczeństwa elektrycznego. Koszt przeglądu obejmuje koszty dojazdu. | G10: TAK
B11: Poszczególne przeglądy zostaną udokumentowane kartą pracy/raportem serwisowym, oraz wpisem do paszportu technicznego, a wyniki testu bezpieczeństwa elektrycznego na oddzielnym protokole. Aparaty zostaną oznakowane nalepką z terminem wykonania kolejnego przeglądu. | G11: TAK
A13: Cena brutto razem: | F13: Kwota VAT:

Sheet Część nr 40
B2: Część | C2: 40
A4: Temat: | C4: Myjnia-dezynfektor do kaczek i basenów Getinge
B6: Szczegółowy podział części:
A8: Nr | B8: Nazwa/ Model | C8: Nr seryjny | D8: Rok produkcji | E8: Przegląd do | F8: Cena netto | G8: Stawka podatku VAT | H8: Cena brutto
A9: 1 | B9: FD1800 | C9: WAA053960 | D9: 2014 | E9: 44898
B10: Przegląd zgodny z wymaganiami producenta obejmujący min. czyszczenie, sprawdzenie bezpieczeństwa mechanicznego i elektrycznego, kontrolę zużycia części i wyposażenia, sprawdzenie poprawności ogólnego funkcjonowania myjni, kalibrację i testy kontrolne, sprawdzenie zgodności parametrów funkcjonalnych urządzeń z deklarowanymi przez producenta, sprawdzenie poprawności działania zgodnie z normami bezpieczeństwa zalecanymi przez producenta, konserwację zgodnie z zaleceniami producenta, sprawdzenie i czyszczenie sitek na elektrozaworach, sprawdzenie i odkamienienie dysz i wytwornicy pary, testy bezpieczeństwa elektrycznego. Koszt przeglądu obejmuje koszty dojazdu. | G10: TAK
B11: Poszczególne przeglądy zostaną udokumentowane kartą pracy/raportem serwisowym, oraz wpisem do paszportu technicznego. Aparaty zostaną oznakowane nalepką z terminem wykonania kolejnego przeglądu. | G11: TAK
A13: Cena brutto razem: | F13: Kwota VAT:

Sheet Część nr 41
B2: Część | C2: 41
A4: Temat: | C4: Aparat do znieczulania Taema
B6: Szczegółowy podział części:
A8: Nr | B8: Nazwa/ Model | C8: Nr seryjny | D8: Rok produkcji | E8: Przegląd do | F8: Cena netto | G8: Stawka podatku VAT | H8: Cena brutto
A9: 1 | B9: Clarys 2000 | C9: C1587 | D9: 2007 | E9: 44909
B10: Przegląd zgodny z wymaganiami producenta obejmujący min. czyszczenie, sprawdzenie bezpieczeństwa mechanicznego i elektrycznego, kontrolę zużycia części i wyposażenia, sprawdzenie poprawności ogólnego funkcjonowania aparatu, kalibrację i testy kontrolne, sprawdzenie zgodności parametrów funkcjonalnych aparatu z deklarowanymi przez producenta, sprawdzenie poprawności działania zgodnie z normami bezpieczeństwa zalecanymi przez producenta, konserwację zgodnie z zaleceniami producenta, testy bezpieczeństwa elektrycznego. Przegląd obejmuje min. wymianę czujnika tlenu. Koszt przeglądu obejmuje koszty dojazdu. | G10: TAK
B11: Przegląd zostanie udokumentowany kartą pracy/raportem serwisowym, oraz wpisem do paszportu technicznego, a wyniki testu bezpieczeństwa elektrycznego na oddzielnym protokole. Aparat zostanie oznakowany nalepką z terminem wykonania kolejnego przeglądu. | G11: TAK
A13: Cena brutto razem: | F13: Kwota VAT:

Sheet Część nr 42
B2: Część | C2: 42
A4: Temat: | C4: Respiratory Covidien
B6: Szczegółowy podział części:
A8: Nr | B8: Nazwa/ Model | C8: Nr seryjny | D8: Rok produkcji | E8: Przegląd do | F8: Cena netto | G8: Stawka podatku VAT | H8: Cena brutto
A9: 1 | B9: ="Puritan Bennett 840" -> Puritan Bennett 840 | C9: ="3512142596" -> 3512142596 | D9: 2014 | E9: 44895
A10: 2 | B10: ="Puritan Bennett 840" -> Puritan Bennett 840 | C10: ="3512142406" -> 3512142406 | D10: 2014 | E10: 44895
A11: 3 | B11: ="Puritan Bennett 840" -> Puritan Bennett 840 | C11: ="3512142536" -> 3512142536 | D11: 2014 | E11: 44895
A12: 4 | B12: ="Puritan Bennett 840" -> Puritan Bennett 840 | C12: ="3512142610" -> 3512142610 | D12: 2014 | E12: 44895
A13: 5 | B13: ="Puritan Bennett 840" -> Puritan Bennett 840 | C13: ="3512142510" -> 3512142510 | D13: 2014 | E13: 44895
B14: Przegląd zgodny z wymaganiami producenta obejmujący min. czyszczenie, sprawdzenie bezpieczeństwa mechanicznego i elektrycznego, kontrolę zużycia części i wyposażenia, sprawdzenie poprawności ogólnego funkcjonowania aparatu, kalibrację i testy kontrolne, sprawdzenie zgodności parametrów funkcjonalnych urządzeń z deklarowanymi przez producenta, sprawdzenie poprawności działania zgodnie z normami bezpieczeństwa zalecanymi przez producenta, konserwację zgodnie z zaleceniami producenta, testy bezpieczeństwa elektrycznego. Przegląd obejmuje czujników tlenu we wszystkich respiratorach. Koszt przeglądu obejmuje koszty dojazdu. | G14: TAK
B15: Poszczególne przeglądy zostaną udokumentowane kartą pracy/raportem serwisowym, oraz wpisem do paszportu technicznego, a wyniki testu bezpieczeństwa elektrycznego na oddzielnym protokole. Aparaty zostaną oznakowane nalepką z terminem wykonania kolejnego przeglądu. | G15: TAK
A17: Cena brutto razem: | F17: Kwota VAT:

Sheet Część nr 43
B2: Część | C2: 43
A4: Temat: | C4: Zestawy endoskopowe Karl Storz
B6: Szczegółowy podział części:
A8: Nr | B8: Nazwa/ Model | C8: Nr seryjny | D8: Rok produkcji | E8: Przegląd do | F8: Cena netto | G8: Stawka podatku VAT | H8: Cena brutto
A9: 1 | B9: Image1 S | C9: XS01524 | D9: 2017 | E9: 44946
A10: 2 | B10: Telepack X/ Telecam DX II | C10: 20045020/ VV836914-H | D10: 2014 | E10: 44905
B11: Przegląd zgodny z wymaganiami producenta obejmujący min. czyszczenie, sprawdzenie bezpieczeństwa mechanicznego i elektrycznego, kontrolę zużycia części i wyposażenia, sprawdzenie poprawności ogólnego funkcjonowania aparatu, kalibrację i testy kontrolne, sprawdzenie zgodności parametrów funkcjonalnych urządzeń z deklarowanymi przez producenta, sprawdzenie poprawności działania zgodnie z normami bezpieczeństwa zalecanymi przez producenta, konserwację zgodnie z zaleceniami producenta, testy bezpieczeństwa elektrycznego. Wykonawca w ramach przeglądu zobowiązuje się do przygotowania bieżących zaleceń eksploatacyjnych związanych ze stanem aparatów, instrumentów oraz ich dalszym użytkowaniem. Wykonawca zobowiązuje się do wykonania ekspertyz technicznych związanych z wykrytymi usterkami oraz kosztorysu naprawy. Koszt przeglądu obejmuje koszty dojazdu. | G11: TAK
B12: Poszczególne przeglądy zostaną udokumentowane kartą pracy/raportem serwisowym, oraz wpisem do paszportu technicznego, a wyniki testu bezpieczeństwa elektrycznego na oddzielnym protokole. Aparaty zostaną oznakowane nalepką z terminem wykonania kolejnego przeglądu. | G12: TAK
A14: Cena brutto razem: | F14: Kwota VAT:

Sheet Część nr 44
B2: Część | C2: 44
A4: Temat: | C4: Myjnia dezynfektor do kaczek i basenów Franke
B6: Szczegółowy podział części:
A8: Nr | B8: Nazwa/ Model | C8: Nr seryjny | D8: Rok produkcji | E8: Przegląd do | F8: Cena netto | G8: Stawka podatku VAT | H8: Cena brutto
A9: 1 | B9: DEKO 190 | C9: 0847V180.PL01 | D9: 2008 | E9: 44813
B10: Przegląd zgodny z wymaganiami producenta obejmujący min. czyszczenie, sprawdzenie bezpieczeństwa mechanicznego i elektrycznego, kontrolę zużycia części i wyposażenia, sprawdzenie poprawności ogólnego funkcjonowania myjni, kalibrację i testy kontrolne, sprawdzenie zgodności parametrów funkcjonalnych urządzeń z deklarowanymi przez producenta, sprawdzenie poprawności działania zgodnie z normami bezpieczeństwa zalecanymi przez producenta, konserwację zgodnie z zaleceniami producenta, sprawdzenie i czyszczenie sitek na elektrozaworach, sprawdzenie i odkamienienie dysz i wytwornicy pary, testy bezpieczeństwa elektrycznego. Koszt przeglądu obejmuje koszty dojazdu. | G10: TAK
B11: Poszczególne przeglądy zostaną udokumentowane kartą pracy/raportem serwisowym, oraz wpisem do paszportu technicznego, a wyniki testu bezpieczeństwa elektrycznego na oddzielnym protokole. Aparaty zostaną oznakowane nalepką z terminem wykonania kolejnego przeglądu. | G11: TAK
A13: Cena brutto razem: | F13: Kwota VAT:

Sheet Część nr 45
B2: Część | C2: 45
A4: Temat: | C4: Morcelator Richard Wolf
B6: Szczegółowy podział części:
A8: Nr | B8: Nazwa/ Model | C8: Nr seryjny | D8: Rok produkcji | E8: Przegląd do | F8: Cena netto | G8: Stawka podatku VAT | H8: Cena brutto
A9: 1 | B9: 2307101 | C9: 149401407R | D9: 2014 | E9: 44870
B10: Przegląd zgodny z wymaganiami producenta obejmujący min. czyszczenie, sprawdzenie bezpieczeństwa mechanicznego i elektrycznego, kontrolę zużycia części i wyposażenia, sprawdzenie poprawności ogólnego funkcjonowania aparatu wraz z instrumentami, kalibrację i testy kontrolne, sprawdzenie zgodności parametrów funkcjonalnych urządzeń z deklarowanymi przez producenta, sprawdzenie poprawności działania zgodnie z normami bezpieczeństwa zalecanymi przez producenta, konserwację zgodnie z zaleceniami producenta, testy bezpieczeństwa elektrycznego. Wykonawca w ramach przeglądu zobowiązuje się do przygotowania bieżących zaleceń eksploatacyjnych związanych ze stanem aparatu, instrumentów oraz ich dalszym użytkowaniem. Wykonawca zobowiązuje się do wykonania ekspertyz technicznych związanych z wykrytymi usterkami oraz kosztorysu naprawy. Koszt przeglądu obejmuje koszty dojazdu. | G10: TAK
B11: Poszczególne przeglądy zostaną udokumentowane kartą pracy/raportem serwisowym, oraz wpisem do paszportu technicznego, a wyniki testu bezpieczeństwa elektrycznego na oddzielnym protokole. Aparaty zostaną oznakowane nalepką z terminem wykonania kolejnego przeglądu. | G11: TAK
A13: Cena brutto razem: | F13: Kwota VAT:

Sheet Część nr 46
B2: Część | C2: 46
A4: Temat: | C4: Nóż harmoniczny
B6: Szczegółowy podział części:
A8: Nr | B8: Nazwa/ Model | C8: Nr seryjny | D8: Rok produkcji | E8: Przegląd do | F8: Cena netto | G8: Stawka podatku VAT | H8: Cena brutto
A9: 1 | B9: GEN11 | C9: 1111408462 | D9: 2014 | E9: 44977
B10: Przegląd zgodny z wymaganiami producenta obejmujący min. czyszczenie, sprawdzenie bezpieczeństwa mechanicznego i elektrycznego, kontrolę zużycia części i wyposażenia, sprawdzenie poprawności ogólnego funkcjonowania aparatu, kalibrację i testy kontrolne, sprawdzenie zgodności parametrów funkcjonalnych urządzeń z deklarowanymi przez producenta, sprawdzenie poprawności działania zgodnie z normami bezpieczeństwa zalecanymi przez producenta, konserwację zgodnie z zaleceniami producenta, testy bezpieczeństwa elektrycznego. | G10: TAK
B11: Poszczególne przeglądy zostaną udokumentowane kartą pracy/raportem serwisowym, oraz wpisem do paszportu technicznego, a wyniki testu bezpieczeństwa elektrycznego na oddzielnym protokole. Aparaty zostaną oznakowane nalepką z terminem wykonania kolejnego przeglądu. Koszt przeglądu obejmuje koszty dojazdu lub wysyłki. W przypadku wysyłki Wykonawca ponosi pełną odpowiedzialność za przewożony sprzęt. | G11: TAK
A13: Cena brutto razem: | F13: Kwota VAT:

Sheet Część nr 47
B2: Część | C2: 47
A4: Temat: | C4: Aspirator ultradźwiękowy
B6: Szczegółowy podział części:
A8: Nr | B8: Nazwa/ Model | C8: Nr seryjny | D8: Rok produkcji | E8: Przegląd do | F8: Cena netto | G8: Stawka podatku VAT | H8: Cena brutto
A9: 1 | B9: Cusa Excel+ | C9: HGK1405704IE | D9: 2014 | E9: 44937
B10: Przegląd zgodny z wymaganiami producenta obejmujący min. czyszczenie, sprawdzenie bezpieczeństwa mechanicznego i elektrycznego, kontrolę zużycia części i wyposażenia, sprawdzenie poprawności ogólnego funkcjonowania aparatu, kalibrację i testy kontrolne, sprawdzenie zgodności parametrów funkcjonalnych urządzeń z deklarowanymi przez producenta, sprawdzenie poprawności działania zgodnie z normami bezpieczeństwa zalecanymi przez producenta, konserwację zgodnie z zaleceniami producenta, testy bezpieczeństwa elektrycznego. | G10: TAK
B11: Poszczególne przeglądy zostaną udokumentowane kartą pracy/raportem serwisowym, oraz wpisem do paszportu technicznego, a wyniki testu bezpieczeństwa elektrycznego na oddzielnym protokole. Aparaty zostaną oznakowane nalepką z terminem wykonania kolejnego przeglądu. Koszt przeglądu obejmuje koszty dojazdu. | G11: TAK
A13: Cena brutto razem: | F13: Kwota VAT:

Sheet Część nr 48
B2: Część | C2: 48
A4: Temat: | C4: Kardiomonitor do pomiarów hemodynamicznych serca
B6: Szczegółowy podział części:
A8: Nr | B8: Nazwa/ Model | C8: Nr seryjny | D8: Rok produkcji | E8: Przegląd do | F8: Cena netto | G8: Stawka podatku VAT | H8: Cena brutto
A9: 1 | B9: EV1000 | C9: EVD55520 | D9: 2014 | E9: 44985
B10: Przegląd zgodny z wymaganiami producenta obejmujący min. czyszczenie, sprawdzenie bezpieczeństwa mechanicznego i elektrycznego, kontrolę zużycia części i wyposażenia, sprawdzenie poprawności ogólnego funkcjonowania aparatu, kalibrację i testy kontrolne, sprawdzenie zgodności parametrów funkcjonalnych urządzeń z deklarowanymi przez producenta, sprawdzenie poprawności działania zgodnie z normami bezpieczeństwa zalecanymi przez producenta, konserwację zgodnie z zaleceniami producenta, testy bezpieczeństwa elektrycznego. | G10: TAK
B11: Poszczególne przeglądy zostaną udokumentowane kartą pracy/raportem serwisowym, oraz wpisem do paszportu technicznego, a wyniki testu bezpieczeństwa elektrycznego na oddzielnym protokole. Aparaty zostaną oznakowane nalepką z terminem wykonania kolejnego przeglądu. Koszt przeglądu obejmuje koszty dojazdu lub wysyłki. W przypadku wysyłki Wykonawca ponosi pełną odpowiedzialność za przewożony sprzęt. | G11: TAK
A13: Cena brutto razem: | F13: Kwota VAT:

Sheet Część nr 49
B2: Część | C2: 49
A4: Temat: | C4: Łóżka szpitalne elektryczne
B6: Szczegółowy podział części:
A8: Nr | B8: Nazwa/ Model | C8: Nr seryjny | D8: Rok produkcji | E8: Przegląd do | F8: Cena netto | G8: Stawka podatku VAT | H8: Cena brutto
A9: 1 | B9: LE-12.0/N-337/06 | C9: 0606/00055 | D9: 2006 | E9: 44859
A10: 2 | B10: LE-12.0/N-337/06 | C10: 0606/00056 | D10: 2006 | E10: 44859
A11: 3 | B11: Falcon E | C11: 0914/022131/00555 | D11: 2008 | E11: 44859
A12: 4 | B12: Falcon E | C12: 0914/022131/00564 | D12: 2008 | E12: 44859
A13: 5 | B13: Falcon E | C13: 0914/022131/00567 | D13: 2014 | E13: 44859
A14: 6 | B14: Falcon E | C14: 0914/022131/00560 | D14: 2014 | E14: 44859
A15: 7 | B15: Falcon E | C15: 0914/022131/00565 | D15: 2014 | E15: 44859
A16: 8 | B16: Falcon E | C16: 0914/022131/00568 | D16: 2014 | E16: 44859
A17: 9 | B17: Falcon E | C17: 0914/022131/00550 | D17: 2014 | E17: 44859
A18: 10 | B18: Falcon E | C18: 0914/022131/00548 | D18: 2014 | E18: 44859
A19: 11 | B19: Falcon E | C19: 0914/022131/00570 | D19: 2014 | E19: 44859
A20: 12 | B20: Falcon E | C20: 0914/022131/00559 | D20: 2014 | E20: 44859
... A45: 37 | B45: LR-03.7 | C45: 0908/01066 | D45: 2006 | E45: 44859
B46: Przegląd zgodny z wymaganiami producenta obejmujący min. czyszczenie, sprawdzenie bezpieczeństwa mechanicznego i elektrycznego, kontrolę zużycia części i wyposażenia, sprawdzenie poprawności ogólnego funkcjonowania łóżek, sprawdzenie zgodności parametrów funkcjonalnych łóżek z deklarowanymi przez producenta, sprawdzenie poprawności działania zgodnie z normami bezpieczeństwa zalecanymi przez producenta, konserwację zgodnie z zaleceniami producenta, testy bezpieczeństwa elektrycznego. | G46: TAK
B47: Poszczególne przeglądy zostaną udokumentowane kartą pracy/raportem serwisowym, oraz wpisem do paszportu technicznego, a wyniki testu bezpieczeństwa elektrycznego na oddzielnym protokole. Łóżka zostaną oznakowane nalepką z terminem wykonania kolejnego przeglądu. Koszt przeglądu obejmuje koszty dojazdu. | G47: TAK
A49: Cena brutto razem: | F49: Kwota VAT:

Sheet Część nr 50
B2: Część | C2: 50
A4: Temat: | C4: Łóżka intensywnej opieki medycznej
B6: Szczegółowy podział części:
A8: Nr | B8: Nazwa/ Model | C8: Nr seryjny | D8: Rok produkcji | E8: Przegląd do | F8: Cena netto | G8: Stawka podatku VAT | H8: Cena brutto
A9: 1 | B9: ="Trend-ICU (PR-902-020)" -> Trend-ICU (PR-902-020) | C9: 133569_1_5/1 | D9: 2014 | E9: 44902
A10: 2 | B10: ="Trend-ICU (PR-902-020)" -> Trend-ICU (PR-902-020) | C10: 133569_1_5/2 | D10: 2014 | E10: 44902
A11: 3 | B11: ="Trend-ICU (PR-902-020)" -> Trend-ICU (PR-902-020) | C11: 133569_1_5/3 | D11: 2014 | E11: 44902
A12: 4 | B12: ="Trend-ICU (PR-902-020)" -> Trend-ICU (PR-902-020) | C12: 133569_1_5/4 | D12: 2014 | E12: 44902
A13: 5 | B13: ="Trend-ICU (PR-902-020)" -> Trend-ICU (PR-902-020) | C13: 133569_1_5/5 | D13: 2014 | E13: 44902
B14: Przegląd zgodny z wymaganiami producenta obejmujący min. czyszczenie, sprawdzenie bezpieczeństwa mechanicznego i elektrycznego, kontrolę zużycia części i wyposażenia, sprawdzenie poprawności ogólnego funkcjonowania łóżek, sprawdzenie zgodności parametrów funkcjonalnych łóżek z deklarowanymi przez producenta, sprawdzenie poprawności działania zgodnie z normami bezpieczeństwa zalecanymi przez producenta, konserwację zgodnie z zaleceniami producenta, testy bezpieczeństwa elektrycznego. | G14: TAK
B15: Poszczególne przeglądy zostaną udokumentowane kartą pracy/raportem serwisowym, oraz wpisem do paszportu technicznego, a wyniki testu bezpieczeństwa elektrycznego na oddzielnym protokole. Łóżka zostaną oznakowane nalepką z terminem wykonania kolejnego przeglądu. Koszt przeglądu obejmuje koszty dojazdu. | G15: TAK
A17: Cena brutto razem: | F17: Kwota VAT:

Sheet Część nr 51
B2: Część | C2: 51
A4: Temat: | C4: Sprzęt endoskopowy Pentax
B6: Szczegółowy podział części:
A8: Nr | B8: Nazwa/ Model | C8: Nr seryjny | D8: Rok produkcji | E8: Przegląd do | F8: Cena netto | G8: Stawka podatku VAT | H8: Cena brutto
A9: 1 | B9: EPK-i | C9: EF012025 | D9: 2014 | E9: 44880
A10: 2 | B10: EB-1975K | C10: GI20230 | D10: 2014 | E10: 44880
A11: 3 | B11: EG-2990i | C11: A118405 | D11: 2014 | E11: 44880
A12: 4 | B12: EC-3890Fi2 | C12: A112057 | D12: 2014 | E12: 44880
B13: Przegląd zgodny z wymaganiami producenta obejmujący min. czyszczenie, sprawdzenie bezpieczeństwa mechanicznego i elektrycznego, kontrolę zużycia części i wyposażenia, sprawdzenie poprawności ogólnego funkcjonowania aparatu, kalibrację i testy kontrolne, sprawdzenie zgodności parametrów funkcjonalnych urządzeń z deklarowanymi przez producenta, sprawdzenie poprawności działania zgodnie z normami bezpieczeństwa zalecanymi przez producenta, konserwację zgodnie z zaleceniami producenta, testy bezpieczeństwa elektrycznego. Wykonawca w ramach przeglądu zobowiązuje się do przygotowania bieżących zaleceń eksploatacyjnych związanych ze stanem aparatów oraz ich dalszym użytkowaniem. Wykonawca zobowiązuje się do wykonania ekspertyz technicznych związanych z wykrytymi usterkami oraz kosztorysu naprawy. Wykonawca zobowiązuje się do zwrotu endoskopów w nie pogorszonym stanie technicznym, wszelkie działania mogące pogorszyć stan techniczny endoskopów muszą być wcześniej uzgadniane z Zamawiającym. | G13: TAK
B14: Poszczególne przeglądy zostaną udokumentowane kartą pracy/raportem serwisowym, oraz wpisem do paszportu technicznego, a wyniki testu bezpieczeństwa elektrycznego na oddzielnym protokole. Aparaty zostaną oznakowane nalepką z terminem wykonania kolejnego przeglądu. Koszt przeglądu obejmuje koszty dojazdu lub wysyłki. W przypadku wysyłki, fakt pobrania sprzętu do przeglądu i odbioru sprzętu po przeglądzie zostanie potwierdzony pokwitowaniem z zaznaczeniem nazwy, typu i numeru fabrycznego sprzętu. Wykonawca ponosi pełną odpowiedzialność za przewożony sprzęt. | G14: TAK
A16: Cena brutto razem: | F16: Kwota VAT:

Sheet Część nr 52
B2: Część | C2: 52
A4: Temat: | C4: Laser do udrażniania światła oskrzeli
A6: Szczegółowy podział części:
A8: Nr | B8: Nazwa/ Model | C8: Nr seryjny | D8: Rok produkcji | E8: Przegląd do | F8: Cena netto | G8: Stawka podatku VAT | H8: Cena brutto
A9: 1 | B9: Ceralas D50 | C9: 2416-G | D9: 2007 | E9: 44741
B10: Przegląd zgodny z wymaganiami producenta obejmujący min. czyszczenie, kontrolę zużycia części i wyposażenia, sprawdzenie poprawności ogólnego funkcjonowania aparatu, kalibrację i testy kontrolne, sprawdzenie zgodności parametrów funkcjonalnych urządzenia z deklarowanymi przez producenta, sprawdzenie poprawności działania zgodnie z normami bezpieczeństwa zalecanymi przez producenta, konserwację zgodnie z zaleceniami producenta, testy bezpieczeństwa elektrycznego. Koszt przeglądu obejmuje koszty dojazdu. | G10: TAK
B11: Poszczególne przeglądy zostaną udokumentowane kartą pracy/raportem serwisowym, oraz wpisem do paszportu technicznego, a wyniki testu bezpieczeństwa elektrycznego na oddzielnym protokole. Aparaty zostaną oznakowane nalepką z terminem wykonania kolejnego przeglądu. | G11: TAK
A13: Cena brutto: | F13: Kwota VAT:

Sheet Część nr 53
B2: Część | C2: 53
A4: Temat: | C4: Ciśnieniomierze
A6: Szczegółowy podział części:
A8: Nr | B8: Nazwa/ Model | C8: Nr seryjny | D8: Rok produkcji | E8: Przegląd do | F8: Cena netto | G8: Stawka podatku VAT | H8: Cena brutto
A9: 1 | B9: 711 | C9: 2500733L | D9: 2003 | E9: 44907
A10: 2 | B10: 711 | C10: 017409 | D10: 2008 | E10: 44907
A11: 3 | B11: 711 | C11: 2500744L | D11: 2008 | E11: 44907
A12: 4 | B12: 711 | C12: 81001903 | D12: 2010 | E12: 44907
A13: 5 | B13: TMA-30 PRO | C13: 01966 | D13: 2013 | E13: 44907
A14: 6 | B14: elektroniczny | C14: 11742 | D14: 2002 | E14: 44907
A15: 7 | B15: elektroniczny | C15: 0137013366 | D15: 2002 | E15: 44907
A16: 8 | B16: HS-60B | C16: 090702010 | D16: 2006 | E16: 44907
A17: 9 | B17: HS-60B | C17: 050712200 | D17: 2006 | E17: 44907
A18: 10 | B18: HS-60B | C18: 040602010 | D18: 2008 | E18: 44907
A19: 11 | B19: Intermed | C19: 26102012321 | D19: 2006 | E19: 44907
A20: 12 | B20: KDS-1 | C20: 090546 | D20: 2010 | E20: 44907
... A46: 38 | B46: stołowy | C46: 01270509 | D46: 2007 | E46: 44907
A47: 39 | B47: stołowy | C47: 1260509 | D47: 2008 | E47: 44907
A48: 40 | B48: stołowy | C48: 01230509 | D48: 2008 | E48: 44907
A49: 41 | B49: Tech-med | C49: 002415 | D49: 2012 | E49: 44907
A50: 42 | B50: TENS-1 | C50: 865690 | D50: 2006 | E50: 44907
A51: 43 | B51: TENS-1 | C51: 9907237 | D51: 2006 | E51: 44907
A52: 44 | B52: TMA-3BASIC | C52: 021407802 | D52: 2014 | E52: 44907
A53: 45 | B53: TMA-3BASIC | C53: 021407818 | D53: 2014 | E53: 44907
A54: 46 | B54: TM-SZ | C54: 0602 | D54: 2010 | E54: 44907
A55: 47 | B55: TM-SZ | C55: 0196 | D55: 2010 | E55: 44907
A56: 48 | B56: TM-SZ | C56: 0193 | D56: 2010 | E56: 44907
A57: 49 | B57: TM-SZ | C57: 0192 | D57: 2010 | E57: 44907
A58: 50 | B58: TM-SZ | C58: 0195 | D58: 2010 | E58: 44907
A59: 51 | B59: TM-SZ | C59: 1971 | D59: 2013 | E59: 44907
... A73: 65 | B73: zegarowy INCO | C73: 97110160 | D73: 2010 | E73: 44907
B74: Przegląd zgodny z wymaganiami producenta obejmujący min. kontrolę zużycia części i wyposażenia, sprawdzenie poprawności ogólnego funkcjonowania aparatu, kalibrację i testy kontrolne, sprawdzenie zgodności parametrów funkcjonalnych urządzenia z deklarowanymi przez producenta, sprawdzenie poprawności działania zgodnie z normami bezpieczeństwa zalecanymi przez producenta, konserwację zgodnie z zaleceniami producenta. Koszt przeglądu obejmuje koszty dojazdu. | G74: TAK
B75: Poszczególne przeglądy zostaną udokumentowane kartą pracy/raportem serwisowym. Aparaty zostaną oznakowane nalepką z terminem wykonania kolejnego przeglądu. | G75: TAK
A77: Cena brutto: | F77: Kwota VAT:

Sheet Część nr 54
B2: Część | C2: 54
A4: Temat: | C4: Aparat do znieczulania Mindray
B6: Szczegółowy podział części:
A8: Nr | B8: Nazwa/ Model | C8: Nr seryjny | D8: Rok produkcji | E8: Przegląd do | F8: Cena netto | G8: Stawka podatku VAT | H8: Cena brutto
A9: 1 | B9: Aparat do znieczulania A7 (+ monitor BeneView T8) | C9: GC-44000091 (CF-3C120730) | D9: 2013 | E9: 44982
B10: Przegląd zgodny z wymaganiami producenta obejmujący min. czyszczenie, sprawdzenie bezpieczeństwa mechanicznego i elektrycznego, kontrolę zużycia części i wyposażenia, sprawdzenie poprawności ogólnego funkcjonowania aparatu, kalibrację i testy kontrolne, sprawdzenie zgodności parametrów funkcjonalnych urządzeń z deklarowanymi przez producenta, sprawdzenie poprawności działania zgodnie z normami bezpieczeństwa zalecanymi przez producenta, konserwację zgodnie z zaleceniami producenta, testy bezpieczeństwa elektrycznego. Przegląd obejmuje wymianę zestawu serwisowego. Koszt przeglądu obejmuje koszty dojazdu. | G10: TAK
B11: Przegląd zostanie udokumentowany kartą pracy/raportem serwisowym, oraz wpisem do paszportu technicznego, a wyniki testu bezpieczeństwa elektrycznego na oddzielnym protokole. Aparat zostanie oznakowany nalepką z terminem wykonania kolejnego przeglądu. | G11: TAK
A13: Cena brutto razem: | F13: Kwota VAT:

Sheet Część nr 55
B2: Część | C2: 55
A4: Temat: | C4: System transportu pacjenta
B6: Szczegółowy podział części:
A8: Nr | B8: Nazwa/ Model | C8: Nr seryjny | D8: Rok produkcji | E8: Przegląd do | F8: Cena netto | G8: Stawka podatku VAT | H8: Cena brutto
A9: 1 | B9: Zephyr ZTG-4 | C9: 6844 | D9: 2015 | E9: 44771
B10: Przegląd zgodny z wymaganiami producenta obejmujący min. czyszczenie, kontrolę zużycia części i wyposażenia, sprawdzenie poprawności ogólnego funkcjonowania aparatu, kalibrację i testy kontrolne, sprawdzenie zgodności parametrów funkcjonalnych urządzenia z deklarowanymi przez producenta, sprawdzenie poprawności działania zgodnie z normami bezpieczeństwa zalecanymi przez producenta, konserwację zgodnie z zaleceniami producenta, testy bezpieczeństwa elektrycznego. Koszt przeglądu obejmuje koszty dojazdu. | G10: TAK
B11: Przegląd zostanie udokumentowany kartą pracy/raportem serwisowym, oraz wpisem do paszportu technicznego, a wyniki testu bezpieczeństwa elektrycznego na oddzielnym protokole. Aparat zostanie oznakowany nalepką z terminem wykonania kolejnego przeglądu. | G11: TAK
A13: Cena brutto razem: | F13: Kwota VAT:

Sheet Część nr 56
B2: Część | C2: 56
A4: Temat: | C4: Mikroskopy
B6: Szczegółowy podział część:
A8: Nr | B8: Nazwa/ Model | C8: Nr seryjny | D8: Rok produkcji | E8: Przegląd do | F8: Cena netto | G8: Stawka podatku VAT | H8: Cena brutto
A9: 1 | B9: BX53 | C9: 7G46601 | D9: 2017 | E9: 44811
A10: 2 | B10: CKX53 | C10: 7G47230 | D10: 2017 | E10: 44811
A11: 3 | B11: CX31 | C11: 7B17339 | D11: 2007 | E11: 44811
A12: 4 | B12: Eclipse 400 | C12: 674888 | D12: 2000 | E12: 44811
A13: 5 | B13: HUND H600 | C13: 1010201 | D13: 2000 | E13: 44811
A14: 6 | B14: HUND V300 | C14: 1010234 | D14: 2000 | E14: 44811
A15: 7 | B15: Motic BA 310 LED Binokular | C15: 1.1130001919 | D15: 2016 | E15: 44811
A16: 8 | B16: Nikon E200 | C16: 105264 | D16: 2011 | E16: 44811
A17: 9 | B17: AMPLIVAL | C17: 74175 | D17: 1985 | E17: 44811
A18: 10 | B18: AMPLIVAL | C18: 74149 | D18: 1985 | E18: 44811
A19: 11 | B19: BX-41 | C19: 3K12946 | D19: 2004 | E19: 44811
A20: 12 | B20: BX-51 | C20: 1922435 | D20: 2000 | E20: 44811
... A44: 36 | B44: Zeiss | C44: 857956 | D44: 1988 | E44: 44811
B45: Przegląd zgodny z wymaganiami producenta obejmujący min. czyszczenie, kalibrację i testy kontrolne, sprawdzenie zgodności parametrów funkcjonalnych urządzeń z deklarowanymi przez producenta, sprawdzenie poprawności działania zgodnie z normami bezpieczeństwa zalecanymi przez producenta, konserwację zgodnie z zaleceniami producenta, testy bezpieczeństwa elektrycznego. Koszt przeglądu obejmuje koszty dojazdu. | G45: TAK
B46: Przegląd zostanie udokumentowany kartą pracy/raportem serwisowym, oraz wpisem do paszportu technicznego. Mikroskopy zostaną oznakowany nalepką z terminem wykonania kolejnego przeglądu. | G46: TAK
A48: Cena brutto razem: | F48: Kwota VAT:

Sheet Część nr 57
B2: Część | C2: 57
A4: Temat: | C4: Pipety
B6: Szczegółowy podział części:
A8: Nr | B8: Nazwa/ Model | C8: Pojemność | D8: Nr ser. | E8: Przegląd do | F8: Cena netto | G8: Stawka podatku VAT | H8: Cena brutto
A9: 1 | B9: ="Multipette M4" -> Multipette M4 | C9: 1-10ml | D9: ="R15718G" -> R15718G | E9: ="2022-12-18" -> 2022-12-18
A10: 2 | B10: ="Reference" -> Reference | C10: ="50 - 200µl" -> 50 - 200µl | D10: ="3852102" -> 3852102 | E10: ="2022-12-18" -> 2022-12-18
A11: 3 | B11: ="Research" -> Research | C11: ="10 - 100µl " -> 10 - 100µl | D11: ="2959665" -> 2959665 | E11: ="2022-12-18" -> 2022-12-18
A12: 4 | B12: ="Research" -> Research | C12: ="10 - 100µl " -> 10 - 100µl | D12: ="2960445" -> 2960445 | E12: ="2022-12-18" -> 2022-12-18
A13: 5 | B13: ="Research" -> Research | C13: ="100 - 1000µl " -> 100 - 1000µl | D13: ="2987875" -> 2987875 | E13: ="2022-12-18" -> 2022-12-18
A14: 6 | B14: ="Research" -> Research | C14: ="10 - 100µl " -> 10 - 100µl | D14: ="2959885" -> 2959885 | E14: ="2022-12-18" -> 2022-12-18
A15: 7 | B15: ="Research" -> Research | C15: ="100 - 1000µl " -> 100 - 1000µl | D15: ="2988485" -> 2988485 | E15: ="2022-12-18" -> 2022-12-18
A16: 8 | B16: ="Research" -> Research | C16: ="10 - 100µl " -> 10 - 100µl | D16: ="2961105" -> 2961105 | E16: ="2022-12-18" -> 2022-12-18
A17: 9 | B17: ="Research" -> Research | C17: ="100 - 1000µl " -> 100 - 1000µl | D17: ="2987635" -> 2987635 | E17: ="2022-12-18" -> 2022-12-18
A18: 10 | B18: ="Research" -> Research | C18: ="2 - 20µl " -> 2 - 20µl | D18: ="1839785" -> 1839785 | E18: ="2022-12-18" -> 2022-12-18
A19: 11 | B19: ="Research" -> Research | C19: ="100 - 1000µl " -> 100 - 1000µl | D19: ="2988175" -> 2988175 | E19: ="2022-12-18" -> 2022-12-18
A20: 12 | B20: ="Research" -> Research | C20: ="10 - 100µl" -> 10 - 100µl | D20: ="365227Z" -> 365227Z | E20: ="2022-12-18" -> 2022-12-18
A21: 13 | B21: ="Research" -> Research | C21: ="20 - 200µl" -> 20 - 200µl | D21: ="4560851" -> 4560851 | E21: ="2022-12-18" -> 2022-12-18
A22: 14 | B22: ="Research" -> Research | C22: ="2 - 20µl" -> 2 - 20µl | D22: ="254323" -> 254323 | E22: ="2022-12-18" -> 2022-12-18
A23: 15 | B23: ="Research" -> Research | C23: ="10 - 100µl" -> 10 - 100µl | D23: ="4521551" -> 4521551 | E23: ="2022-12-18" -> 2022-12-18
A24: 16 | B24: ="Research" -> Research | C24: ="20 - 200µl" -> 20 - 200µl | D24: ="4557961" -> 4557961 | E24: ="2022-12-18" -> 2022-12-18
A25: 17 | B25: ="Research" -> Research | C25: ="200 - 1000µl" -> 200 - 1000µl | D25: ="295849" -> 295849 | E25: ="2022-12-18" -> 2022-12-18
A26: 18 | B26: ="Research" -> Research | C26: ="2 - 20µl" -> 2 - 20µl | D26: ="3446221" -> 3446221 | E26: ="2022-12-18" -> 2022-12-18
A27: 19 | B27: ="Research" -> Research | C27: ="100 - 1000µl" -> 100 - 1000µl | D27: ="4590481" -> 4590481 | E27: ="2022-12-18" -> 2022-12-18
A28: 20 | B28: ="Research" -> Research | C28: ="20 - 200µl" -> 20 - 200µl | D28: ="2142749" -> 2142749 | E28: ="2022-12-18" -> 2022-12-18
A29: 21 | B29: ="Research plus" -> Research plus | C29: ="100 - 1000µl " -> 100 - 1000µl | D29: ="362308A" -> 362308A | E29: ="2022-12-18" -> 2022-12-18
A30: 22 | B30: ="Research plus" -> Research plus | C30: ="100 - 1000µl " -> 100 - 1000µl | D30: ="362497A" -> 362497A | E30: ="2022-12-18" -> 2022-12-18
A31: 23 | B31: ="Research plus" -> Research plus | C31: ="0,5 - 5µl " -> 0,5 - 5µl | D31: ="I26430F" -> I26430F | E31: ="2022-12-18" -> 2022-12-18
A32: 24 | B32: ="Research plus" -> Research plus | C32: ="500 - 5000µl " -> 500 - 5000µl | D32: ="J26430F" -> J26430F | E32: ="2022-12-18" -> 2022-12-18
A33: 25 | B33: ="Research plus" -> Research plus | C33: ="10 - 100µl " -> 10 - 100µl | D33: ="214445A" -> 214445A | E33: ="2022-12-18" -> 2022-12-18
A34: 26 | B34: ="Research plus" -> Research plus | C34: ="100 - 1000µl " -> 100 - 1000µl | D34: ="364467Z" -> 364467Z | E34: ="2022-12-18" -> 2022-12-18
A35: 27 | B35: ="Research plus" -> Research plus | C35: ="2 - 20µl" -> 2 - 20µl | D35: ="P29578C" -> P29578C | E35: ="2022-12-18" -> 2022-12-18
A36: 28 | B36: ="Research plus" -> Research plus | C36: ="10 - 100µl" -> 10 - 100µl | D36: ="214403A" -> 214403A | E36: ="2022-12-18" -> 2022-12-18
A37: 29 | B37: ="Research plus" -> Research plus | C37: ="10 - 100µl" -> 10 - 100µl | D37: ="O36485C" -> O36485C | E37: ="2022-12-18" -> 2022-12-18
A38: 30 | B38: ="Research plus" -> Research plus | C38: ="2 - 20µl" -> 2 - 20µl | D38: ="252001Z" -> 252001Z | E38: ="2022-12-18" -> 2022-12-18
A39: 31 | B39: ="Research plus" -> Research plus | C39: ="100 - 1000µl" -> 100 - 1000µl | D39: ="364475Z" -> 364475Z | E39: ="2022-12-18" -> 2022-12-18
A40: 32 | B40: ="Research plus" -> Research plus | C40: ="2 - 20µl" -> 2 - 20µl | D40: ="P31692B" -> P31692B | E40: ="2022-12-18" -> 2022-12-18
A41: 33 | B41: ="Research plus" -> Research plus | C41: ="2 - 20µl" -> 2 - 20µl | D41: ="273782A" -> 273782A | E41: ="2022-12-18" -> 2022-12-18
A42: 34 | B42: ="Research plus" -> Research plus | C42: ="0,5 - 10µl" -> 0,5 - 10µl | D42: ="3424851" -> 3424851 | E42: ="2022-12-18" -> 2022-12-18
A43: 35 | B43: ="Research plus" -> Research plus | C43: ="2 - 20µl" -> 2 - 20µl | D43: ="1305429" -> 1305429 | E43: ="2022-12-18" -> 2022-12-18
A44: 36 | B44: ="Research plus" -> Research plus | C44: ="20 - 200µl" -> 20 - 200µl | D44: ="2487319" -> 2487319 | E44: ="2022-12-18" -> 2022-12-18
A45: 37 | B45: ="Research plus" -> Research plus | C45: ="100 - 1000µl" -> 100 - 1000µl | D45: ="2493089" -> 2493089 | E45: ="2022-12-18" -> 2022-12-18
A46: 38 | B46: ="Research plus" -> Research plus | C46: ="2 - 20µl" -> 2 - 20µl | D46: ="336667A" -> 336667A | E46: ="2022-12-18" -> 2022-12-18
A47: 39 | B47: ="Research plus" -> Research plus | C47: ="2 - 20µl" -> 2 - 20µl | D47: ="P31579B" -> P31579B | E47: ="2022-12-18" -> 2022-12-18
A48: 40 | B48: ="Research plus" -> Research plus | C48: ="0,1 - 2,5µl" -> 0,1 - 2,5µl | D48: ="P10388G" -> P10388G | E48: ="2022-12-18" -> 2022-12-18
A49: 41 | B49: ="Research plus" -> Research plus | C49: ="0,1 - 2,5µl" -> 0,1 - 2,5µl | D49: ="P10571G" -> P10571G | E49: ="2022-12-18" -> 2022-12-18
A50: 42 | B50: ="Research plus" -> Research plus | C50: ="0,1 - 2,5µl" -> 0,1 - 2,5µl | D50: ="P10392G" -> P10392G | E50: ="2022-12-18" -> 2022-12-18
A51: 43 | B51: ="Research plus" -> Research plus | C51: ="0,1 - 2,5µl" -> 0,1 - 2,5µl | D51: ="P10382G" -> P10382G | E51: ="2022-12-18" -> 2022-12-18
A52: 44 | B52: ="Research plus" -> Research plus | C52: ="0,1 - 2,5µl" -> 0,1 - 2,5µl | D52: ="P10387G" -> P10387G | E52: ="2022-12-18" -> 2022-12-18
A53: 45 | B53: ="Research plus" -> Research plus | C53: ="0,1 - 2,5µl" -> 0,1 - 2,5µl | D53: ="P10574G" -> P10574G | E53: ="2022-12-18" -> 2022-12-18
A54: 46 | B54: ="Research plus" -> Research plus | C54: ="0,1 - 2,5µl" -> 0,1 - 2,5µl | D54: ="P10390G" -> P10390G | E54: ="2022-12-18" -> 2022-12-18
A55: 47 | B55: ="Research plus" -> Research plus | C55: ="0,1 - 2,5µl" -> 0,1 - 2,5µl | D55: ="P10386G" -> P10386G | E55: ="2022-12-18" -> 2022-12-18
A56: 48 | B56: ="Research plus" -> Research plus | C56: ="0,5 - 10µl" -> 0,5 - 10µl | D56: ="O13994G" -> O13994G | E56: ="2022-12-18" -> 2022-12-18
A57: 49 | B57: ="Research plus" -> Research plus | C57: ="0,5 - 10µl" -> 0,5 - 10µl | D57: ="O13993G" -> O13993G | E57: ="2022-12-18" -> 2022-12-18
A58: 50 | B58: ="Research plus" -> Research plus | C58: ="0,5 - 10µl" -> 0,5 - 10µl | D58: ="O13995G" -> O13995G | E58: ="2022-12-18" -> 2022-12-18
A59: 51 | B59: ="Research plus" -> Research plus | C59: ="0,5 - 10µl" -> 0,5 - 10µl | D59: ="O13610G" -> O13610G | E59: ="2022-12-18" -> 2022-12-18
A60: 52 | B60: ="Research plus" -> Research plus | C60: ="0,5 - 10µl" -> 0,5 - 10µl | D60: ="O14001G" -> O14001G | E60: ="2022-12-18" -> 2022-12-18
A61: 53 | B61: ="Research plus" -> Research plus | C61: ="0,5 - 10µl" -> 0,5 - 10µl | D61: ="O13722G" -> O13722G | E61: ="2022-12-18" -> 2022-12-18
A62: 54 | B62: ="Research plus" -> Research plus | C62: ="0,5 - 10µl" -> 0,5 - 10µl | D62: ="O13539G" -> O13539G | E62: ="2022-12-18" -> 2022-12-18
A63: 55 | B63: ="Research plus" -> Research plus | C63: ="0,5 - 10µl" -> 0,5 - 10µl | D63: ="O13937G" -> O13937G | E63: ="2022-12-18" -> 2022-12-18
A64: 56 | B64: ="Research plus" -> Research plus | C64: ="0,5 - 10µl" -> 0,5 - 10µl | D64: ="O13942G" -> O13942G | E64: ="2022-12-18" -> 2022-12-18
A65: 57 | B65: ="Research plus" -> Research plus | C65: ="0,5 - 10µl" -> 0,5 - 10µl | D65: ="O13603G" -> O13603G | E65: ="2022-12-18" -> 2022-12-18
A66: 58 | B66: ="Research plus" -> Research plus | C66: ="2,0 - 20µl" -> 2,0 - 20µl | D66: ="O24226G" -> O24226G | E66: ="2022-12-18" -> 2022-12-18
A67: 59 | B67: ="Research plus" -> Research plus | C67: ="2,0 - 20µl" -> 2,0 - 20µl | D67: ="O24214G" -> O24214G | E67: ="2022-12-18" -> 2022-12-18
A68: 60 | B68: ="Research plus" -> Research plus | C68: ="2,0 - 20µl" -> 2,0 - 20µl | D68: ="O24105G" -> O24105G | E68: ="2022-12-18" -> 2022-12-18
A69: 61 | B69: ="Research plus" -> Research plus | C69: ="2,0 - 20µl" -> 2,0 - 20µl | D69: ="O24218G" -> O24218G | E69: ="2022-12-18" -> 2022-12-18
A70: 62 | B70: ="Research plus" -> Research plus | C70: ="2,0 - 20µl" -> 2,0 - 20µl | D70: ="O24302G" -> O24302G | E70: ="2022-12-18" -> 2022-12-18
A71: 63 | B71: ="Research plus" -> Research plus | C71: ="2,0 - 20µl" -> 2,0 - 20µl | D71: ="O24257G" -> O24257G | E71: ="2022-12-18" -> 2022-12-18
A72: 64 | B72: ="Research plus" -> Research plus | C72: ="2,0 - 20µl" -> 2,0 - 20µl | D72: ="O23925G" -> O23925G | E72: ="2022-12-18" -> 2022-12-18
A73: 65 | B73: ="Research plus" -> Research plus | C73: ="2,0 - 20µl" -> 2,0 - 20µl | D73: ="O24359G" -> O24359G | E73: ="2022-12-18" -> 2022-12-18
A74: 66 | B74: ="Research plus" -> Research plus | C74: ="2,0 - 20µl" -> 2,0 - 20µl | D74: ="O24074G" -> O24074G | E74: ="2022-12-18" -> 2022-12-18
A75: 67 | B75: ="Research plus" -> Research plus | C75: ="2,0 - 20µl" -> 2,0 - 20µl | D75: ="O24361G" -> O24361G | E75: ="2022-12-18" -> 2022-12-18
A76: 68 | B76: ="Research plus" -> Research plus | C76: ="2,0 - 20µl" -> 2,0 - 20µl | D76: ="O24320G" -> O24320G | E76: ="2022-12-18" -> 2022-12-18
A77: 69 | B77: ="Research plus" -> Research plus | C77: ="2,0 - 20µl" -> 2,0 - 20µl | D77: ="O24222G" -> O24222G | E77: ="2022-12-18" -> 2022-12-18
A78: 70 | B78: ="Research plus" -> Research plus | C78: ="10 - 100µl" -> 10 - 100µl | D78: ="N37094G" -> N37094G | E78: ="2022-12-18" -> 2022-12-18
A79: 71 | B79: ="Research plus" -> Research plus | C79: ="10 - 100µl" -> 10 - 100µl | D79: ="N37087G" -> N37087G | E79: ="2022-12-18" -> 2022-12-18
A80: 72 | B80: ="Research plus" -> Research plus | C80: ="10 - 100µl" -> 10 - 100µl | D80: ="N37042G" -> N37042G | E80: ="2022-12-18" -> 2022-12-18
A81: 73 | B81: ="Research plus" -> Research plus | C81: ="10 - 100µl" -> 10 - 100µl | D81: ="N36966G" -> N36966G | E81: ="2022-12-18" -> 2022-12-18
A82: 74 | B82: ="Research plus" -> Research plus | C82: ="10 - 100µl" -> 10 - 100µl | D82: ="N37036G" -> N37036G | E82: ="2022-12-18" -> 2022-12-18
A83: 75 | B83: ="Research plus" -> Research plus | C83: ="10 - 100µl" -> 10 - 100µl | D83: ="N36961G" -> N36961G | E83: ="2022-12-18" -> 2022-12-18
A84: 76 | B84: ="Research plus" -> Research plus | C84: ="10 - 100µl" -> 10 - 100µl | D84: ="N37093G" -> N37093G | E84: ="2022-12-18" -> 2022-12-18
A85: 77 | B85: ="Research plus" -> Research plus | C85: ="20 - 200µl" -> 20 - 200µl | D85: ="O22813G" -> O22813G | E85: ="2022-12-18" -> 2022-12-18
A86: 78 | B86: ="Research plus" -> Research plus | C86: ="20 - 200µl" -> 20 - 200µl | D86: ="O22522G" -> O22522G | E86: ="2022-12-18" -> 2022-12-18
A87: 79 | B87: ="Research plus" -> Research plus | C87: ="20 - 200µl" -> 20 - 200µl | D87: ="O22468G" -> O22468G | E87: ="2022-12-18" -> 2022-12-18
A88: 80 | B88: ="Research plus" -> Research plus | C88: ="20 - 200µl" -> 20 - 200µl | D88: ="O22815G" -> O22815G | E88: ="2022-12-18" -> 2022-12-18
A89: 81 | B89: ="Research plus" -> Research plus | C89: ="20 - 200µl" -> 20 - 200µl | D89: ="O22790G" -> O22790G | E89: ="2022-12-18" -> 2022-12-18
A90: 82 | B90: ="Research plus" -> Research plus | C90: ="20 - 200µl" -> 20 - 200µl | D90: ="O22533G" -> O22533G | E90: ="2022-12-18" -> 2022-12-18
A91: 83 | B91: ="Research plus" -> Research plus | C91: ="20 - 200µl" -> 20 - 200µl | D91: ="O22804G" -> O22804G | E91: ="2022-12-18" -> 2022-12-18
A92: 84 | B92: ="Research plus" -> Research plus | C92: ="20 - 200µl" -> 20 - 200µl | D92: ="O22532G" -> O22532G | E92: ="2022-12-18" -> 2022-12-18
A93: 85 | B93: ="Research plus" -> Research plus | C93: ="20 - 200µl" -> 20 - 200µl | D93: ="O22799G" -> O22799G | E93: ="2022-12-18" -> 2022-12-18
A94: 86 | B94: ="Research plus" -> Research plus | C94: ="20 - 200µl" -> 20 - 200µl | D94: ="O22767G" -> O22767G | E94: ="2022-12-18" -> 2022-12-18
A95: 87 | B95: ="Research plus" -> Research plus | C95: ="20 - 200µl" -> 20 - 200µl | D95: ="O22681G" -> O22681G | E95: ="2022-12-18" -> 2022-12-18
A96: 88 | B96: ="Research plus" -> Research plus | C96: ="20 - 200µl" -> 20 - 200µl | D96: ="O22562G" -> O22562G | E96: ="2022-12-18" -> 2022-12-18
A97: 89 | B97: ="Research plus" -> Research plus | C97: ="100 - 1000µl" -> 100 - 1000µl | D97: ="N14078G" -> N14078G | E97: ="2022-12-18" -> 2022-12-18
A98: 90 | B98: ="Research plus" -> Research plus | C98: ="100 - 1000µl" -> 100 - 1000µl | D98: ="N13954G" -> N13954G | E98: ="2022-12-18" -> 2022-12-18
A99: 91 | B99: ="Research plus" -> Research plus | C99: ="100 - 1000µl" -> 100 - 1000µl | D99: ="N14389G" -> N14389G | E99: ="2022-12-18" -> 2022-12-18
A100: 92 | B100: ="Research plus" -> Research plus | C100: ="100 - 1000µl" -> 100 - 1000µl | D100: ="N13915G" -> N13915G | E100: ="2022-12-18" -> 2022-12-18
A101: 93 | B101: ="Research plus" -> Research plus | C101: ="100 - 1000µl" -> 100 - 1000µl | D101: ="N13917G" -> N13917G | E101: ="2022-12-18" -> 2022-12-18
A102: 94 | B102: ="Research plus" -> Research plus | C102: ="100 - 1000µl" -> 100 - 1000µl | D102: ="N13914G" -> N13914G | E102: ="2022-12-18" -> 2022-12-18
A103: 95 | B103: ="Research plus" -> Research plus | C103: ="100 - 1000µl" -> 100 - 1000µl | D103: ="N14049G" -> N14049G | E103: ="2022-12-18" -> 2022-12-18
A104: 96 | B104: ="Research plus" -> Research plus | C104: ="100 - 1000µl" -> 100 - 1000µl | D104: ="N13911G" -> N13911G | E104: ="2022-12-18" -> 2022-12-18
...

Sheet Część nr 58
B2: Część | C2: 58
A4: Temat: | C4: Detektor promieniowania gamma
B6: Szczegółowy podział części:
A8: Nr | B8: Nazwa/ Model | C8: Nr seryjny | D8: Rok produkcji | E8: Przegląd do | F8: Cena netto | G8: Stawka podatku VAT | H8: Cena brutto
A9: 1 | B9: Wprobe LAP | C9: 2500112 | D9: 2017 | E9: 44853
B10: Przegląd zgodny z wymaganiami producenta obejmujący min. czyszczenie, kalibrację i testy kontrolne, sprawdzenie zgodności parametrów funkcjonalnych urządzeń z deklarowanymi przez producenta, sprawdzenie poprawności działania zgodnie z normami bezpieczeństwa zalecanymi przez producenta, konserwację zgodnie z zaleceniami producenta, wymianę baterii. | G10: TAK
B11: Przegląd zostanie udokumentowany kartą pracy/raportem serwisowym, oraz wpisem do paszportu technicznego. Aparat zostanie oznakowany nalepką z terminem wykonania kolejnego przeglądu. Koszt przeglądu obejmuje koszty dojazdu lub wysyłki. W przypadku wysyłki Wykonawca ponosi pełną odpowiedzialność za przewożony sprzęt. | G11: TAK
A13: Cena brutto razem: | F13: Kwota VAT:

Sheet Część nr 59
B2: Część | C2: 59
A4: Temat: | C4: Generator do termoablacji
B6: Szczegółowy podział części:
A8: Nr | B8: Nazwa/ Model | C8: Nr seryjny | D8: Rok produkcji | E8: Przegląd do | F8: Cena netto | G8: Stawka podatku VAT | H8: Cena brutto
A9: 1 | B9: Solero MTA | C9: QBY0002479 | D9: 2017 | E9: 44846
B10: Przegląd zgodny z wymaganiami producenta obejmujący min. czyszczenie, sprawdzenie bezpieczeństwa mechanicznego i elektrycznego, kontrolę zużycia części i wyposażenia, sprawdzenie poprawności ogólnego funkcjonowania aparatu, kalibrację i testy kontrolne, sprawdzenie zgodności parametrów funkcjonalnych urządzeń z deklarowanymi przez producenta, sprawdzenie poprawności działania zgodnie z normami bezpieczeństwa zalecanymi przez producenta, konserwację zgodnie z zaleceniami producenta, testy bezpieczeństwa elektrycznego. Koszt przeglądu obejmuje koszty dojazdu. | G10: TAK
B11: Przegląd zostanie udokumentowany kartą pracy/raportem serwisowym, oraz wpisem do paszportu technicznego, a wyniki testu bezpieczeństwa elektrycznego na oddzielnym protokole. Aparat zostanie oznakowany nalepką z terminem wykonania kolejnego przeglądu. | G11: TAK
A13: Cena brutto razem: | F13: Kwota VAT:

Sheet Część nr 60
B2: Część | C2: 60
A4: Temat: | C4: Performer hipertermii
B6: Szczegółowy podział części:
A8: Nr | B8: Nazwa/ Model | C8: Nr seryjny | D8: Rok produkcji | E8: Przegląd do | F8: Cena netto | G8: Stawka podatku VAT | H8: Cena brutto
A9: 1 | B9: Performer HT | C9: 261 | D9: 2017 | E9: 44983
B10: Przegląd zgodny z wymaganiami producenta obejmujący min. czyszczenie, sprawdzenie bezpieczeństwa mechanicznego i elektrycznego, kontrolę zużycia części i wyposażenia, sprawdzenie poprawności ogólnego funkcjonowania aparatu, kalibrację i testy kontrolne, sprawdzenie zgodności parametrów funkcjonalnych urządzeń z deklarowanymi przez producenta, sprawdzenie poprawności działania zgodnie z normami bezpieczeństwa zalecanymi przez producenta, konserwację zgodnie z zaleceniami producenta, testy bezpieczeństwa elektrycznego. Koszt przeglądu obejmuje koszty dojazdu. | G10: TAK
B11: Przegląd zostanie udokumentowany kartą pracy/raportem serwisowym, oraz wpisem do paszportu technicznego, a wyniki testu bezpieczeństwa elektrycznego na oddzielnym protokole. Aparat zostanie oznakowany nalepką z terminem wykonania kolejnego przeglądu. | G11: TAK
A13: Cena brutto razem: | F13: Kwota VAT:

Sheet Część nr 61
B2: Część | C2: 61
A4: Temat: | C4: System obrazowania VS3 Iridium
B6: Szczegółowy podział części:
A8: Nr | B8: Nazwa/ Model | C8: Nr seryjny | D8: Rok produkcji | E8: Przegląd do | F8: Cena netto | G8: Stawka podatku VAT | H8: Cena brutto
A9: 1 | B9: VS3 Iridium | C9: 353-0426 | D9: 2017 | E9: 44905
B10: Przegląd zgodny z wymaganiami producenta obejmujący min. czyszczenie, sprawdzenie bezpieczeństwa mechanicznego i elektrycznego, kontrolę zużycia części i wyposażenia, sprawdzenie poprawności ogólnego funkcjonowania aparatu, kalibrację i testy kontrolne, sprawdzenie zgodności parametrów funkcjonalnych urządzeń z deklarowanymi przez producenta, sprawdzenie poprawności działania zgodnie z normami bezpieczeństwa zalecanymi przez producenta, konserwację zgodnie z zaleceniami producenta, testy bezpieczeństwa elektrycznego. Koszt przeglądu obejmuje koszty dojazdu. | G10: TAK
B11: Przegląd zostanie udokumentowany kartą pracy/raportem serwisowym, oraz wpisem do paszportu technicznego, a wyniki testu bezpieczeństwa elektrycznego na oddzielnym protokole. Aparat zostanie oznakowany nalepką z terminem wykonania kolejnego przeglądu. | G11: TAK
A13: Cena brutto razem: | F13: Kwota VAT:

Sheet Część nr 62
B2: Część | C2: 62
A4: Temat: | C4: Robotyczny pozycjoner optyki
B6: Szczegółowy podział części:
A8: Nr | B8: Nazwa/ Model | C8: Nr seryjny | D8: Rok produkcji | E8: Przegląd do | F8: Cena netto | G8: Stawka podatku VAT | H8: Cena brutto
A9: 1 | B9: Endocontrol Viky | C9: CX0807-17080 | D9: 2017 | E9: 44990
B10: Przegląd zgodny z wymaganiami producenta obejmujący min. czyszczenie, sprawdzenie bezpieczeństwa mechanicznego i elektrycznego, kontrolę zużycia części i wyposażenia, sprawdzenie poprawności ogólnego funkcjonowania aparatu, kalibrację i testy kontrolne, sprawdzenie zgodności parametrów funkcjonalnych urządzeń z deklarowanymi przez producenta, sprawdzenie poprawności działania zgodnie z normami bezpieczeństwa zalecanymi przez producenta, konserwację zgodnie z zaleceniami producenta, testy bezpieczeństwa elektrycznego. Koszt przeglądu obejmuje koszty dojazdu. | G10: TAK
B11: Przegląd zostanie udokumentowany kartą pracy/raportem serwisowym, oraz wpisem do paszportu technicznego, a wyniki testu bezpieczeństwa elektrycznego na oddzielnym protokole. Aparat zostanie oznakowany nalepką z terminem wykonania kolejnego przeglądu. | G11: TAK
A13: Cena brutto razem: | F13: Kwota VAT:

Sheet Część nr 63
B2: Część | C2: 63
A4: Temat: | C4: Kardiostymulator zewnętrzny
B6: Szczegółowy podział części:
A8: Nr | B8: Nazwa/ Model | C8: Nr seryjny | D8: Rok produkcji | E8: Przegląd do | F8: Cena netto | G8: Stawka podatku VAT | H8: Cena brutto
A9: 1 | B9: MIP-801 | C9: 1167 | D9: 2014 | E9: 44925
B10: Przegląd zgodny z wymaganiami producenta obejmujący min. czyszczenie, sprawdzenie bezpieczeństwa mechanicznego i elektrycznego, kontrolę zużycia części i wyposażenia, sprawdzenie poprawności ogólnego funkcjonowania aparatu, kalibrację i testy kontrolne, sprawdzenie zgodności parametrów funkcjonalnych urządzeń z deklarowanymi przez producenta, sprawdzenie poprawności działania zgodnie z normami bezpieczeństwa zalecanymi przez producenta, konserwację zgodnie z zaleceniami producenta. Koszt przeglądu obejmuje koszty dojazdu. | G10: TAK
B11: Przegląd zostanie udokumentowany kartą pracy/raportem serwisowym, oraz wpisem do paszportu technicznego. Aparat zostanie oznakowany nalepką z terminem wykonania kolejnego przeglądu. | G11: TAK
A13: Cena brutto razem: | F13: Kwota VAT:

Sheet Część nr 64
B2: Część | C2: 64
A4: Temat: | C4: Respiratory transportowe
B6: Szczegółowy podział części:
A8: Nr | B8: Nazwa/ Model | C8: Nr seryjny | D8: Rok produkcji | E8: Przegląd do | F8: Cena netto | G8: Stawka podatku VAT | H8: Cena brutto
A9: 1 | B9: Medumat Easy CPR | C9: 3850 | D9: 2014 | E9: 44975
A10: 2 | B10: Medumat Easy CPR | C10: 3957 | D10: 2014 | E10: 44975
A11: 3 | B11: Medumat Easy CPR | C11: 3956 | D11: 2014 | E11: 44975
A12: 4 | B12: Medumat Easy CPR | C12: 3979 | D12: 2014 | E12: 44975
A13: 5 | B13: Medumat Easy CPR | C13: 3954 | D13: 2014 | E13: 44975
B14: Przegląd zgodny z wymaganiami producenta obejmujący min. czyszczenie, sprawdzenie bezpieczeństwa mechanicznego i elektrycznego, kontrolę zużycia części i wyposażenia, sprawdzenie poprawności ogólnego funkcjonowania aparatu, kalibrację i testy kontrolne, sprawdzenie zgodności parametrów funkcjonalnych aparatu z deklarowanymi przez producenta, sprawdzenie poprawności działania zgodnie z normami bezpieczeństwa zalecanymi przez producenta, konserwację zgodnie z zaleceniami producenta. Przegląd obejmuje min. wymianę zestawu serwisowego wymienionego w instrukcji obsługi. Koszt przeglądu obejmuje koszty dojazdu. | G14: TAK
B15: Poszczególne przeglądy zostaną udokumentowane kartą pracy/raportem serwisowym, oraz wpisem do paszportu technicznego. Aparaty zostaną oznakowane nalepką z terminem wykonania kolejnego przeglądu. | G15: TAK
A17: Cena brutto razem: | F17: Kwota VAT:

Sheet Część nr 65
B2: Część | C2: 65
A4: Temat: | C4: Stół operacyjny Saturn Select
B6: Szczegółowy podział części:
A8: Nr | B8: Nazwa/ Model | C8: Nr seryjny | D8: Rok produkcji | E8: Przegląd do | F8: Cena netto | G8: Stawka podatku VAT | H8: Cena brutto
A9: 1 | B9: Saturn Select K | C9: 100299892 | D9: 2006 | E9: 44953
B10: Przegląd zgodny z wymaganiami producenta obejmujący min. czyszczenie, sprawdzenie bezpieczeństwa mechanicznego i elektrycznego, smarowanie ruchomych części mechanicznych, kontrolę zużycia części i wyposażenia, sprawdzenie poprawności ogólnego funkcjonowania aparatu, kalibrację i testy kontrolne, sprawdzenie zgodności parametrów funkcjonalnych urządzeń z deklarowanymi przez producenta, sprawdzenie poprawności działania zgodnie z normami bezpieczeństwa zalecanymi przez producenta, konserwację zgodnie z zaleceniami producenta, testy bezpieczeństwa elektrycznego. Koszt przeglądu obejmuje koszty dojazdu. | G10: TAK
B11: Przegląd zostanie udokumentowany kartą pracy/raportem serwisowym, oraz wpisem do paszportu technicznego, a wyniki testu bezpieczeństwa elektrycznego na oddzielnym protokole. Aparat zostanie oznakowany nalepką z terminem wykonania kolejnego przeglądu. | G11: TAK
A13: Cena brutto razem: | F13: Kwota VAT:

Sheet Część nr 66
B2: Część | C2: 66
A4: Temat: | C4: Lampy operacyjne
B6: Szczegółowy podział części:
A8: Nr | B8: Nazwa/ Model | C8: Nr seryjny | D8: Rok produkcji | E8: Przegląd do | F8: Cena netto | G8: Stawka podatku VAT | H8: Cena brutto
A9: 1 | B9: Mach LED 5 SC | C9: 11/03663 11/09154 | D9: 2011 | E9: 44923
A10: 2 | B10: Mach M3 | C10: 05/0723 | D10: 2005 | E10: 44800
A11: 3 | B11: Chromophare D650plus | C11: 6010060 | D11: 2006 | E11: 44923
B12: Przegląd zgodny z wymaganiami producenta obejmujący min. czyszczenie, sprawdzenie bezpieczeństwa mechanicznego i elektrycznego, smarowanie ruchomych części mechanicznych, kontrolę zużycia części i wyposażenia, sprawdzenie poprawności ogólnego funkcjonowania aparatu, kalibrację i testy kontrolne, sprawdzenie zgodności parametrów funkcjonalnych urządzeń z deklarowanymi przez producenta, sprawdzenie poprawności działania zgodnie z normami bezpieczeństwa zalecanymi przez producenta, konserwację zgodnie z zaleceniami producenta, testy bezpieczeństwa elektrycznego. Koszt przeglądu obejmuje koszty dojazdu. | G12: TAK
B13: Poszczególne przeglądy zostaną udokumentowane kartą pracy/raportem serwisowym, oraz wpisem do paszportu technicznego, a wyniki testu bezpieczeństwa elektrycznego na oddzielnym protokole. Aparaty zostaną oznakowane nalepką z terminem wykonania kolejnego przeglądu. | G13: TAK
A15: Cena brutto razem: | F15: Kwota VAT:

Sheet Część nr 67
B2: Część | C2: 67
A4: Temat: | C4: Sekwenator Ion S5 z wyposażeniem
B6: Szczegółowy podział części:
A8: Nr | B8: Nazwa/ Model | C8: Nr seryjny | D8: Rok produkcji | E8: Przegląd do | F8: Cena netto | G8: Stawka podatku VAT | H8: Cena brutto
A9: 1 | B9: Ion S5 | C9: 2772717110499 | D9: 2017 | E9: 44938
A10: 2 | B10: Ion Chef | C10: 242470864 | D10: 2017 | E10: 44938
B11: Przegląd zgodny z wymaganiami producenta obejmujący min. czyszczenie, sprawdzenie bezpieczeństwa mechanicznego i elektrycznego, kontrolę zużycia części i wyposażenia, sprawdzenie poprawności ogólnego funkcjonowania aparatu, kalibrację i testy kontrolne, sprawdzenie zgodności parametrów funkcjonalnych urządzeń z deklarowanymi przez producenta, sprawdzenie poprawności działania zgodnie z normami bezpieczeństwa zalecanymi przez producenta, konserwację zgodnie z zaleceniami producenta, testy bezpieczeństwa elektrycznego. Koszt przeglądu obejmuje koszty dojazdu. | G11: TAK
B12: Poszczególne przeglądy zostaną udokumentowane kartą pracy/raportem serwisowym, oraz wpisem do paszportu technicznego, a wyniki testu bezpieczeństwa elektrycznego na oddzielnym protokole. Aparaty zostaną oznakowane nalepką z terminem wykonania kolejnego przeglądu. | G12: TAK
A14: Cena brutto razem: | F14: Kwota VAT:

Sheet Część nr 68
B2: Część | C2: 68
A4: Temat: | C4: Sekwenator kapilarny
B6: Szczegółowy podział części:
A8: Nr | B8: Nazwa/ Model | C8: Nr seryjny | D8: Rok produkcji | E8: Przegląd do | F8: Cena netto | G8: Stawka podatku VAT | H8: Cena brutto
A9: 1 | B9: AB 3500 | C9: 29118-020 | D9: 2017 | E9: 44958
B10: Przegląd zgodny z wymaganiami producenta obejmujący min. czyszczenie, sprawdzenie bezpieczeństwa mechanicznego i elektrycznego, kontrolę zużycia części i wyposażenia, sprawdzenie poprawności ogólnego funkcjonowania aparatu, kalibrację i testy kontrolne, sprawdzenie zgodności parametrów funkcjonalnych urządzenia z deklarowanymi przez producenta, sprawdzenie poprawności działania zgodnie z normami bezpieczeństwa zalecanymi przez producenta, konserwację zgodnie z zaleceniami producenta, testy bezpieczeństwa elektrycznego. Koszt przeglądu obejmuje koszty dojazdu. | G10: TAK
B11: Przegląd zostanie udokumentowany kartą pracy/raportem serwisowym, oraz wpisem do paszportu technicznego, a wyniki testu bezpieczeństwa elektrycznego na oddzielnym protokole. Aparat zostanie oznakowany nalepką z terminem wykonania kolejnego przeglądu. | G11: TAK
A13: Cena brutto razem: | F13: Kwota VAT:

Sheet Część nr 69
B2: Część | C2: 69
A4: Temat: | C4: Zamrażarki niskotemperaturowe
B6: Szczegółowy podział części:
A8: Nr | B8: Nazwa/ Model | C8: Nr seryjny | D8: Rok produkcji | E8: Przegląd do | F8: Cena netto | G8: Stawka podatku VAT | H8: Cena brutto
A9: 1 | B9: PLATINUM 340 V-4STD | C9: 50984 | D9: 2008 | E9: 44846
A10: 2 | B10: MDF-DU500VH-PE | C10: 17090110 | D10: 2017 | E10: 44846
A11: 3 | B11: MDF-DU702VX | C11: 17070064 | D11: 2017 | E11: 44846
A12: 4 | B12: MDF-DU702VX | C12: 17070059 | D12: 2017 | E12: 44846
A13: 5 | B13: GFL 6483 | C13: 166169 | D13: 2011 | E13: 44772
B14: Przegląd zgodny z wymaganiami producenta obejmujący min. czyszczenie, sprawdzenie bezpieczeństwa mechanicznego i elektrycznego, kontrolę zużycia części i wyposażenia, sprawdzenie poprawności ogólnego funkcjonowania aparatu, kalibrację i testy kontrolne, sprawdzenie zgodności parametrów funkcjonalnych urządzeń z deklarowanymi przez producenta, sprawdzenie poprawności działania zgodnie z normami bezpieczeństwa zalecanymi przez producenta, konserwację zgodnie z zaleceniami producenta, testy bezpieczeństwa elektrycznego. Koszt przeglądu obejmuje koszty dojazdu. | G14: TAK
B15: Przegląd zostanie udokumentowany kartą pracy/raportem serwisowym, oraz wpisem do paszportu technicznego, a wyniki testu bezpieczeństwa elektrycznego na oddzielnym protokole. Aparat zostanie oznakowany nalepką z terminem wykonania kolejnego przeglądu. | G15: TAK
A17: Cena brutto razem: | F17: Kwota VAT:

Sheet Część nr 70
B2: Część | C2: 70
A4: Temat: | C4: Wirówki laboratoryjne
B6: Szczegółowy podział części:
A8: Nr | B8: Nazwa/ Model | C8: Nr seryjny | D8: Rok produkcji | E8: Przegląd do | F8: Cena netto | G8: Stawka podatku VAT | H8: Cena brutto
A9: 1 | B9: Heraus Megafuge 16 | C9: 3205 | D9: 2017 | E9: 44862
A10: 2 | B10: Heraus Megafuge 8R | C10: 42130970 | D10: 2017 | E10: 44862
A11: 3 | B11: Centrifuge 5702R | C11: 5703CP912534 | D11: 2012 | E11: 44743
A12: 4 | B12: Heraus Megafuge 40R | C12: 41255382 | D12: 2011 | E12: 44835
B13: Przegląd zgodny z wymaganiami producenta obejmujący min. czyszczenie, sprawdzenie bezpieczeństwa mechanicznego i elektrycznego, kontrolę zużycia części i wyposażenia, sprawdzenie poprawności ogólnego funkcjonowania aparatu, kalibrację i testy kontrolne, sprawdzenie zgodności parametrów funkcjonalnych urządzeń z deklarowanymi przez producenta, sprawdzenie poprawności działania zgodnie z normami bezpieczeństwa zalecanymi przez producenta, konserwację zgodnie z zaleceniami producenta, testy bezpieczeństwa elektrycznego. Koszt przeglądu obejmuje koszty dojazdu. | G13: TAK
B14: Przegląd zostanie udokumentowany kartą pracy/raportem serwisowym, oraz wpisem do paszportu technicznego, a wyniki testu bezpieczeństwa elektrycznego na oddzielnym protokole. Aparat zostanie oznakowany nalepką z terminem wykonania kolejnego przeglądu. | G14: TAK
A16: Cena brutto razem: | F16: Kwota VAT:

Sheet Część nr 71
B2: Część | C2: 71
A4: Temat: | C4: Aparat do izolacji kwasów nukleinowych
B6: Szczegółowy podział części:
A8: Nr | B8: Nazwa/ Model | C8: Nr seryjny | D8: Rok produkcji | E8: Przegląd do | F8: Cena netto | G8: Stawka podatku VAT | H8: Cena brutto
A9: 1 | B9: Maxwell RSC System | C9: 10000979 | D9: 2017 | E9: 44946
B10: Przegląd zgodny z wymaganiami producenta obejmujący min. czyszczenie, sprawdzenie bezpieczeństwa mechanicznego i elektrycznego, kontrolę zużycia części i wyposażenia, sprawdzenie poprawności ogólnego funkcjonowania aparatu, kalibrację i testy kontrolne, sprawdzenie zgodności parametrów funkcjonalnych urządzeń z deklarowanymi przez producenta, sprawdzenie poprawności działania zgodnie z normami bezpieczeństwa zalecanymi przez producenta, konserwację zgodnie z zaleceniami producenta, testy bezpieczeństwa elektrycznego. W ramach przeglądu wykonawca zapewni aparat zastępczy na czs przegladu. Koszty wysyłki aparatu po stronie wykonawcy. | G10: TAK
B11: Przegląd zostanie udokumentowany kartą pracy/raportem serwisowym, oraz wpisem do paszportu technicznego, a wyniki testu bezpieczeństwa elektrycznego na oddzielnym protokole. Aparat zostanie oznakowany nalepką z terminem wykonania kolejnego przeglądu. | G11: TAK
A13: Cena brutto razem: | F13: Kwota VAT:

Sheet Część nr 72
B2: Część | C2: 72
A4: Temat: | C4: Inkubator, wirówka Bio-Rad
B6: Szczegółowy podział części:
A8: Nr | B8: Nazwa/ Model | C8: Nr seryjny | D8: Rok produkcji | E8: Przegląd do | F8: Cena netto | G8: Stawka podatku VAT | H8: Cena brutto
A9: 1 | B9: 37 SI | C9: 2003346 | D9: 2014 | E9: 44723
A10: 2 | B10: 12 SII | C10: 2003614 | D10: 2014 | E10: 44723
B11: Przegląd zgodny z wymaganiami producenta obejmujący min. czyszczenie, sprawdzenie bezpieczeństwa mechanicznego i elektrycznego, kontrolę zużycia części i wyposażenia, sprawdzenie poprawności ogólnego funkcjonowania aparatu, kalibrację i testy kontrolne, sprawdzenie zgodności parametrów funkcjonalnych urządzeń z deklarowanymi przez producenta, sprawdzenie poprawności działania zgodnie z normami bezpieczeństwa zalecanymi przez producenta, konserwację zgodnie z zaleceniami producenta, testy bezpieczeństwa elektrycznego. Koszt przeglądu obejmuje koszty dojazdu. | G11: TAK
B12: Przegląd zostanie udokumentowany kartą pracy/raportem serwisowym, oraz wpisem do paszportu technicznego, a wyniki testu bezpieczeństwa elektrycznego na oddzielnym protokole. Aparat zostanie oznakowany nalepką z terminem wykonania kolejnego przeglądu. | G12: TAK
A14: Cena brutto razem: | F14: Kwota VAT:

Sheet Część nr 73
B2: Część | C2: 73
A4: Temat: | C4: Termocyklery PCR firmy Termo Scientific
B6: Szczegółowy podział części:
A8: Nr | B8: Nazwa/ Model | C8: Nr seryjny | D8: Rok produkcji | E8: Przegląd do | F8: Cena netto | G8: Stawka podatku VAT | H8: Cena brutto
A9: 1 | B9: Veriti 96-Well | C9: 2990236012 | D9: 2017 | E9: 44930
A10: 2 | B10: Veriti 96-Well | C10: 2990236211 | D10: 2017 | E10: 44930
A11: 3 | B11: Veriti 96-Well | C11: 2990236209 | D11: 2017 | E11: 44930
A12: 4 | B12: Veriti 96-Well | C12: 2990236212 | D12: 2017 | E12: 44930
B13: Przegląd zgodny z wymaganiami producenta obejmujący min. czyszczenie, sprawdzenie bezpieczeństwa mechanicznego i elektrycznego, kontrolę zużycia części i wyposażenia, sprawdzenie poprawności ogólnego funkcjonowania aparatu, kalibrację i testy kontrolne, sprawdzenie zgodności parametrów funkcjonalnych urządzeń z deklarowanymi przez producenta, sprawdzenie poprawności działania zgodnie z normami bezpieczeństwa zalecanymi przez producenta, konserwację zgodnie z zaleceniami producenta, testy bezpieczeństwa elektrycznego. Koszt przeglądu obejmuje koszty dojazdu. | G13: TAK
B14: Przegląd zostanie udokumentowany kartą pracy/raportem serwisowym, oraz wpisem do paszportu technicznego, a wyniki testu bezpieczeństwa elektrycznego na oddzielnym protokole. Aparat zostanie oznakowany nalepką z terminem wykonania kolejnego przeglądu. | G14: TAK
A16: Cena brutto razem: | F16: Kwota VAT:

Sheet Część nr 74
B2: Część | C2: 74
A4: Temat: | C4: Komory laminarne II
B6: Szczegółowy podział części:
A8: Nr | B8: Nazwa/ Model | C8: Nr seryjny | D8: Rok produkcji | E8: Przegląd do | F8: Cena netto | G8: Stawka podatku VAT | H8: Cena brutto
A9: 1 | B9: BioBase 1123BBC86 | C9: BSC31A1810519A | D9: 2018 | E9: ="2022-11-05" -> 2022-11-05
A10: 2 | B10: BioBase 1123BBC86 | C10: BSC31A1810520A | D10: 2018 | E10: ="2022-11-05" -> 2022-11-05
B11: Przegląd zgodny z wymaganiami producenta obejmujący min. czyszczenie, sprawdzenie bezpieczeństwa mechanicznego i elektrycznego, kontrolę zużycia części i wyposażenia, sprawdzenie poprawności ogólnego funkcjonowania aparatu, kalibrację i testy kontrolne, sprawdzenie zgodności parametrów funkcjonalnych urządzeń z deklarowanymi przez producenta, sprawdzenie poprawności działania zgodnie z normami bezpieczeństwa zalecanymi przez producenta, konserwację zgodnie z zaleceniami producenta, testy bezpieczeństwa elektrycznego. Przegląd oraz walidacja komory laminarnej zgodnie z obowiązującą normą: PN-EN 12469:2000. Usługa ta obejmuje: - Pomiar prędkości przepływu powietrza wlotowego i strumienia laminarnego zgodnie z załącznikiem G normy PL-EN 12469:2000. - Pomiar szczelności i integralności filtrów (filtra głównego i wylotowego) zgodnie z załącznikiem D normy PL-EN 12469: 2000 po przez wykonanie testu aerozolowego. - Sprawdzenie poprawnego działania funkcji komory (napięcie w gniazdach, sprawdzenie funkcji panelu sterowania, kontrola alarmów, ewentualnie temperatura blatu grzewczego). - Wydanie raportu zgodnego z wymogiem normy, potwierdzającego wykonanie testów wraz z wynikami dokonanych pomiarów. - Wydanie certyfikatu potwierdzającego prawidłowe działanie komory oraz szczegóły wykonanego przeglądu. Koszt przeglądu obejmuje koszty dojazdu. | G11: TAK
B12: Przegląd zostanie udokumentowany kartą pracy/raportem serwisowym, oraz wpisem do paszportu technicznego, a wyniki testu bezpieczeństwa elektrycznego na oddzielnym protokole. Aparat zostanie oznakowany nalepką z terminem wykonania kolejnego przeglądu. | G12: TAK
A14: Cena brutto razem: | F14: Kwota VAT:

Sheet Część nr 75
B2: Część | C2: 75
A4: Temat: | C4: Komory laminarne III
B6: Szczegółowy podział części:
A8: Nr | B8: Nazwa/ Model | C8: Nr seryjny | D8: Rok produkcji | E8: Przegląd do | F8: Cena netto | G8: Stawka podatku VAT | H8: Cena brutto
A9: 1 | B9: ="UV3 HEPA" -> UV3 HEPA | C9: ="P080211-002" -> P080211-002 | D9: 2011 | E9: ="2022-11-13" -> 2022-11-13
A10: 2 | B10: ="BioBan" -> BioBan | C10: ="63170" -> 63170 | D10: 2011 | E10: ="2022-11-13" -> 2022-11-13
A11: 3 | B11: ="BioBan" -> BioBan | C11: ="63171" -> 63171 | D11: 2011 | E11: ="2022-11-13" -> 2022-11-13
B12: Przegląd zgodny z wymaganiami producenta obejmujący min. czyszczenie, sprawdzenie bezpieczeństwa mechanicznego i elektrycznego, kontrolę zużycia części i wyposażenia, sprawdzenie poprawności ogólnego funkcjonowania aparatu, kalibrację i testy kontrolne, sprawdzenie zgodności parametrów funkcjonalnych urządzeń z deklarowanymi przez producenta, sprawdzenie poprawności działania zgodnie z normami bezpieczeństwa zalecanymi przez producenta, konserwację zgodnie z zaleceniami producenta, testy bezpieczeństwa elektrycznego. Koszt przeglądu obejmuje koszty dojazdu. | G12: TAK
B13: Poszczególne przeglądy zostaną udokumentowane kartą pracy/raportem serwisowym, oraz wpisem do paszportu technicznego, a wyniki testu bezpieczeństwa elektrycznego na oddzielnym protokole. Aparaty zostaną oznakowane nalepką z terminem wykonania kolejnego przeglądu. | G13: TAK
A15: Cena brutto razem: | F15: Kwota VAT:

Sheet Część nr 76
B2: Część | C2: 76
A4: Temat: | C4: Urządzenia laboratoryjne Becton Dickinson
B6: Szczegółowy podział części:
A8: Nr | B8: Nazwa/ Model | C8: Nr seryjny | D8: Rok produkcji | E8: Przegląd do | F8: Cena netto | G8: Stawka podatku VAT | H8: Cena brutto
A9: 1 | B9: Bactec FX40 | C9: FF2639 | D9: 2017 | E9: 44902
A10: 2 | B10: Bactec FX40 | C10: FF2640 | D10: 2017 | E10: 44902
B11: Przegląd zgodny z wymaganiami producenta obejmujący min. czyszczenie, sprawdzenie bezpieczeństwa mechanicznego i elektrycznego, kontrolę zużycia części i wyposażenia, sprawdzenie poprawności ogólnego funkcjonowania aparatów, kalibrację i testy kontrolne, sprawdzenie zgodności parametrów funkcjonalnych urządzeń z deklarowanymi przez producenta, sprawdzenie poprawności działania zgodnie z normami bezpieczeństwa zalecanymi przez producenta, konserwację zgodnie z zaleceniami producenta, wymiana zestawu serwisowego, testy bezpieczeństwa elektrycznego. Koszt przeglądu obejmuje koszty dojazdu. | G11: TAK
B12: Poszczególne przeglądy zostaną udokumentowane kartą pracy/raportem serwisowym, oraz wpisem do paszportu technicznego, a wyniki testu bezpieczeństwa elektrycznego na oddzielnym protokole. Aparaty zostaną oznakowane nalepką z terminem wykonania kolejnego przeglądu. | G12: TAK
A14: Cena brutto razem: | F14: Kwota VAT:

Sheet Część nr 77
B2: Część | C2: 77
A4: Temat: | C4: Komora laminarna IV
B6: Szczegółowy podział części:
A8: Nr | B8: Nazwa/ Model | C8: Nr seryjny | D8: Rok produkcji | E8: Przegląd do | F8: Cena netto | G8: Stawka podatku VAT | H8: Cena brutto
A9: 1 | B9: Herasafe KS 12 | C9: 42292276 | D9: 2018 | E9: 44862
B10: Przegląd zgodny z wymaganiami producenta obejmujący min. czyszczenie, sprawdzenie bezpieczeństwa mechanicznego i elektrycznego, kontrolę zużycia części i wyposażenia, sprawdzenie poprawności ogólnego funkcjonowania aparatu, kalibrację i testy kontrolne, sprawdzenie zgodności parametrów funkcjonalnych urządzeń z deklarowanymi przez producenta, sprawdzenie poprawności działania zgodnie z normami bezpieczeństwa zalecanymi przez producenta, konserwację zgodnie z zaleceniami producenta, testy bezpieczeństwa elektrycznego. Pomiary kontrolne prędkości i laminarności przepływu. Przegląd obejmuje wymianę filtra kurzowego pod blatem roboczym oraz wykonanie niezbędnych pomiarów i kalibracji ustawień komory. Sprawdzenie integralności filtrów metodą aerozolową z użyciem laserowego miernika cząstek, sprawdzenie i kalibrację przepływu laminarnego zgodnie z normą PN-EN 12469. Koszt przeglądu obejmuje koszty dojazdu. | G10: TAK
B11: Poszczególne przeglądy zostaną udokumentowane kartą pracy/raportem serwisowym, oraz wpisem do paszportu technicznego, a wyniki testu bezpieczeństwa elektrycznego na oddzielnym protokole. Aparaty zostaną oznakowane nalepką z terminem wykonania kolejnego przeglądu. | G11: TAK
A13: Cena brutto razem: | F13: Kwota VAT:
